Workbook
Name _ftn1: 'Dash GP Base Regression'!#REF!
Name _ftnref1: 'Dash GP Base Regression'!#REF!

Sheet Petrie & Dash Plateau Survey
A1: Petrie's Survey Data, Coordinates rotated to due north and Imperial Inches | P1: Columns P through S convert Petrie's modified survey results to Dash's GPMP coordinates, using my modified Petrie results and also Dash's equations.
A2: Columns A through D are copied from Petrie's Table of Co-ordinates of Marked Stations, pp 35-36 of "The Pyramids and Temples of Gizeh". | P2: Columns T and U show that my results and those calculated using Dash’s equations differ only by a few micrometers.
A3: The values for "S. end of North Trench" and "N.W. corner of casing of 3rd pyramid"are in red because Petrie put a question mark against them. | P3: Dash's Equations
A4: Columns E and F format the Cartesian coordinates in columns C and D so that Excel can use them.
A5: Columns G and H convert the Cartesian coordinates to Polar. This is a precursor to correcting the coordinates for the angle of Petrie's coordinate system azimuth, which is 1° 12' 22" W of true N ± 6", but preferably they should be 0°. | P5: N = 100362.353 - 0.0254/196.713 × √(Ps2 + Pw2) × cos [arctan(Pw/Ps) – 1.206111°]
A6: Column I subtracts Petrie's coordinate system azimuth and rotates the coordinates to the third quadrant. | P6: E = 500288.822 - 0.0254/196.713 × √(Ps2 + Pw2) × sin [arctan(Pw/Ps) – 1.206111°]
A7: Columns J and K convert the coordinates back to cartesian. | Q7: Dash-Petrie Scaling | R7: =R11/R10 -> 0.99981153 | AC7: Differences Dash v Dash Dash's Table 1 versus Cooper's Calculation Using Dash's Equations
A8: Column L is a check to make sure that the equations used for the conversions to and from polar coordinates result in the same distance from the origin of the new coordinate system as they were from Petrie's origin. | Q8: Dash Northing Offset | R8: 100362.35
A9: The length Green indicates that they are. The "N.E. corner 2nd Pyramid" is the only result that differs but this is an Excel resolution issue since, as shown, r = rS. | Q9: Dash Easting Offset | R9: 500288.82
A10: Columns M and N convert Petrie's modified coordinates to Imperial inches since Petrie's scale was 0.00508259"/unit. | Q10: Dash Scaling | R10: =0.0254/196.713 -> 0.00012912212
A11: © 2026 M. J. Cooper. This workbook may be downloaded, examined, and shared with attribution. Modified versions should be clearly identified and must not be represented as the author’s original work. | L11: Min | M11: =MAX(M16:M84) -> -2606.5501 | N11: =MAX(N16:N84) -> -4854.6516 | Q11: Petrie Scaling | R11: =0.0254*D14 -> 0.00012909779 | T11: Differences Cooper v Dash | AC11: Northing | AD11: Easting
L12: Max | M12: =MIN(M17:M84) -> -40873.033 | N12: =MIN(N17:N84) -> -51881.301 | T12: Northing | U12: Easting | AB12: Min. | AC12: =MIN(AC16:AC84) -> -0.00059301956 | AD12: =MIN(AD16:AD84) -> -0.0046833254
A13: From (P18) the Azimuth of Survey System is 1° 12' 22" W of true N ± 6" ° | D13: =1+12/60+22/3600 -> 1.2061111 | E13: Petrie Giza Plateau Survey Coordinates | I13: Giza Plateau True North (TN) Coordinates Survey Units | M13: GPTN in B" | P13: Convert Petrie Coordinates to GPMP | T13: =MIN(T16:T84) -> -2.0136649e-06 | U13: =MIN(U16:U84) -> 2.3917528e-07 | V13: Min. | AB13: Max. | AC13: =MAX(AC16:AC84) -> 0.0025904686 | AD13: =MAX(AD16:AD84) -> -0.00022807327
A14: From (P18) the Value of Petrie's Survey Unit ± 0.00000003" equals | D14: 0.00508259 | E14: Cartesian | G14: Convert to Polar Coordinates | I14: Convert Back to Cartesian Coords Relative to True North | M14: Convert to B" | P14: Cooper Method | R14: Dash Method | T14: {=MAX(ABS(T17:T84))} -> 2.0136649e-06 | U14: {=MAX(ABS(U17:U84))} -> 2.5559566e-06 | V14: Max. | Y14: Dash's Table 1 | AC14: Rows Y & Z - P & R
A15: Place. | B15: Petrie Label | C15: From North | D15: From East | E15: From North (N) | F15: From East (E) | G15: rS = √(E^2+N^2) | H15: ϴS = tan-1(E/N) ° | I15: ϴTN = -90 - ϴS + 1.2061° | J15: X (Survey Units) | K15: Y (Survey Units) | L15: Verify r = rS √(X^2+Y^2) | M15: X (B") | N15: Y (B") | P15: Northing (m) | Q15: Easting (m) | R15: Northing (m) | S15: Easting (m) | T15: Northing Difference m | U15: Easting Difference m | W15: Petrie Coordinate "from North" | X15: Petrie Coordinate "from East" | Y15: GPMP Northing | Z15: GPMP Easting | AA15: Longitude | AB15: Latitude | AC15: Northing Difference m | AD15: Easting Difference m
A16: S.W. corner of the 9th Pyramid | B16: A | C16: 3 987 140 | D16: 0 935 234 | E16: =_xlfn.NUMBERVALUE(C16) -> 3987140 | F16: =_xlfn.NUMBERVALUE(D16) -> 935234 | G16: =(E16^2+F16^2)^0.5 -> 4095356.9 | H16: =DEGREES(ATAN(F16/E16)) -> 13.2008 | I16: =-90-H16+$D$13 -> -101.99469 | J16: =G16*SIN((90-I16)/180*PI()) -> -851101.26 | K16: =G16*COS((90-I16)/180*PI()) -> -4005942.4 | L16: =(J16^2+K16^2)^0.5 -> 4095356.9 | M16: =J16*$D$14 -> -4325.7988 | N16: =K16*$D$14 -> -20360.563 | P16: =N16*0.0254/R$7+$R$8 -> 99845.097 | Q16: =M16*0.0254/R$7+$R$9 -> 500178.93 | R16: =$R$8-0.0254/196.713*(F16^2+E16^2)^0.5*COS((DEGREES(ATAN(F16/E16))-1.206111)/180*PI()) -> 99845.097 | S16: =$R$9-0.0254/196.713*(F16^2+E16^2)^0.5*SIN((DEGREES(ATAN(F16/E16))-1.206111)/180*PI()) -> 500178.93 | T16: =(P16-R16) -> -2.1312735e-07 | U16: =(Q16-S16) -> 1.0030926e-06 | W16: 3987140 | X16: 935234 | Y16: 99845.097 | Z16: 500178.92 | AA16: 31.136055 | AB16: 29.97778 | AC16: =Y16-R16 -> -0.00021430723 | AD16: =Z16-S16 -> -0.0019978546
A17: N. side of 2nd Pyramid Temple | B17: B | C17: 5 393 798 | D17: 3 411 980 | E17: =_xlfn.NUMBERVALUE(C17) -> 5393798 | F17: =_xlfn.NUMBERVALUE(D17) -> 3411980 | G17: =(E17^2+F17^2)^0.5 -> 6382371.4 | H17: =DEGREES(ATAN(F17/E17)) -> 32.316409 | I17: =-90-H17+$D$13 -> -121.1103 | J17: =G17*SIN((90-I17)/180*PI()) -> -3297689.7 | K17: =G17*COS((90-I17)/180*PI()) -> -5464421.9 | L17: =(J17^2+K17^2)^0.5 -> 6382371.4 | M17: =J17*$D$14 -> -16760.805 | N17: =K17*$D$14 -> -27773.416 | P17: =N17*0.0254/R$7+$R$8 -> 99656.775 | Q17: =M17*0.0254/R$7+$R$9 -> 499863.02 | R17: =$R$8-0.0254/196.713*(F17^2+E17^2)^0.5*COS((DEGREES(ATAN(F17/E17))-1.206111)/180*PI()) -> 99656.775 | S17: =$R$9-0.0254/196.713*(F17^2+E17^2)^0.5*SIN((DEGREES(ATAN(F17/E17))-1.206111)/180*PI()) -> 499863.02 | T17: =(P17-R17) -> -8.2573388e-07 | U17: =(Q17-S17) -> 1.3682875e-06 | W17: 5393798 | X17: 3411980 | Y17: 99656.776 | Z17: 499863.02 | AA17: 31.132782 | AB17: 29.976081 | AC17: =Y17-R17 -> 0.00075445851 | AD17: =Z17-S17 -> -0.0023062509
A18: N. side of 3rd Pyramid Temple | B18: C | C18: 8 382 255 | D18: 5 839 239 | E18: =_xlfn.NUMBERVALUE(C18) -> 8382255 | F18: =_xlfn.NUMBERVALUE(D18) -> 5839239 | G18: =(E18^2+F18^2)^0.5 -> 10215621 | H18: =DEGREES(ATAN(F18/E18)) -> 34.861806 | I18: =-90-H18+$D$13 -> -123.6557 | J18: =G18*SIN((90-I18)/180*PI()) -> -5661506.7 | K18: =G18*COS((90-I18)/180*PI()) -> -8503308.3 | L18: =(J18^2+K18^2)^0.5 -> 10215621 | M18: =J18*$D$14 -> -28775.118 | N18: =K18*$D$14 -> -43218.83 | P18: =N18*0.0254/R$7+$R$8 -> 99264.388 | Q18: =M18*0.0254/R$7+$R$9 -> 499557.8 | R18: =$R$8-0.0254/196.713*(F18^2+E18^2)^0.5*COS((DEGREES(ATAN(F18/E18))-1.206111)/180*PI()) -> 99264.388 | S18: =$R$9-0.0254/196.713*(F18^2+E18^2)^0.5*SIN((DEGREES(ATAN(F18/E18))-1.206111)/180*PI()) -> 499557.8 | T18: =(P18-R18) -> -1.4176476e-06 | U18: =(Q18-S18) -> 2.1292362e-06 | W18: 8382255 | X18: 5839239 | Y18: 99264.39 | Z18: 499557.79 | AA18: 31.129619 | AB18: 29.972541 | AC18: =Y18-R18 -> 0.0022144295 | AD18: =Z18-S18 -> -0.0032344375
A19: Top block of 5th Pyramid | B19: D | C19: 9 143 054 | D19: 6 836 560 | E19: =_xlfn.NUMBERVALUE(C19) -> 9143054 | F19: =_xlfn.NUMBERVALUE(D19) -> 6836560 | G19: =(E19^2+F19^2)^0.5 -> 11416391 | H19: =DEGREES(ATAN(F19/E19)) -> 36.786665 | I19: =-90-H19+$D$13 -> -125.58055 | J19: =G19*SIN((90-I19)/180*PI()) -> -6642592.7 | K19: =G19*COS((90-I19)/180*PI()) -> -9284931.4 | L19: =(J19^2+K19^2)^0.5 -> 11416391 | M19: =J19*$D$14 -> -33761.575 | N19: =K19*$D$14 -> -47191.5 | P19: =N19*0.0254/R$7+$R$8 -> 99163.463 | Q19: =M19*0.0254/R$7+$R$9 -> 499431.12 | R19: =$R$8-0.0254/196.713*(F19^2+E19^2)^0.5*COS((DEGREES(ATAN(F19/E19))-1.206111)/180*PI()) -> 99163.463 | S19: =$R$9-0.0254/196.713*(F19^2+E19^2)^0.5*SIN((DEGREES(ATAN(F19/E19))-1.206111)/180*PI()) -> 499431.12 | T19: =(P19-R19) -> -1.663313e-06 | U19: =(Q19-S19) -> 2.3249304e-06 | W19: 9143054 | X19: 6836560 | Y19: 99163.465 | Z19: 499431.11 | AA19: 31.128307 | AB19: 29.97163 | AC19: =Y19-R19 -> 0.0020482232 | AD19: =Z19-S19 -> -0.0033360715
A20: N. side of 3rd Pyramid | B20: E | C20: 8 072 225 | D20: 6 840 249 | E20: =_xlfn.NUMBERVALUE(C20) -> 8072225 | F20: =_xlfn.NUMBERVALUE(D20) -> 6840249 | G20: =(E20^2+F20^2)^0.5 -> 10580634 | H20: =DEGREES(ATAN(F20/E20)) -> 40.277303 | I20: =-90-H20+$D$13 -> -129.07119 | J20: =G20*SIN((90-I20)/180*PI()) -> -6668820.8 | K20: =G20*COS((90-I20)/180*PI()) -> -8214417.3 | L20: =(J20^2+K20^2)^0.5 -> 10580634 | M20: =J20*$D$14 -> -33894.882 | N20: =K20*$D$14 -> -41750.515 | P20: =N20*0.0254/R$7+$R$8 -> 99301.69 | Q20: =M20*0.0254/R$7+$R$9 -> 499427.73 | R20: =$R$8-0.0254/196.713*(F20^2+E20^2)^0.5*COS((DEGREES(ATAN(F20/E20))-1.206111)/180*PI()) -> 99301.69 | S20: =$R$9-0.0254/196.713*(F20^2+E20^2)^0.5*SIN((DEGREES(ATAN(F20/E20))-1.206111)/180*PI()) -> 499427.73 | T20: =(P20-R20) -> -1.6698759e-06 | U20: =(Q20-S20) -> 2.0569423e-06 | W20: 8072225 | X20: 6840249 | Y20: 99301.692 | Z20: 499427.73 | AA20: 31.128272 | AB20: 29.972877 | AC20: =Y20-R20 -> 0.0019957129 | AD20: =Z20-S20 -> -0.0037056197
A21: Rock of hill, W. of 1st Pyramid | B21: F | C21: 4 246 813 | D21: 8 132 966 | E21: =_xlfn.NUMBERVALUE(C21) -> 4246813 | F21: =_xlfn.NUMBERVALUE(D21) -> 8132966 | G21: =(E21^2+F21^2)^0.5 -> 9174996.3 | H21: =DEGREES(ATAN(F21/E21)) -> 62.427664 | I21: =-90-H21+$D$13 -> -151.22155 | J21: =G21*SIN((90-I21)/180*PI()) -> -8041772.7 | K21: =G21*COS((90-I21)/180*PI()) -> -4417063.3 | L21: =(J21^2+K21^2)^0.5 -> 9174996.3 | M21: =J21*$D$14 -> -40873.033 | N21: =K21*$D$14 -> -22450.122 | P21: =N21*0.0254/R$7+$R$8 -> 99792.012 | Q21: =M21*0.0254/R$7+$R$9 -> 499250.45 | R21: =$R$8-0.0254/196.713*(F21^2+E21^2)^0.5*COS((DEGREES(ATAN(F21/E21))-1.206111)/180*PI()) -> 99792.012 | S21: =$R$9-0.0254/196.713*(F21^2+E21^2)^0.5*SIN((DEGREES(ATAN(F21/E21))-1.206111)/180*PI()) -> 499250.45 | T21: =(P21-R21) -> -2.0136649e-06 | U21: =(Q21-S21) -> 1.106062e-06 | W21: 4246813 | X21: 8132966 | Y21: 99792.015 | Z21: 499250.45 | AA21: 31.126434 | AB21: 29.9773 | AC21: =Y21-R21 -> 0.0025904686 | AD21: =Z21-S21 -> -0.0022437397
A22: Tomb, No.17, Lepsius | B22: G | C22: 3 000 000 | D22: 6 000 000 | E22: =_xlfn.NUMBERVALUE(C22) -> 3000000 | F22: =_xlfn.NUMBERVALUE(D22) -> 6000000 | G22: =(E22^2+F22^2)^0.5 -> 6708203.9 | H22: =DEGREES(ATAN(F22/E22)) -> 63.434949 | I22: =-90-H22+$D$13 -> -152.22884 | J22: =G22*SIN((90-I22)/180*PI()) -> -5935523.5 | K22: =G22*COS((90-I22)/180*PI()) -> -3125629.7 | L22: =(J22^2+K22^2)^0.5 -> 6708203.9 | M22: =J22*$D$14 -> -30167.832 | N22: =K22*$D$14 -> -15886.294 | P22: =N22*0.0254/R$7+$R$8 -> 99958.765 | Q22: =M22*0.0254/R$7+$R$9 -> 499522.41 | R22: =$R$8-0.0254/196.713*(F22^2+E22^2)^0.5*COS((DEGREES(ATAN(F22/E22))-1.206111)/180*PI()) -> 99958.765 | S22: =$R$9-0.0254/196.713*(F22^2+E22^2)^0.5*SIN((DEGREES(ATAN(F22/E22))-1.206111)/180*PI()) -> 499522.41 | T22: =(P22-R22) -> -1.4862599e-06 | U22: =(Q22-S22) -> 7.8266021e-07 | W22: 3000000 | X22: 6000000 | Y22: 99958.767 | Z22: 499522.41 | AA22: 31.129252 | AB22: 29.978805 | AC22: =Y22-R22 -> 0.0019336266 | AD22: =Z22-S22 -> -0.0016094705
A23: Hillock S.E. of 3rd Pyramid | B23: H | C23: 10 092 621 | D23: 5 571 047 | E23: =_xlfn.NUMBERVALUE(C23) -> 10092621 | F23: =_xlfn.NUMBERVALUE(D23) -> 5571047 | G23: =(E23^2+F23^2)^0.5 -> 11528121 | H23: =DEGREES(ATAN(F23/E23)) -> 28.89835 | I23: =-90-H23+$D$13 -> -117.69224 | J23: =G23*SIN((90-I23)/180*PI()) -> -5357372.6 | K23: =G23*COS((90-I23)/180*PI()) -> -10207650 | L23: =(J23^2+K23^2)^0.5 -> 11528121 | M23: =J23*$D$14 -> -27229.328 | N23: =K23*$D$14 -> -51881.301 | P23: =N23*0.0254/R$7+$R$8 -> 99044.32 | Q23: =M23*0.0254/R$7+$R$9 -> 499597.07 | R23: =$R$8-0.0254/196.713*(F23^2+E23^2)^0.5*COS((DEGREES(ATAN(F23/E23))-1.206111)/180*PI()) -> 99044.32 | S23: =$R$9-0.0254/196.713*(F23^2+E23^2)^0.5*SIN((DEGREES(ATAN(F23/E23))-1.206111)/180*PI()) -> 499597.07 | T23: =(P23-R23) -> -1.3414829e-06 | U23: =(Q23-S23) -> 2.5559566e-06 | W23: 10092621 | X23: 5571047 | Y23: 99044.321 | Z23: 499597.06 | AA23: 31.130026 | AB23: 29.970556 | AC23: =Y23-R23 -> 0.0014535093 | AD23: =Z23-S23 -> -0.0046833254
A24: Top of large building E. of 3rd Pyramid | B24: J | C24: 7 828 554 | D24: 1 491 863 | E24: =_xlfn.NUMBERVALUE(C24) -> 7828554 | F24: =_xlfn.NUMBERVALUE(D24) -> 1491863 | G24: =(E24^2+F24^2)^0.5 -> 7969436.2 | H24: =DEGREES(ATAN(F24/E24)) -> 10.789311 | I24: =-90-H24+$D$13 -> -99.5832 | J24: =G24*SIN((90-I24)/180*PI()) -> -1326748.8 | K24: =G24*COS((90-I24)/180*PI()) -> -7858221.8 | L24: =(J24^2+K24^2)^0.5 -> 7969436.2 | M24: =J24*$D$14 -> -6743.3202 | N24: =K24*$D$14 -> -39940.12 | P24: =N24*0.0254/R$7+$R$8 -> 99347.683 | Q24: =M24*0.0254/R$7+$R$9 -> 500117.51 | R24: =$R$8-0.0254/196.713*(F24^2+E24^2)^0.5*COS((DEGREES(ATAN(F24/E24))-1.206111)/180*PI()) -> 99347.683 | S24: =$R$9-0.0254/196.713*(F24^2+E24^2)^0.5*SIN((DEGREES(ATAN(F24/E24))-1.206111)/180*PI()) -> 500117.51 | T24: =(P24-R24) -> -3.3222022e-07 | U24: =(Q24-S24) -> 1.96771e-06 | W24: 7828554 | X24: 1491863 | Y24: 99347.683 | Z24: 500117.51 | AA24: 31.135419 | AB24: 29.973293 | AC24: =Y24-R24 -> 0.00027997687 | AD24: =Z24-S24 -> -0.0033772261
A25: Pile of slabs N.E. of 1st Pyramid | B25: K | C25: 1 300 292 | D25: 1 425 399 | E25: =_xlfn.NUMBERVALUE(C25) -> 1300292 | F25: =_xlfn.NUMBERVALUE(D25) -> 1425399 | G25: =(E25^2+F25^2)^0.5 -> 1929383.7 | H25: =DEGREES(ATAN(F25/E25)) -> 47.627985 | I25: =-90-H25+$D$13 -> -136.42187 | J25: =G25*SIN((90-I25)/180*PI()) -> -1397713.3 | K25: =G25*COS((90-I25)/180*PI()) -> -1330007.2 | L25: =(J25^2+K25^2)^0.5 -> 1929383.7 | M25: =J25*$D$14 -> -7104.0035 | N25: =K25*$D$14 -> -6759.8814 | P25: =N25*0.0254/R$7+$R$8 -> 100190.62 | Q25: =M25*0.0254/R$7+$R$9 -> 500108.35 | R25: =$R$8-0.0254/196.713*(F25^2+E25^2)^0.5*COS((DEGREES(ATAN(F25/E25))-1.206111)/180*PI()) -> 100190.62 | S25: =$R$9-0.0254/196.713*(F25^2+E25^2)^0.5*SIN((DEGREES(ATAN(F25/E25))-1.206111)/180*PI()) -> 500108.35 | T25: =(P25-R25) -> -3.4998811e-07 | U25: =(Q25-S25) -> 3.3300603e-07 | W25: 1300292 | X25: 1425399 | Y25: 100190.62 | Z25: 500108.35 | AA25: 31.135324 | AB25: 29.980897 | AC25: =Y25-R25 -> 0.00035364249 | AD25: =Z25-S25 -> -0.00029540173
A26: Slab in ground N. of entrance of 1st Pyramid (Gill) | B26: L | C26: 0 908 159 | D26: 2 242 158 | E26: =_xlfn.NUMBERVALUE(C26) -> 908159 | F26: =_xlfn.NUMBERVALUE(D26) -> 2242158 | G26: =(E26^2+F26^2)^0.5 -> 2419096 | H26: =DEGREES(ATAN(F26/E26)) -> 67.950186 | I26: =-90-H26+$D$13 -> -156.74408 | J26: =G26*SIN((90-I26)/180*PI()) -> -2222545.3 | K26: =G26*COS((90-I26)/180*PI()) -> -955153.1 | L26: =(J26^2+K26^2)^0.5 -> 2419096 | M26: =J26*$D$14 -> -11296.287 | N26: =K26*$D$14 -> -4854.6516 | P26: =N26*0.0254/R$7+$R$8 -> 100239.02 | Q26: =M26*0.0254/R$7+$R$9 -> 500001.84 | R26: =$R$8-0.0254/196.713*(F26^2+E26^2)^0.5*COS((DEGREES(ATAN(F26/E26))-1.206111)/180*PI()) -> 100239.02 | S26: =$R$9-0.0254/196.713*(F26^2+E26^2)^0.5*SIN((DEGREES(ATAN(F26/E26))-1.206111)/180*PI()) -> 500001.84 | T26: =(P26-R26) -> -5.56538e-07 | U26: =(Q26-S26) -> 2.3917528e-07 | W26: 908159 | X26: 2242158 | Y26: 100239.02 | Z26: 500001.84 | AA26: 31.13422 | AB26: 29.981333 | AC26: =Y26-R26 -> 0.00039461334 | AD26: =Z26-S26 -> -0.00022807327
A27: Tomb N.W. of N.W. corner of 1st Pyramid | B27: M | C27: 1 483 587 | D27: 3 431 388 | E27: =_xlfn.NUMBERVALUE(C27) -> 1483587 | F27: =_xlfn.NUMBERVALUE(D27) -> 3431388 | G27: =(E27^2+F27^2)^0.5 -> 3738375.8 | H27: =DEGREES(ATAN(F27/E27)) -> 66.618387 | I27: =-90-H27+$D$13 -> -155.41228 | J27: =G27*SIN((90-I27)/180*PI()) -> -3399399.7 | K27: =G27*COS((90-I27)/180*PI()) -> -1555485.8 | L27: =(J27^2+K27^2)^0.5 -> 3738375.8 | M27: =J27*$D$14 -> -17277.755 | N27: =K27*$D$14 -> -7905.8965 | P27: =N27*0.0254/R$7+$R$8 -> 100161.51 | Q27: =M27*0.0254/R$7+$R$9 -> 499849.88 | R27: =$R$8-0.0254/196.713*(F27^2+E27^2)^0.5*COS((DEGREES(ATAN(F27/E27))-1.206111)/180*PI()) -> 100161.51 | S27: =$R$9-0.0254/196.713*(F27^2+E27^2)^0.5*SIN((DEGREES(ATAN(F27/E27))-1.206111)/180*PI()) -> 499849.88 | T27: =(P27-R27) -> -8.5121428e-07 | U27: =(Q27-S27) -> 3.8952567e-07 | W27: 1483587 | X27: 3431388 | Y27: 100161.51 | Z27: 499849.88 | AA27: 31.132645 | AB27: 29.980634 | AC27: =Y27-R27 -> 0.0006237387 | AD27: =Z27-S27 -> -0.00030291581
... A56: N. end of North Trench | B56: ρ | C56: 2 082 608 | D56: 1 180 207 | E56: =_xlfn.NUMBERVALUE(C56) -> 2082608 | F56: =_xlfn.NUMBERVALUE(D56) -> 1180207 | G56: =(E56^2+F56^2)^0.5 -> 2393772.1 | H56: =DEGREES(ATAN(F56/E56)) -> 29.540083 | I56: =-90-H56+$D$13 -> -118.33397 | J56: =G56*SIN((90-I56)/180*PI()) -> -1136108.6 | K56: =G56*COS((90-I56)/180*PI()) -> -2106988.8 | L56: =(J56^2+K56^2)^0.5 -> 2393772.1 | M56: =J56*$D$14 -> -5774.3741 | N56: =K56*$D$14 -> -10708.96 | P56: =N56*0.0254/R$7+$R$8 -> 100090.29 | Q56: =M56*0.0254/R$7+$R$9 -> 500142.13 | R56: =$R$8-0.0254/196.713*(F56^2+E56^2)^0.5*COS((DEGREES(ATAN(F56/E56))-1.206111)/180*PI()) -> 100090.29 | S56: =$R$9-0.0254/196.713*(F56^2+E56^2)^0.5*SIN((DEGREES(ATAN(F56/E56))-1.206111)/180*PI()) -> 500142.13 | T56: =(P56-R56) -> -2.8448994e-07 | U56: =(Q56-S56) -> 5.2759424e-07 | W56: 2082608 | X56: 1180207 | Y56: 100090.29 | Z56: 500142.12 | AA56: 31.135674 | AB56: 29.979992 | AC56: =Y56-R56 -> -0.00013157104 | AD56: =Z56-S56 -> -0.0012478054
A57: S. end of North Trench | B57: σ | C57: 2 514 650? | D57: 1 175 360? | E57: 2514650 | F57: 1175360 | G57: =(E57^2+F57^2)^0.5 -> 2775776.6 | H57: =DEGREES(ATAN(F57/E57)) -> 25.051622 | I57: =-90-H57+$D$13 -> -113.84551 | J57: =G57*SIN((90-I57)/180*PI()) -> -1122168.6 | K57: =G57*COS((90-I57)/180*PI()) -> -2538833.1 | L57: =(J57^2+K57^2)^0.5 -> 2775776.6 | M57: =J57*$D$14 -> -5703.5228 | N57: =K57*$D$14 -> -12903.848 | P57: =N57*0.0254/R$7+$R$8 -> 100034.53 | Q57: =M57*0.0254/R$7+$R$9 -> 500143.93 | R57: =$R$8-0.0254/196.713*(F57^2+E57^2)^0.5*COS((DEGREES(ATAN(F57/E57))-1.206111)/180*PI()) -> 100034.53 | S57: =$R$9-0.0254/196.713*(F57^2+E57^2)^0.5*SIN((DEGREES(ATAN(F57/E57))-1.206111)/180*PI()) -> 500143.93 | T57: =(P57-R57) -> -2.8098293e-07 | U57: =(Q57-S57) -> 6.3568586e-07 | W57: 2514650 | X57: 1175360 | Y57: 100034.53 | Z57: 500143.92 | AA57: 31.135692 | AB57: 29.979489 | AC57: =Y57-R57 -> -0.00048511426 | AD57: =Z57-S57 -> -0.0012103507
A58: [p. 36] N. end of South Trench | B58: τ | C58: 3 051 826 | D58: 1 184 632 | E58: =_xlfn.NUMBERVALUE(C58) -> 3051826 | F58: =_xlfn.NUMBERVALUE(D58) -> 1184632 | G58: =(E58^2+F58^2)^0.5 -> 3273682.2 | H58: =DEGREES(ATAN(F58/E58)) -> 21.214795 | I58: =-90-H58+$D$13 -> -110.00868 | J58: =G58*SIN((90-I58)/180*PI()) -> -1120131.5 | K58: =G58*COS((90-I58)/180*PI()) -> -3076085.2 | L58: =(J58^2+K58^2)^0.5 -> 3273682.2 | M58: =J58*$D$14 -> -5693.1691 | N58: =K58*$D$14 -> -15634.48 | P58: =N58*0.0254/R$7+$R$8 -> 99965.162 | Q58: =M58*0.0254/R$7+$R$9 -> 500144.19 | R58: =$R$8-0.0254/196.713*(F58^2+E58^2)^0.5*COS((DEGREES(ATAN(F58/E58))-1.206111)/180*PI()) -> 99965.162 | S58: =$R$9-0.0254/196.713*(F58^2+E58^2)^0.5*SIN((DEGREES(ATAN(F58/E58))-1.206111)/180*PI()) -> 500144.19 | T58: =(P58-R58) -> -2.8048817e-07 | U58: =(Q58-S58) -> 7.7026198e-07 | W58: 3051826 | X58: 1184632 | Y58: 99965.162 | Z58: 500144.19 | AA58: 31.135695 | AB58: 29.978863 | AC58: =Y58-R58 -> -0.00034711559 | AD58: =Z58-S58 -> -0.0012451028
A59: S. end of South Trench | B59: υ | C59: 3 463 988 | D59: 1 180 826 | E59: =_xlfn.NUMBERVALUE(C59) -> 3463988 | F59: =_xlfn.NUMBERVALUE(D59) -> 1180826 | G59: =(E59^2+F59^2)^0.5 -> 3659721.7 | H59: =DEGREES(ATAN(F59/E59)) -> 18.823539 | I59: =-90-H59+$D$13 -> -107.61743 | J59: =G59*SIN((90-I59)/180*PI()) -> -1107650.7 | K59: =G59*COS((90-I59)/180*PI()) -> -3488075.8 | L59: =(J59^2+K59^2)^0.5 -> 3659721.7 | M59: =J59*$D$14 -> -5629.7344 | N59: =K59*$D$14 -> -17728.459 | P59: =N59*0.0254/R$7+$R$8 -> 99911.965 | Q59: =M59*0.0254/R$7+$R$9 -> 500145.8 | R59: =$R$8-0.0254/196.713*(F59^2+E59^2)^0.5*COS((DEGREES(ATAN(F59/E59))-1.206111)/180*PI()) -> 99911.965 | S59: =$R$9-0.0254/196.713*(F59^2+E59^2)^0.5*SIN((DEGREES(ATAN(F59/E59))-1.206111)/180*PI()) -> 500145.8 | T59: =(P59-R59) -> -2.773595e-07 | U59: =(Q59-S59) -> 8.7340595e-07 | W59: 3463988 | X59: 1180826 | Y59: 99911.965 | Z59: 500145.8 | AA59: 31.135712 | AB59: 29.978383 | AC59: =Y59-R59 -> -0.00025039107 | AD59: =Z59-S59 -> -0.0017894785
A60: W. end of E.N.E. Trench | B60: ϕ | C60: 2 678 581 | D60: 0 881 168 | E60: =_xlfn.NUMBERVALUE(C60) -> 2678581 | F60: =_xlfn.NUMBERVALUE(D60) -> 881168 | G60: =(E60^2+F60^2)^0.5 -> 2819796.7 | H60: =DEGREES(ATAN(F60/E60)) -> 18.209562 | I60: =-90-H60+$D$13 -> -107.00345 | J60: =G60*SIN((90-I60)/180*PI()) -> -824591.17 | K60: =G60*COS((90-I60)/180*PI()) -> -2696535.3 | L60: =(J60^2+K60^2)^0.5 -> 2819796.7 | M60: =J60*$D$14 -> -4191.0588 | N60: =K60*$D$14 -> -13705.383 | P60: =N60*0.0254/R$7+$R$8 -> 100014.17 | Q60: =M60*0.0254/R$7+$R$9 -> 500182.35 | R60: =$R$8-0.0254/196.713*(F60^2+E60^2)^0.5*COS((DEGREES(ATAN(F60/E60))-1.206111)/180*PI()) -> 100014.17 | S60: =$R$9-0.0254/196.713*(F60^2+E60^2)^0.5*SIN((DEGREES(ATAN(F60/E60))-1.206111)/180*PI()) -> 500182.35 | T60: =(P60-R60) -> -2.0647713e-07 | U60: =(Q60-S60) -> 6.7520887e-07 | W60: 2678581 | X60: 881168 | Y60: 100014.17 | Z60: 500182.35 | AA60: 31.13609 | AB60: 29.979305 | AC60: =Y60-R60 -> 0.00035980019 | AD60: =Z60-S60 -> -0.0010373238
A61: E. end of E.N.E. Trench | B61: χ | C61: 2 648 862 | D61: 0 568 721 | E61: =_xlfn.NUMBERVALUE(C61) -> 2648862 | F61: =_xlfn.NUMBERVALUE(D61) -> 568721 | G61: =(E61^2+F61^2)^0.5 -> 2709227.5 | H61: =DEGREES(ATAN(F61/E61)) -> 12.117663 | I61: =-90-H61+$D$13 -> -100.91155 | J61: =G61*SIN((90-I61)/180*PI()) -> -512838.95 | K61: =G61*COS((90-I61)/180*PI()) -> -2660246.2 | L61: =(J61^2+K61^2)^0.5 -> 2709227.5 | M61: =J61*$D$14 -> -2606.5501 | N61: =K61*$D$14 -> -13520.941 | P61: =N61*0.0254/R$7+$R$8 -> 100018.86 | Q61: =M61*0.0254/R$7+$R$9 -> 500222.6 | R61: =$R$8-0.0254/196.713*(F61^2+E61^2)^0.5*COS((DEGREES(ATAN(F61/E61))-1.206111)/180*PI()) -> 100018.86 | S61: =$R$9-0.0254/196.713*(F61^2+E61^2)^0.5*SIN((DEGREES(ATAN(F61/E61))-1.206111)/180*PI()) -> 500222.6 | T61: =(P61-R61) -> -1.2842065e-07 | U61: =(Q61-S61) -> 6.6612847e-07 | W61: 2648862 | X61: 568721 | Y61: 100018.86 | Z61: 500222.6 | AA61: 31.136508 | AB61: 29.979347 | AC61: =Y61-R61 -> -0.00036956812 | AD61: =Z61-S61 -> -0.0011453662
A62: S. end of Trial passages | B62: ψ | C62: 2 549 708 | D62: 0 721 984 | E62: =_xlfn.NUMBERVALUE(C62) -> 2549708 | F62: =_xlfn.NUMBERVALUE(D62) -> 721984 | G62: =(E62^2+F62^2)^0.5 -> 2649956.9 | H62: =DEGREES(ATAN(F62/E62)) -> 15.810181 | I62: =-90-H62+$D$13 -> -104.60407 | J62: =G62*SIN((90-I62)/180*PI()) -> -668155.1 | K62: =G62*COS((90-I62)/180*PI()) -> -2564340.2 | L62: =(J62^2+K62^2)^0.5 -> 2649956.9 | M62: =J62*$D$14 -> -3395.9584 | N62: =K62*$D$14 -> -13033.49 | P62: =N62*0.0254/R$7+$R$8 -> 100031.24 | Q62: =M62*0.0254/R$7+$R$9 -> 500202.55 | R62: =$R$8-0.0254/196.713*(F62^2+E62^2)^0.5*COS((DEGREES(ATAN(F62/E62))-1.206111)/180*PI()) -> 100031.24 | S62: =$R$9-0.0254/196.713*(F62^2+E62^2)^0.5*SIN((DEGREES(ATAN(F62/E62))-1.206111)/180*PI()) -> 500202.55 | T62: =(P62-R62) -> -1.6731792e-07 | U62: =(Q62-S62) -> 6.4208871e-07 | W62: 2549708 | X62: 721984 | Y62: 100031.24 | Z62: 500202.55 | AA62: 31.1363 | AB62: 29.979459 | AC62: =Y62-R62 -> 4.5383626e-05 | AD62: =Z62-S62 -> -0.0013955794
A63: N. end of Trial passages | B63: ω | C63: 2 350 481 | D63: 0 718 038 | E63: =_xlfn.NUMBERVALUE(C63) -> 2350481 | F63: =_xlfn.NUMBERVALUE(D63) -> 718038 | G63: =(E63^2+F63^2)^0.5 -> 2457710.2 | H63: =DEGREES(ATAN(F63/E63)) -> 16.987155 | I63: =-90-H63+$D$13 -> -105.78104 | J63: =G63*SIN((90-I63)/180*PI()) -> -668403.51 | K63: =G63*COS((90-I63)/180*PI()) -> -2365074.3 | L63: =(J63^2+K63^2)^0.5 -> 2457710.2 | M63: =J63*$D$14 -> -3397.221 | N63: =K63*$D$14 -> -12020.703 | P63: =N63*0.0254/R$7+$R$8 -> 100056.97 | Q63: =M63*0.0254/R$7+$R$9 -> 500202.52 | R63: =$R$8-0.0254/196.713*(F63^2+E63^2)^0.5*COS((DEGREES(ATAN(F63/E63))-1.206111)/180*PI()) -> 100056.97 | S63: =$R$9-0.0254/196.713*(F63^2+E63^2)^0.5*SIN((DEGREES(ATAN(F63/E63))-1.206111)/180*PI()) -> 500202.52 | T63: =(P63-R63) -> -1.6736158e-07 | U63: =(Q63-S63) -> 5.9220474e-07 | W63: 2350481 | X63: 718038 | Y63: 100056.97 | Z63: 500202.52 | AA63: 31.136299 | AB63: 29.979691 | AC63: =Y63-R63 -> -0.00059301956 | AD63: =Z63-S63 -> -0.0013198327
A64: RESULTING CO-ORDINATES OF POINTS OF ANCIENT CONSTRUCTION.
B65: Cooper Label
A66: Existing casing edge on N. side of 1st Pyramid | B66: a | C66: 1 866 612 | D66: 2 281 355 | E66: =_xlfn.NUMBERVALUE(C66) -> 1866612 | F66: =_xlfn.NUMBERVALUE(D66) -> 2281355 | G66: =(E66^2+F66^2)^0.5 -> 2947680.6 | H66: =DEGREES(ATAN(F66/E66)) -> 50.709859 | I66: =-90-H66+$D$13 -> -139.50375 | J66: =G66*SIN((90-I66)/180*PI()) -> -2241559.1 | K66: =G66*COS((90-I66)/180*PI()) -> -1914218.8 | L66: =(J66^2+K66^2)^0.5 -> 2947680.6 | M66: =J66*$D$14 -> -11392.926 | N66: =K66*$D$14 -> -9729.1894 | P66: =N66*0.0254/R$7+$R$8 -> 100115.19 | Q66: =M66*0.0254/R$7+$R$9 -> 499999.39 | R66: =$R$8-0.0254/196.713*(F66^2+E66^2)^0.5*COS((DEGREES(ATAN(F66/E66))-1.206111)/180*PI()) -> 100115.19 | S66: =$R$9-0.0254/196.713*(F66^2+E66^2)^0.5*SIN((DEGREES(ATAN(F66/E66))-1.206111)/180*PI()) -> 499999.39 | T66: =(P66-R66) -> -5.6129647e-07 | U66: =(Q66-S66) -> 4.7934009e-07 | W66: 1866612 | X66: 2281355 | Y66: 100115.18 | Z66: 499999.39 | AA66: 31.134195 | AB66: 29.980216 | AC66: =Y66-R66 -> -5.8479491e-06 | AD66: =Z66-S66 -> -0.0011275142
A67: Existing casing edge on E. side of 1st Pyramid | B67: b | C67: 2 671 090 | D67: 1 401 430 | E67: =_xlfn.NUMBERVALUE(C67) -> 2671090 | F67: =_xlfn.NUMBERVALUE(D67) -> 1401430 | G67: =(E67^2+F67^2)^0.5 -> 3016409.8 | H67: =DEGREES(ATAN(F67/E67)) -> 27.684467 | I67: =-90-H67+$D$13 -> -116.47836 | J67: =G67*SIN((90-I67)/180*PI()) -> -1344895.6 | K67: =G67*COS((90-I67)/180*PI()) -> -2699997 | L67: =(J67^2+K67^2)^0.5 -> 3016409.8 | M67: =J67*$D$14 -> -6835.5528 | N67: =K67*$D$14 -> -13722.978 | P67: =N67*0.0254/R$7+$R$8 -> 100013.72 | Q67: =M67*0.0254/R$7+$R$9 -> 500115.17 | R67: =$R$8-0.0254/196.713*(F67^2+E67^2)^0.5*COS((DEGREES(ATAN(F67/E67))-1.206111)/180*PI()) -> 100013.72 | S67: =$R$9-0.0254/196.713*(F67^2+E67^2)^0.5*SIN((DEGREES(ATAN(F67/E67))-1.206111)/180*PI()) -> 500115.17 | T67: =(P67-R67) -> -3.3676042e-07 | U67: =(Q67-S67) -> 6.7608198e-07 | W67: 2671090 | X67: 1401430 | Y67: 100013.72 | Z67: 500115.16 | AA67: 31.135394 | AB67: 29.979301 | AC67: =Y67-R67 -> 0.00033956696 | AD67: =Z67-S67 -> -0.0012276034
A68: Existing casing edge on S. side of 1st Pyramid | B68: c | C68: 3 646 300 | D68: 2 515 643 | E68: =_xlfn.NUMBERVALUE(C68) -> 3646300 | F68: =_xlfn.NUMBERVALUE(D68) -> 2515643 | G68: =(E68^2+F68^2)^0.5 -> 4429894.3 | H68: =DEGREES(ATAN(F68/E68)) -> 34.602439 | I68: =-90-H68+$D$13 -> -123.39633 | J68: =G68*SIN((90-I68)/180*PI()) -> -2438334.5 | K68: =G68*COS((90-I68)/180*PI()) -> -3698444 | L68: =(J68^2+K68^2)^0.5 -> 4429894.3 | M68: =J68*$D$14 -> -12393.054 | N68: =K68*$D$14 -> -18797.675 | P68: =N68*0.0254/R$7+$R$8 -> 99884.802 | Q68: =M68*0.0254/R$7+$R$9 -> 499973.98 | R68: =$R$8-0.0254/196.713*(F68^2+E68^2)^0.5*COS((DEGREES(ATAN(F68/E68))-1.206111)/180*PI()) -> 99884.802 | S68: =$R$9-0.0254/196.713*(F68^2+E68^2)^0.5*SIN((DEGREES(ATAN(F68/E68))-1.206111)/180*PI()) -> 499973.98 | T68: =(P68-R68) -> -6.1055471e-07 | U68: =(Q68-S68) -> 9.2608389e-07 | W68: 3646300 | X68: 2515643 | Y68: 99884.803 | Z68: 499973.98 | AA68: 31.133931 | AB68: 29.978138 | AC68: =Y68-R68 -> 0.00094344326 | AD68: =Z68-S68 -> -0.0010774866
A69: Existing casing edge on W. side of 1st Pyramid | B69: d | C69: 2 664 836 | D69: 3 185 923 | E69: =_xlfn.NUMBERVALUE(C69) -> 2664836 | F69: =_xlfn.NUMBERVALUE(D69) -> 3185923 | G69: =(E69^2+F69^2)^0.5 -> 4153487.2 | H69: =DEGREES(ATAN(F69/E69)) -> 50.089514 | I69: =-90-H69+$D$13 -> -138.8834 | J69: =G69*SIN((90-I69)/180*PI()) -> -3129124.9 | K69: =G69*COS((90-I69)/180*PI()) -> -2731306.3 | L69: =(J69^2+K69^2)^0.5 -> 4153487.2 | M69: =J69*$D$14 -> -15904.059 | N69: =K69*$D$14 -> -13882.11 | P69: =N69*0.0254/R$7+$R$8 -> 100009.68 | Q69: =M69*0.0254/R$7+$R$9 -> 499884.78 | R69: =$R$8-0.0254/196.713*(F69^2+E69^2)^0.5*COS((DEGREES(ATAN(F69/E69))-1.206111)/180*PI()) -> 100009.68 | S69: =$R$9-0.0254/196.713*(F69^2+E69^2)^0.5*SIN((DEGREES(ATAN(F69/E69))-1.206111)/180*PI()) -> 499884.78 | T69: =(P69-R69) -> -7.8353332e-07 | U69: =(Q69-S69) -> 6.8394002e-07 | W69: 2664836 | X69: 3185923 | Y69: 100009.68 | Z69: 499884.78 | AA69: 31.133007 | AB69: 29.979264 | AC69: =Y69-R69 -> 0.0010594841 | AD69: =Z69-S69 -> -0.00075723062
A70: N.E corner of casing of 1st Pyramid | B70: e | C70: 1 884 598 | D70: 1 385 776 | E70: =_xlfn.NUMBERVALUE(C70) -> 1884598 | F70: =_xlfn.NUMBERVALUE(D70) -> 1385776 | G70: =(E70^2+F70^2)^0.5 -> 2339248.8 | H70: =DEGREES(ATAN(F70/E70)) -> 36.327658 | I70: =-90-H70+$D$13 -> -125.12155 | J70: =G70*SIN((90-I70)/180*PI()) -> -1345800 | K70: =G70*COS((90-I70)/180*PI()) -> -1913349.7 | L70: =(J70^2+K70^2)^0.5 -> 2339248.8 | M70: =J70*$D$14 -> -6840.1494 | N70: =K70*$D$14 -> -9724.7722 | P70: =N70*0.0254/R$7+$R$8 -> 100115.3 | Q70: =M70*0.0254/R$7+$R$9 -> 500115.05 | R70: =$R$8-0.0254/196.713*(F70^2+E70^2)^0.5*COS((DEGREES(ATAN(F70/E70))-1.206111)/180*PI()) -> 100115.3 | S70: =$R$9-0.0254/196.713*(F70^2+E70^2)^0.5*SIN((DEGREES(ATAN(F70/E70))-1.206111)/180*PI()) -> 500115.05 | T70: =(P70-R70) -> -3.3699325e-07 | U70: =(Q70-S70) -> 4.7910726e-07 | W70: 1884598 | X70: 1385776 | Y70: 100115.3 | Z70: 500115.05 | AA70: 31.135393 | AB70: 29.980217 | AC70: =Y70-R70 -> -0.0002226739 | AD70: =Z70-S70 -> -0.00045209005
A71: S.E corner of casing of 1st Pyramid | B71: f | C71: 3 668 168 | D71: 1 421 276 | E71: =_xlfn.NUMBERVALUE(C71) -> 3668168 | F71: =_xlfn.NUMBERVALUE(D71) -> 1421276 | G71: =(E71^2+F71^2)^0.5 -> 3933888.9 | H71: =DEGREES(ATAN(F71/E71)) -> 21.17946 | I71: =-90-H71+$D$13 -> -109.97335 | J71: =G71*SIN((90-I71)/180*PI()) -> -1343749.6 | K71: =G71*COS((90-I71)/180*PI()) -> -3697271.8 | L71: =(J71^2+K71^2)^0.5 -> 3933888.9 | M71: =J71*$D$14 -> -6829.7285 | N71: =K71*$D$14 -> -18791.717 | P71: =N71*0.0254/R$7+$R$8 -> 99884.953 | Q71: =M71*0.0254/R$7+$R$9 -> 500115.31 | R71: =$R$8-0.0254/196.713*(F71^2+E71^2)^0.5*COS((DEGREES(ATAN(F71/E71))-1.206111)/180*PI()) -> 99884.953 | S71: =$R$9-0.0254/196.713*(F71^2+E71^2)^0.5*SIN((DEGREES(ATAN(F71/E71))-1.206111)/180*PI()) -> 500115.31 | T71: =(P71-R71) -> -3.3648394e-07 | U71: =(Q71-S71) -> 9.2585105e-07 | W71: 3668168 | X71: 1421276 | Y71: 99884.953 | Z71: 500115.31 | AA71: 31.135396 | AB71: 29.978139 | AC71: =Y71-R71 -> -0.00041795689 | AD71: =Z71-S71 -> -0.0011944672
A72: S.W corner of casing of 1st Pyramid | B72: g | C72: 3 632 521 | D72: 3 205 195 | E72: =_xlfn.NUMBERVALUE(C72) -> 3632521 | F72: =_xlfn.NUMBERVALUE(D72) -> 3205195 | G72: =(E72^2+F72^2)^0.5 -> 4844428.1 | H72: =DEGREES(ATAN(F72/E72)) -> 41.423926 | I72: =-90-H72+$D$13 -> -130.21782 | J72: =G72*SIN((90-I72)/180*PI()) -> -3128023.7 | K72: =G72*COS((90-I72)/180*PI()) -> -3699182.5 | L72: =(J72^2+K72^2)^0.5 -> 4844428.1 | M72: =J72*$D$14 -> -15898.462 | N72: =K72*$D$14 -> -18801.428 | P72: =N72*0.0254/R$7+$R$8 -> 99884.707 | Q72: =M72*0.0254/R$7+$R$9 -> 499884.92 | R72: =$R$8-0.0254/196.713*(F72^2+E72^2)^0.5*COS((DEGREES(ATAN(F72/E72))-1.206111)/180*PI()) -> 99884.707 | S72: =$R$9-0.0254/196.713*(F72^2+E72^2)^0.5*SIN((DEGREES(ATAN(F72/E72))-1.206111)/180*PI()) -> 499884.92 | T72: =(P72-R72) -> -7.8325684e-07 | U72: =(Q72-S72) -> 9.2631672e-07 | W72: 3632521 | X72: 3205195 | Y72: 99884.708 | Z72: 499884.92 | AA72: 31.133009 | AB72: 29.978137 | AC72: =Y72-R72 -> 0.0012962203 | AD72: =Z72-S72 -> -0.0019365827
A73: N.W corner of casing of 1st Pyramid | B73: h | C73: 1 848 772 | D73: 3 169 668 | E73: =_xlfn.NUMBERVALUE(C73) -> 1848772 | F73: =_xlfn.NUMBERVALUE(D73) -> 3169668 | G73: =(E73^2+F73^2)^0.5 -> 3669435 | H73: =DEGREES(ATAN(F73/E73)) -> 59.746274 | I73: =-90-H73+$D$13 -> -148.54016 | J73: =G73*SIN((90-I73)/180*PI()) -> -3130050.8 | K73: =G73*COS((90-I73)/180*PI()) -> -1915080.9 | L73: =(J73^2+K73^2)^0.5 -> 3669435 | M73: =J73*$D$14 -> -15908.765 | N73: =K73*$D$14 -> -9733.5711 | P73: =N73*0.0254/R$7+$R$8 -> 100115.07 | Q73: =M73*0.0254/R$7+$R$9 -> 499884.66 | R73: =$R$8-0.0254/196.713*(F73^2+E73^2)^0.5*COS((DEGREES(ATAN(F73/E73))-1.206111)/180*PI()) -> 100115.07 | S73: =$R$9-0.0254/196.713*(F73^2+E73^2)^0.5*SIN((DEGREES(ATAN(F73/E73))-1.206111)/180*PI()) -> 499884.66 | T73: =(P73-R73) -> -7.8376615e-07 | U73: =(Q73-S73) -> 4.7951471e-07 | W73: 1848772 | X73: 3169668 | Y73: 100115.07 | Z73: 499884.66 | AA73: 31.133006 | AB73: 29.980215 | AC73: =Y73-R73 -> 0.00031038099 | AD73: =Z73-S73 -> -0.0011932265
A74: Center of casing of 1st Pyramid (and GPMP) | B74: j | C74: 2 758 515 | D74: 2 295 478 | E74: =_xlfn.NUMBERVALUE(C74) -> 2758515 | F74: =_xlfn.NUMBERVALUE(D74) -> 2295478 | G74: =(E74^2+F74^2)^0.5 -> 3588680 | H74: =DEGREES(ATAN(F74/E74)) -> 39.765286 | I74: =-90-H74+$D$13 -> -128.55917 | J74: =G74*SIN((90-I74)/180*PI()) -> -2236905.3 | K74: =G74*COS((90-I74)/180*PI()) -> -2806221.5 | L74: =(J74^2+K74^2)^0.5 -> 3588680 | M74: =J74*$D$14 -> -11369.272 | N74: =K74*$D$14 -> -14262.873 | P74: =N74*0.0254/R$7+$R$8 -> 100000.01 | Q74: =M74*0.0254/R$7+$R$9 -> 499999.99 | R74: =$R$8-0.0254/196.713*(F74^2+E74^2)^0.5*COS((DEGREES(ATAN(F74/E74))-1.206111)/180*PI()) -> 100000.01 | S74: =$R$9-0.0254/196.713*(F74^2+E74^2)^0.5*SIN((DEGREES(ATAN(F74/E74))-1.206111)/180*PI()) -> 499999.99 | T74: =(P74-R74) -> -5.6011777e-07 | U74: =(Q74-S74) -> 7.0268288e-07 | W74: 2758515 | X74: 2295478 | Y74: 100000.01 | Z74: 499999.99 | AA74: 31.134201 | AB74: 29.979177 | AC74: =Y74-R74 -> 0.00027172759 | AD74: =Z74-S74 -> -0.0010415912
A75: N.E. corner of casing of 2nd Pyramid | B75: k | C75: 4 630 771 | D75: 4 089 656 | E75: =_xlfn.NUMBERVALUE(C75) -> 4630771 | F75: =_xlfn.NUMBERVALUE(D75) -> 4089656 | G75: =(E75^2+F75^2)^0.5 -> 6178132.9 | H75: =DEGREES(ATAN(F75/E75)) -> 41.449267 | I75: =-90-H75+$D$13 -> -130.24316 | J75: =G75*SIN((90-I75)/180*PI()) -> -3991276.6 | K75: =G75*COS((90-I75)/180*PI()) -> -4715828.4 | L75: =(J75^2+K75^2)^0.5 -> 6178132.9 | M75: =J75*$D$14 -> -20286.022 | N75: =K75*$D$14 -> -23968.622 | P75: =N75*0.0254/R$7+$R$8 -> 99753.435 | Q75: =M75*0.0254/R$7+$R$9 -> 499773.46 | R75: =$R$8-0.0254/196.713*(F75^2+E75^2)^0.5*COS((DEGREES(ATAN(F75/E75))-1.206111)/180*PI()) -> 99753.435 | S75: =$R$9-0.0254/196.713*(F75^2+E75^2)^0.5*SIN((DEGREES(ATAN(F75/E75))-1.206111)/180*PI()) -> 499773.46 | T75: =(P75-R75) -> -9.9941099e-07 | U75: =(Q75-S75) -> 1.1808588e-06 | W75: 4630771 | X75: 4089656 | Y75: 99753.436 | Z75: 499773.46 | AA75: 31.131854 | AB75: 29.976953 | AC75: =Y75-R75 -> 0.00077206211 | AD75: =Z75-S75 -> -0.0018999464
A76: S.E. corner of casing of 2nd Pyramid | B76: l | C76: 6 297 958 | D76: 4 121 664 | E76: =_xlfn.NUMBERVALUE(C76) -> 6297958 | F76: =_xlfn.NUMBERVALUE(D76) -> 4121664 | G76: =(E76^2+F76^2)^0.5 -> 7526778.1 | H76: =DEGREES(ATAN(F76/E76)) -> 33.202521 | I76: =-90-H76+$D$13 -> -121.99641 | J76: =G76*SIN((90-I76)/180*PI()) -> -3988184.8 | K76: =G76*COS((90-I76)/180*PI()) -> -6383319.8 | L76: =(J76^2+K76^2)^0.5 -> 7526778.1 | M76: =J76*$D$14 -> -20270.308 | N76: =K76*$D$14 -> -32443.797 | P76: =N76*0.0254/R$7+$R$8 -> 99538.125 | Q76: =M76*0.0254/R$7+$R$9 -> 499773.86 | R76: =$R$8-0.0254/196.713*(F76^2+E76^2)^0.5*COS((DEGREES(ATAN(F76/E76))-1.206111)/180*PI()) -> 99538.125 | S76: =$R$9-0.0254/196.713*(F76^2+E76^2)^0.5*SIN((DEGREES(ATAN(F76/E76))-1.206111)/180*PI()) -> 499773.86 | T76: =(P76-R76) -> -9.9863973e-07 | U76: =(Q76-S76) -> 1.5983824e-06 | W76: 6297958 | X76: 4121664 | Y76: 99538.126 | Z76: 499773.86 | AA76: 31.131858 | AB76: 29.97501 | AC76: =Y76-R76 -> 0.00079540153 | AD76: =Z76-S76 -> -0.0031197005
A77: S.W. corner of casing of 2nd Pyramid | B77: m | C77: 6 265 598 | D77: 5 789 181 | E77: =_xlfn.NUMBERVALUE(C77) -> 6265598 | F77: =_xlfn.NUMBERVALUE(D77) -> 5789181 | G77: =(E77^2+F77^2)^0.5 -> 8530670.3 | H77: =DEGREES(ATAN(F77/E77)) -> 42.736791 | I77: =-90-H77+$D$13 -> -131.53068 | J77: =G77*SIN((90-I77)/180*PI()) -> -5656013.5 | K77: =G77*COS((90-I77)/180*PI()) -> -6386066.6 | L77: =(J77^2+K77^2)^0.5 -> 8530670.3 | M77: =J77*$D$14 -> -28747.197 | N77: =K77*$D$14 -> -32457.758 | P77: =N77*0.0254/R$7+$R$8 -> 99537.771 | Q77: =M77*0.0254/R$7+$R$9 -> 499558.51 | R77: =$R$8-0.0254/196.713*(F77^2+E77^2)^0.5*COS((DEGREES(ATAN(F77/E77))-1.206111)/180*PI()) -> 99537.771 | S77: =$R$9-0.0254/196.713*(F77^2+E77^2)^0.5*SIN((DEGREES(ATAN(F77/E77))-1.206111)/180*PI()) -> 499558.51 | T77: =(P77-R77) -> -1.4162651e-06 | U77: =(Q77-S77) -> 1.5990809e-06 | W77: 6265598 | X77: 5789181 | Y77: 99537.772 | Z77: 499558.5 | AA77: 31.129627 | AB77: 29.975007 | AC77: =Y77-R77 -> 0.0014711451 | AD77: =Z77-S77 -> -0.0025388011
... A82: S.W. corner of casing of 3rd Pyramid | B82: s | C82: 8 793 987 | D82: 7 275 727 | E82: =_xlfn.NUMBERVALUE(C82) -> 8793987 | F82: =_xlfn.NUMBERVALUE(D82) -> 7275727 | G82: =(E82^2+F82^2)^0.5 -> 11413606 | H82: =DEGREES(ATAN(F82/E82)) -> 39.60274 | I82: =-90-H82+$D$13 -> -128.39663 | J82: =G82*SIN((90-I82)/180*PI()) -> -7089009.9 | K82: =G82*COS((90-I82)/180*PI()) -> -8945185.8 | L82: =(J82^2+K82^2)^0.5 -> 11413606 | M82: =J82*$D$14 -> -36030.531 | N82: =K82*$D$14 -> -45464.712 | P82: =N82*0.0254/R$7+$R$8 -> 99207.332 | Q82: =M82*0.0254/R$7+$R$9 -> 499373.47 | R82: =$R$8-0.0254/196.713*(F82^2+E82^2)^0.5*COS((DEGREES(ATAN(F82/E82))-1.206111)/180*PI()) -> 99207.332 | S82: =$R$9-0.0254/196.713*(F82^2+E82^2)^0.5*SIN((DEGREES(ATAN(F82/E82))-1.206111)/180*PI()) -> 499373.47 | T82: =(P82-R82) -> -1.7750863e-06 | U82: =(Q82-S82) -> 2.239889e-06 | W82: 8793987 | X82: 7275727 | Y82: 99207.334 | Z82: 499373.47 | AA82: 31.12771 | AB82: 29.972026 | AC82: =Y82-R82 -> 0.0023737705 | AD82: =Z82-S82 -> -0.0039960139
A83: N.W. corner of casing of 3rd Pyramid | B83: t | C83: 7 976 980 | D83: 7 255 560? | E83: =_xlfn.NUMBERVALUE(C83) -> 7976980 | F83: 7255560 | G83: =(E83^2+F83^2)^0.5 -> 10783105 | H83: =DEGREES(ATAN(F83/E83)) -> 42.288472 | I83: =-90-H83+$D$13 -> -131.08236 | J83: =G83*SIN((90-I83)/180*PI()) -> -7086044.6 | K83: =G83*COS((90-I83)/180*PI()) -> -8127935.3 | L83: =(J83^2+K83^2)^0.5 -> 10783105 | M83: =J83*$D$14 -> -36015.459 | N83: =K83*$D$14 -> -41310.963 | P83: =N83*0.0254/R$7+$R$8 -> 99312.857 | Q83: =M83*0.0254/R$7+$R$9 -> 499373.86 | R83: =$R$8-0.0254/196.713*(F83^2+E83^2)^0.5*COS((DEGREES(ATAN(F83/E83))-1.206111)/180*PI()) -> 99312.857 | S83: =$R$9-0.0254/196.713*(F83^2+E83^2)^0.5*SIN((DEGREES(ATAN(F83/E83))-1.206111)/180*PI()) -> 499373.86 | T83: =(P83-R83) -> -1.7743587e-06 | U83: =(Q83-S83) -> 2.0352309e-06 | W83: 7976980 | X83: 7255560 | Y83: 99312.859 | Z83: 499373.85 | AA83: 31.127714 | AB83: 29.972978 | AC83: =Y83-R83 -> 0.0022570647 | AD83: =Z83-S83 -> -0.0028828595
A84: Center of casing of 3rd Pyramid | B84: u | C84: 8 395877 | D84: 6 856 742 | E84: =_xlfn.NUMBERVALUE(C84) -> 8395877 | F84: =_xlfn.NUMBERVALUE(D84) -> 6856742 | G84: =(E84^2+F84^2)^0.5 -> 10840003 | H84: =DEGREES(ATAN(F84/E84)) -> 39.237814 | I84: =-90-H84+$D$13 -> -128.0317 | J84: =G84*SIN((90-I84)/180*PI()) -> -6678497.6 | K84: =G84*COS((90-I84)/180*PI()) -> -8538344.8 | L84: =(J84^2+K84^2)^0.5 -> 10840003 | M84: =J84*$D$14 -> -33944.065 | N84: =K84*$D$14 -> -43396.906 | P84: =N84*0.0254/R$7+$R$8 -> 99259.864 | Q84: =M84*0.0254/R$7+$R$9 -> 499426.48 | R84: =$R$8-0.0254/196.713*(F84^2+E84^2)^0.5*COS((DEGREES(ATAN(F84/E84))-1.206111)/180*PI()) -> 99259.864 | S84: =$R$9-0.0254/196.713*(F84^2+E84^2)^0.5*SIN((DEGREES(ATAN(F84/E84))-1.206111)/180*PI()) -> 499426.48 | T84: =(P84-R84) -> -1.6722915e-06 | U84: =(Q84-S84) -> 2.1380256e-06 | W84: 8395877 | X84: 6856742 | Y84: 99259.866 | Z84: 499426.48 | AA84: 31.128259 | AB84: 29.9725 | AC84: =Y84-R84 -> 0.0021961063 | AD84: =Z84-S84 -> -0.0032195568

Sheet Plateau Coords
A1: RESULTING CO-ORDINATES OF POINTS OF ANCIENT CONSTRUCTION.
A2: For Petrie
C4: X" | D4: Y"
A5: Existing casing edge on N. side of 1st pyramid | B5: a | C5: ='Petrie & Dash Plateau Survey'!M66 -> -11392.926 | D5: ='Petrie & Dash Plateau Survey'!N66 -> -9729.1894
A6: Existing casing edge on E. side of 1st pyramid | B6: b | C6: ='Petrie & Dash Plateau Survey'!M67 -> -6835.5528 | D6: ='Petrie & Dash Plateau Survey'!N67 -> -13722.978
A7: Existing casing edge on S. side of 1st pyramid | B7: c | C7: ='Petrie & Dash Plateau Survey'!M68 -> -12393.054 | D7: ='Petrie & Dash Plateau Survey'!N68 -> -18797.675
A8: Existing casing edge on W. side of 1st pyramid | B8: d | C8: ='Petrie & Dash Plateau Survey'!M69 -> -15904.059 | D8: ='Petrie & Dash Plateau Survey'!N69 -> -13882.11
F9: Length | G9: Calc " | H9: Petrie Value | I9: P20 | J9: Diff | M9: m | P9: G1 Diagonals Based on Corner Sockets | T9: Petrie Center
A10: N.W. socket of 1st Pyramid (Gill) | B10: O | C10: ='Petrie & Dash Plateau Survey'!M29 -> -15929.041 | D10: ='Petrie & Dash Plateau Survey'!N29 -> -9713.1903 | F10: NW to NE | G10: =((C10-C11)^2+(D10-D11)^2)^0.5 -> 9110.9664 | H10: =G10+9.8+8.2 -> 9128.9664 | I10: 9129.8 | J10: =I10-H10 -> 0.83357324 | Q10: y=mx + c | S10: Test m & c for y | T10: =C41 -> -11369.272
A11: N.E. socket of 1st Pyramid (Gill) | B11: Q | C11: ='Petrie & Dash Plateau Survey'!M31 -> -6818.0779 | D11: ='Petrie & Dash Plateau Survey'!N31 -> -9705.3605 | F11: NE to SE | G11: =((C11-C12)^2+(D11-D12)^2)^0.5 -> 9108.0141 | H11: =G11+10.8+11.8 -> 9130.6141 | I11: 9130.8 | J11: =I11-H11 -> 0.18590824 | Q11: m | R11: c | T11: =D41 -> -14262.873
A12: S.E. socket of 1st Pyramid (Gill) | B12: U | C12: ='Petrie & Dash Plateau Survey'!M35 -> -6807.7787 | D12: ='Petrie & Dash Plateau Survey'!N35 -> -18813.369 | F12: SE to SW | G12: =((C12-C13)^2+(D12-D13)^2)^0.5 -> 9099.1442 | H12: =G12+12.1+11.9 -> 9123.1442 | I12: 9123.9 | J12: =I12-H12 -> 0.75576334 | L12: =SUM(G10:G13) -> 36415.042 | M12: =L12*0.0254 -> 924.94207 | P12: SE to NW diagonal | Q12: =(D12-D10)/(C12-C10) -> -0.99768849 | R12: =D12-Q12*C12 -> -25605.411 | S12: =Q12*C12+R12 -> -18813.369 | T12: =(R13-R12)/(Q12-Q13) -> -11368.229 | V12: =Q12*C10+R12 -> -9713.1903 | W12: =Q12*C12+R12 -> -18813.369
A13: S.W. socket of 1st Pyramid | B13: W | C13: ='Petrie & Dash Plateau Survey'!M37 -> -15906.922 | D13: ='Petrie & Dash Plateau Survey'!N37 -> -18810.081 | F13: SW to NW | G13: =((C13-C10)^2+(D13-D10)^2)^0.5 -> 9096.9173 | H13: =G13+11.7+9.7 -> 9118.3173 | I13: 9119.2 | J13: =I13-H13 -> 0.88266938 | L13: =AVERAGE(G10:G13) -> 9103.7605 | M13: =L13*0.0254 -> 231.23552 | P13: SW to NE diagonal | Q13: =(D13-D11)/(C13-C11) -> 1.0017467 | R13: =D13-Q13*C13 -> -2875.3731 | S13: =Q13*C13+R13 -> -18810.081 | T13: =Q13*T12+R13 -> -14263.46 | U13: =Q12*T12+R12 -> -14263.46 | V13: =Q13*C13+R13 -> -18810.081 | W13: =Q13*C11+R13 -> -9705.3605
M14: Petrie Measures | O14: Correction?
C15: Initial Data | E15: Face | F15: X Difference | H15: Y Difference | J15: Length " | K15: Angle ' " | M15: Length " | N15: Angle ' " | O15: J12-J15 ×
C16: X (B") | D16: Y (B") | G16: XDIFF | I16: YDIFF | J16: √(XDIFF2 + YDIFF2) | M16: Petrie Section (Pxx) Pyramid 1 = (P21) Pyramid 2 = (P66) Pyramid 3 = (P80) | O16: =SUM(M17:M20)/SUM(J17:J20) -> 1.0000835
A17: N.E corner of casing of 1st pyramid | B17: e | C17: ='Petrie & Dash Plateau Survey'!N70 -> -9724.7722 | D17: ='Petrie & Dash Plateau Survey'!M70 -> -6840.1494 | E17: N | F17: X1NE - X1NW | G17: =C17-C20 -> 8.7988729 | H17: Y1NW - Y1NE | I17: =D20-D17 -> -9068.6156 | J17: =(G17^2+I17^2)^0.5 -> 9068.6199 | K17: =IF(DEGREES(ATAN(I17/G17))<0,"-","+") -> - | L17: =ABS(DEGREES(ATAN(I17/G17)))/24 -> 3.7476837 | M17: 9069.4 | N17: -3' 20" | O17: =J17*$O$16 -> 9069.3769 | P17: G1 Diagonals based on Casing Corners | T17: Petrie Center
A18: S.E corner of casing of 1st pyramid | B18: f | C18: ='Petrie & Dash Plateau Survey'!N71 -> -18791.717 | D18: ='Petrie & Dash Plateau Survey'!M71 -> -6829.7285 | E18: E | F18: X1NE - X1SE | G18: =C17-C18 -> 9066.9445 | H18: Y1NE - Y1SE | I18: =D17-D18 -> -10.420981 | J18: =(G18^2+I18^2)^0.5 -> 9066.9505 | K18: =IF(DEGREES(ATAN(I18/G18))<0,"-","+") -> - | L18: =ABS(DEGREES(ATAN(G18/I18)))/24 -> 3.7472562 | M18: 9067.7 | N18: -3' 57" | O18: =J18*$O$16 -> 9067.7074 | Q18: y=mx + c | S18: Test m & c for y | T18: =C41 -> -11369.272
A19: S.W corner of casing of 1st pyramid | B19: g | C19: ='Petrie & Dash Plateau Survey'!N72 -> -18801.428 | D19: ='Petrie & Dash Plateau Survey'!M72 -> -15898.462 | E19: S | F19: X1SE - X1SW | G19: =C18-C19 -> 9.7113435 | H19: Y1SW - Y1SE | I19: =D19-D18 -> -9068.7337 | J19: =(G19^2+I19^2)^0.5 -> 9068.7389 | K19: =IF(DEGREES(ATAN(I19/G19))<0,"-","+") -> - | L19: =ABS(DEGREES(ATAN(I19/G19)))/24 -> 3.7474435 | M19: 9069.5 | N19: -3' 41" | O19: =J19*$O$16 -> 9069.4959 | Q19: m | R19: c | S19: x = SE & SW Corners | T19: =D41 -> -14262.873
A20: N.W corner of casing of 1st pyramid | B20: h | C20: ='Petrie & Dash Plateau Survey'!N73 -> -9733.5711 | D20: ='Petrie & Dash Plateau Survey'!M73 -> -15908.765 | E20: W | F20: X1NW - X1SW | G20: =C20-C19 -> 9067.857 | H20: Y1NW - Y1SW | I20: =D20-D19 -> -10.302932 | J20: =(G20^2+I20^2)^0.5 -> 9067.8629 | K20: =IF(DEGREES(ATAN(I20/G20))<0,"-","+") -> - | L20: =ABS(DEGREES(ATAN(G20/I20)))/24 -> 3.7472875 | M20: 9068.6 | N20: -3' 54" | O20: =J20*$O$16 -> 9068.6198 | P20: SE to NW diagonal | Q20: =(D18-D20)/(C18-C20) -> -1.0023063 | R20: =D18-Q20*C18 -> -25664.785 | S20: =Q20*C18+R20 -> -6829.7285 | T20: =(R21-R20)/(Q20-Q21) -> -14262.842 | V20: =Q20*C20+R20 -> -15908.765 | W20: =Q20*C18+R20 -> -6829.7285
J21: =AVERAGE(J17:J20) -> 9068.043 | L21: =AVERAGE(L17:L20) -> 3.7474177 | M21: =AVERAGE(M17:M20) -> 9068.8 | O21: =AVERAGE(O17:O20) -> 9068.8 | P21: SW to NE diagonal | Q21: =(D19-D17)/(C19-C17) -> 0.99797908 | R21: =D19-Q21*C19 -> 2864.9698 | S21: =Q21*C19+R21 -> -15898.462 | T21: =Q21*T20+R21 -> -11369.048 | U21: =Q20*T20+R20 -> -11369.048 | V21: =Q21*C19+R21 -> -15898.462 | W21: =Q21*C17+R21 -> -6840.1494
A22: N.E. corner of casing of 2nd pyramid | B22: k | C22: ='Petrie & Dash Plateau Survey'!M75 -> -20286.022 | D22: ='Petrie & Dash Plateau Survey'!N75 -> -23968.622 | E22: N | F22: X2NE - X2NW | G22: =C22-C25 -> 8471.9152 | H22: Y2NW - Y2NE | I22: =D25-D22 -> -13.591916 | J22: =(G22^2+I22^2)^0.5 -> 8471.9261 | K22: =IF(DEGREES(ATAN(I22/G22))<0,"-","+") -> - | L22: =ABS(DEGREES(ATAN(I22/G22)))/24 -> 0.0038301 | M22: 8471.9 | N22: -5' 31" | P22: G2 Diagonals based on Casing Corners | T22: Petrie Center
A23: S.E. corner of casing of 2nd pyramid | B23: l | C23: ='Petrie & Dash Plateau Survey'!M76 -> -20270.308 | D23: ='Petrie & Dash Plateau Survey'!N76 -> -32443.797 | E23: E | F23: X2NE - X2SE | G23: =C22-C23 -> -15.714367 | H23: Y2NE - Y2SE | I23: =D22-D23 -> 8475.1749 | J23: =(G23^2+I23^2)^0.5 -> 8475.1895 | K23: =IF(DEGREES(ATAN(I23/G23))<0,"-","+") -> - | L23: =ABS(DEGREES(ATAN(G23/I23)))/24 -> 0.0044264863 | M23: 8475.2 | N23: -6' 13" | Q23: y=mx + c | S23: Test m & c for y | T23: =C42 -> -24515.364
A24: S.W. corner of casing of 2nd pyramid | B24: m | C24: ='Petrie & Dash Plateau Survey'!M77 -> -28747.197 | D24: ='Petrie & Dash Plateau Survey'!N77 -> -32457.758 | E24: S | F24: X2SE - X2SW | G24: =C23-C24 -> 8476.8895 | H24: Y2SW - Y2SE | I24: =D24-D23 -> -13.960997 | J24: =(G24^2+I24^2)^0.5 -> 8476.901 | K24: =IF(DEGREES(ATAN(I24/G24))<0,"-","+") -> - | L24: =ABS(DEGREES(ATAN(I24/G24)))/24 -> 0.0039317953 | M24: 8476.9 | N24: -5' 40" | Q24: m | R24: c | S24: x = SE & SW Corners | T24: =D42 -> -28213.095
A25: N.W. corner of casing of 2nd pyramid | B25: n | C25: ='Petrie & Dash Plateau Survey'!M78 -> -28757.938 | D25: ='Petrie & Dash Plateau Survey'!N78 -> -23982.214 | E25: W | F25: X2NW - X2SW | G25: =C25-C24 -> -10.740096 | H25: Y2NW - Y2SW | I25: =D25-D24 -> 8475.544 | J25: =(G25^2+I25^2)^0.5 -> 8475.5508 | K25: =IF(DEGREES(ATAN(I25/G25))<0,"-","+") -> - | L25: =ABS(DEGREES(ATAN(G25/I25)))/24 -> 0.0030251836 | M25: 8475.5 | N25: -4' 21" | P25: SE to NW diagonal | Q25: =(D23-D25)/(C23-C25) -> -0.99693123 | R25: =D23-Q25*C23 -> -52651.9 | S25: =Q25*C23+R25 -> -32443.797 | T25: =(R26-R25)/(Q25-Q26) -> -24515.278 | V25: =Q25*C25+R25 -> -23982.214 | W25: =Q25*C23+R25 -> -32443.797
I26: =J26/20*0.0254 -> 10.76395 | J26: =AVERAGE(J25:J25) -> 8475.5508 | K26: - | L26: =AVERAGE(L22:L25) -> 0.0038033913 | M26: =AVERAGE(M25:M25) -> 8475.5 | P26: SW to NE diagonal | Q26: =(D24-D22)/(C24-C22) -> 1.0033046 | R26: =D24-Q26*C24 -> -3615.5628 | S26: =Q26*C24+R26 -> -32457.758 | T26: =Q26*T25+R26 -> -28211.854 | U26: =Q25*T25+R25 -> -28211.854 | V26: =Q26*C24+R26 -> -32457.758 | W26: =Q26*C22+R26 -> -23968.622
A27: N.E. corner of casing of 3rd pyramid | B27: q | C27: ='Petrie & Dash Plateau Survey'!M80 -> -31857.556 | D27: ='Petrie & Dash Plateau Survey'!N80 -> -41331.376 | E27: N | F27: X3NE - X3NW | G27: =C27-C30 -> 4157.9032 | H27: Y3NW - Y3NE | I27: =D30-D27 -> 20.413388 | J27: =(G27^2+I27^2)^0.5 -> 4157.9533 | K27: =IF(DEGREES(ATAN(I27/G27))<0,"-","+") -> + | N27: 16' 48" | P27: G3 Diagonals based on Casing Corners | T27: Petrie Center
A28: S.E. corner of casing of 3rd pyramid | B28: r | C28: ='Petrie & Dash Plateau Survey'!M81 -> -31872.719 | D28: ='Petrie & Dash Plateau Survey'!N81 -> -45480.567 | E28: E | F28: X3NE - X3SE | G28: =C27-C28 -> 15.162319 | H28: Y3NE - Y3SE | I28: =D27-D28 -> 4149.191 | J28: =(G28^2+I28^2)^0.5 -> 4149.2187 | K28: =IF(DEGREES(ATAN(I28/G28))<0,"-","+") -> + | L28: =ABS(DEGREES(ATAN(G28/I28)))/24 -> 0.0087239198 | M28: 4149.2 | N28: 12' 23" | Q28: y=mx + c | S28: Test m & c for y | T28: =C43 -> -33944.065
A29: S.W. corner of casing of 3rd pyramid | B29: s | C29: ='Petrie & Dash Plateau Survey'!M82 -> -36030.531 | D29: ='Petrie & Dash Plateau Survey'!N82 -> -45464.712 | E29: S | F29: X3SE - X3SW | G29: =C28-C29 -> 4157.8123 | H29: Y3SW - Y3SE | I29: =D29-D28 -> 15.855207 | J29: =(G29^2+I29^2)^0.5 -> 4157.8425 | K29: =IF(DEGREES(ATAN(I29/G29))<0,"-","+") -> + | L29: =ABS(DEGREES(ATAN(I29/G29)))/24 -> 0.0091036664 | M29: 4157.8 | N29: 12' 57" | Q29: m | R29: c | S29: x = SE & SW Corners | T29: =D43 -> -43396.906
A30: N.W. corner of casing of 3rd pyramid | B30: t | C30: ='Petrie & Dash Plateau Survey'!M83 -> -36015.459 | D30: ='Petrie & Dash Plateau Survey'!N83 -> -41310.963 | E30: W | F30: X3NW - X3SW | G30: =C30-C29 -> 15.071436 | H30: Y3NW - Y3SW | I30: =D30-D29 -> 4153.7491 | J30: =(G30^2+I30^2)^0.5 -> 4153.7765 | K30: =IF(DEGREES(ATAN(I30/G30))<0,"-","+") -> + | L30: =ABS(DEGREES(ATAN(G30/I30)))/24 -> 0.0086621133 | M30: 4153.9 | P30: SE to NW diagonal | Q30: =(D28-D30)/(C28-C30) -> -1.0064845 | R30: =D28-Q30*C28 -> -77559.964 | S30: =Q30*C28+R30 -> -45480.567 | T30: =(R31-R30)/(Q30-Q31) -> -33942.925 | V30: =Q30*C30+R30 -> -41310.963 | W30: =Q30*C28+R30 -> -45480.567
J31: =AVERAGE(J30:J30) -> 4153.7765 | K31: + | L31: =AVERAGE(L27:L30) -> 0.0088298998 | M31: =AVERAGE(M30:M30) -> 4153.9 | P31: SW to NE diagonal | Q31: =(D29-D27)/(C29-C27) -> 0.99050106 | R31: =D29-Q31*C29 -> -9776.4331 | S31: =Q31*C29+R31 -> -45464.712 | T31: =Q31*T30+R31 -> -43396.936 | U31: =Q30*T30+R30 -> -43396.936 | V31: =Q31*C29+R31 -> -45464.712 | W31: =Q31*C27+R31 -> -41331.376
A33: Using Meters | C33: X m | D33: Y m | G33: XDIFF | I33: YDIFF | J33: Length m
A34: N.E corner of casing of 1st pyramid | B34: e | C34: ='Petrie & Dash Plateau Survey'!R70 -> 100115.3 | D34: ='Petrie & Dash Plateau Survey'!S70 -> 500115.05 | E34: N | F34: X1NE - X1NW | G34: =C34-C37 -> 0.22353305 | H34: Y1NW - Y1NE | I34: =D37-D34 -> -230.38626 | J34: =(G34^2+I34^2)^0.5/0.0254 -> 9070.3294
A35: S.E corner of casing of 1st pyramid | B35: f | C35: ='Petrie & Dash Plateau Survey'!R71 -> 99884.953 | D35: ='Petrie & Dash Plateau Survey'!S71 -> 500115.31 | E35: E | F35: X1NE - X1SE | G35: =C34-C35 -> 230.3438 | H35: Y1NE - Y1SE | I35: =D34-D35 -> -0.26474238 | J35: =(G35^2+I35^2)^0.5/0.0254 -> 9068.6597
A36: S.W corner of casing of 1st pyramid | B36: g | C36: ='Petrie & Dash Plateau Survey'!R72 -> 99884.707 | D36: ='Petrie & Dash Plateau Survey'!S72 -> 499884.92 | E36: S | F36: X1SE - X1SW | G36: =C35-C36 -> 0.24671418 | H36: Y1SW - Y1SE | I36: =D36-D35 -> -230.38926 | J36: =(G36^2+I36^2)^0.5/0.0254 -> 9070.4484
A37: N.W corner of casing of 1st pyramid | B37: h | C37: ='Petrie & Dash Plateau Survey'!R73 -> 100115.07 | D37: ='Petrie & Dash Plateau Survey'!S73 -> 499884.66 | E37: W | F37: X1NW - X1SW | G37: =C37-C36 -> 230.36699 | H37: Y1NW - Y1SW | I37: =D37-D36 -> -0.26174336 | J37: =(G37^2+I37^2)^0.5/0.0254 -> 9069.5722
J38: =AVERAGE(J34:J37) -> 9069.7524
A40: All values in B" | C40: X (B") | D40: Y (B") | E40: Center | F40: H | G40: V | H40: H | I40: V | J40: Diff.
A41: Center of casing of 1st pyramid | B41: j | C41: ='Petrie & Dash Plateau Survey'!M74 -> -11369.272 | D41: ='Petrie & Dash Plateau Survey'!N74 -> -14262.873 | E41: G1 to G2 | F41: =C41-C42 -> 13146.091 | G41: =D41-D42 -> 13950.222 | H41: 13165.8 | I41: 13931.6 | J41: =I41-G41 -> -18.622248
A42: Center of casing of 2nd pyramid | B42: p | C42: ='Petrie & Dash Plateau Survey'!M79 -> -24515.364 | D42: ='Petrie & Dash Plateau Survey'!N79 -> -28213.095 | E42: G2 to G3 | F42: =C42-C43 -> 9428.7011 | G42: =D42-D43 -> 15183.81 | H42: 9450.2 | I42: 15170.4 | J42: =I42-G42 -> -13.410354
A43: Center of casing of 3rd pyramid | B43: u | C43: ='Petrie & Dash Plateau Survey'!M84 -> -33944.065 | D43: ='Petrie & Dash Plateau Survey'!N84 -> -43396.906 | E43: G1 to G3 | F43: =C41-C43 -> 22574.793 | G43: =D41-D43 -> 29134.033 | H43: 22616 | I43: 29102 | J43: =I43-G43 -> -32.032602
A45: Divisors | B45: Petrie | C45: Coords | D45: Year (Yr.) | E45: √2 | F45: √3 | G45: π | H45: √π | I45: RCKC | J45: RC | S45: =200/(1+5^0.5) -> 61.803399
B46: ID | C46: X, Y | D46: 365.25 | E46: =2^0.5 -> 1.4142136 | F46: =3^0.5 -> 1.7320508 | G46: =PI() -> 3.1415927 | H46: =PI()^0.5 -> 1.7724539 | I46: =365.25/10/PI()^0.5 -> 20.607025 | J46: 20.62 | S46: =(1+5^0.5)/2 -> 1.618034
L47: Cardinal " | M47: Side Aligned " | N47: Diference " | S47: H SW G1 to NE G2 | T47: 12 * 365.25 | U47: =12*365.25 -> 4383 | V47: =(D48-12)/D48 -> -1.9523219
A48: Horizontal SW G1 to NE G2 | B48: (g-k)x | C48: =C19-C22 -> 1484.5942 | D48: =C48/$D$46 -> 4.0645975 | E48: =D48/$E$46 -> 2.8741044 | F48: =D48/$F$46 -> 2.3466965 | G48: =D48/$G$46 -> 1.2938016 | H48: =D48/$H$46 -> 2.2932036 | I48: =$C48/$I$46 -> 72.043115 | J48: =$C48/$J$46 -> 71.99778 | L48: 4387.5601 | M48: 4397.1346 | N48: =M48-L48 -> 9.5745 | O48: =N48/M48 -> 0.0021774407 | S48: V SW G1 to NE G2 | T48: 10 * √2 * 365.25 | U48: =10*2^0.5*365.25 -> 5165.415 | V48: =(E49-10)/E49 -> 0.3599365
A49: Vertical SW G1 to NE G2 | B49: (g-k)y | C49: =D19-D22 -> 8070.1602 | D49: =C49/$D$46 -> 22.094895 | E49: =D49/$E$46 -> 15.62345 | F49: =D49/$F$46 -> 12.756493 | G49: =D49/$G$46 -> 7.0330234 | H49: =D49/$H$46 -> 12.465709 | I49: =$C49/$I$46 -> 391.62181 | J49: =$C49/$J$46 -> 391.37537 | L49: 5167.1943 | M49: 5162.3882 | N49: =M49-L49 -> -4.8061 | O49: =N49/M49 -> -0.00093098384
M50: =M49/M48 -> 1.1740346 | S50: H SW G2 to NE G3 | T50: 8.5 * 365.25 | U50: =8.5*365.25 -> 3104.625 | V50: =(D51-8.5)/D51 -> 0.0018434584
A51: Horizontal SW G2 to NE G3 | B51: (m-q)x | C51: =C24-C27 -> 3110.3588 | D51: =C51/$D$46 -> 8.5156983 | E51: =D51/$E$46 -> 6.021508 | F51: =D51/$F$46 -> 4.9165407 | G51: =D51/$G$46 -> 2.710631 | H51: =D51/$H$46 -> 4.8044683 | I51: =$C51/$I$46 -> 150.93682 | J51: =$C51/$J$46 -> 150.84184 | L51: 3110.3588 | M51: 3077.9546 | N51: =M51-L51 -> -32.4042 | O51: =N51/M51 -> -0.010527836 | S51: V SW G2 to NE G3 | T51: 14 * √3 * 365.25 | U51: =14*3^0.5*365.25 -> 8856.8418 | V51: =(F52-14)/F52 -> 0.0018905649
A52: Vertical SW G2 to NE G3 | B52: (m-q)y | C52: =D24-D27 -> 8873.618 | D52: =C52/$D$46 -> 24.294642 | E52: =D52/$E$46 -> 17.178906 | F52: =D52/$F$46 -> 14.026518 | G52: =D52/$G$46 -> 7.7332247 | H52: =D52/$H$46 -> 13.706784 | I52: =$C52/$I$46 -> 430.61132 | J52: =$C52/$J$46 -> 430.34035 | L52: 8873.618 | M52: 8868.608 | N52: =M52-L52 -> -5.01 | O52: =N52/M52 -> -0.00056491391
M53: =M52/M51 -> 2.8813316
A54: Horizontal SW G1 to NE G3 | B54: (g-q)x | C54: =C19-C27 -> 13056.128 | D54: =C54/$D$46 -> 35.745731 | E54: =D54/$E$46 -> 25.276049 | F54: =D54/$F$46 -> 20.637807 | G54: =D54/$G$46 -> 11.378219 | H54: =D54/$H$46 -> 20.167369 | I54: =$C54/$I$46 -> 633.57658 | J54: =$C54/$J$46 -> 633.17789 | L54: 15959.094 | M54: 15876.834 | N54: =M54-L54 -> -82.26 | O54: =N54/M54 -> -0.0051811337 | S54: V SW G1 to NE G3 | T54: 100/ɸ * 365.25 | U54: =S45*365.25 -> 22573.691 | V54: =D55/S45-1 -> 0.12666172
A55: Vertical SW G1 to NE G3 | B55: (g-q)y | C55: =D19-D27 -> 25432.914 | D55: =C55/$D$46 -> 69.631524 | E55: =D55/$E$46 -> 49.236923 | F55: =D55/$F$46 -> 40.201779 | G55: =D55/$G$46 -> 22.164402 | H55: =D55/$H$46 -> 39.28538 | I55: =$C55/$I$46 -> 1234.1866 | J55: =$C55/$J$46 -> 1233.41 | L55: 22529.948 | M55: 22513.097 | N55: =M55-L55 -> -16.8516 | O55: =N55/M55 -> -0.00074852431
M56: =M55/M54 -> 1.417984 | S56: H NE G1 to SW G3 | T56: 80 * 365.25 | U56: =80*365.25 -> 29220 | V56: =(D57-80)/D57 -> -0.1107834
A57: Horizontal NE G1 to SW G3 | B57: (e-s)x | C57: =C17-C29 -> 26305.759 | D57: =C57/$D$46 -> 72.021242 | E57: =D57/$E$46 -> 50.926709 | F57: =D57/$F$46 -> 41.581483 | G57: =D57/$G$46 -> 22.925073 | H57: =D57/$H$46 -> 40.633634 | I57: =$C57/$I$46 -> 1276.5433 | J57: =$C57/$J$46 -> 1275.74 | L57: 29190.381 | M57: 29060.819 | N57: =M57-L57 -> -129.5623 | O57: =N57/M57 -> -0.0044583155
A58: Vertical NE G1 to SW G3 | B58: (e-s)y | C58: =D17-D29 -> 38624.563 | D58: =C58/$D$46 -> 105.74829 | E58: =D58/$E$46 -> 74.775332 | F58: =D58/$F$46 -> 61.053803 | G58: =D58/$G$46 -> 33.660726 | H58: =D58/$H$46 -> 59.662083 | I58: =$C58/$I$46 -> 1874.3396 | J58: =$C58/$J$46 -> 1873.1602 | L58: 35739.94 | M58: 35711.978 | N58: =M58-L58 -> -27.9614 | O58: =N58/M58 -> -0.00078296978
C59: =C57/'Petrie & Dash Plateau Survey'!R7 -> 26310.717 | D59: =C58/'Petrie & Dash Plateau Survey'!R7 -> 38631.844 | E59: =D59/$E$46 -> 27316.839 | F59: =D59/$F$46 -> 22304.105 | G59: =D59/$G$46 -> 12296.898 | H59: =D59/$H$46 -> 21795.684 | M59: =M58/M57 -> 1.2288703 | S59: H G1 C to G2 C | T59: 36 * 365.25 | U59: =36*365.25 -> 13149 | V59: =(D60-36)/D60 -> -0.00022125485
A60: Horizontal G1 Center to G2 Center | B60: (j-p)x | C60: =C41-C42 -> 13146.091 | D60: =C60/$D$46 -> 35.992037 | E60: =D60/$E$46 -> 25.450213 | F60: =D60/$F$46 -> 20.780012 | G60: =D60/$G$46 -> 11.456621 | H60: =D60/$H$46 -> 20.306332 | I60: =$C60/$I$46 -> 637.94224 | J60: =$C60/$J$46 -> 637.5408 | S60: V G1 C to G2 C | T60: 27 * √2 * 365.25 | U60: =27*2^0.5*365.25 -> 13946.621 | V60: =(E61-27)/E61 -> 0.00025817866
A61: Vertical G1 Center to G2 Center | B61: (j-p)y | C61: =D41-D42 -> 13950.222 | D61: =C61/$D$46 -> 38.193627 | E61: =D61/$E$46 -> 27.006973 | F61: =D61/$F$46 -> 22.051101 | G61: =D61/$G$46 -> 12.157409 | H61: =D61/$H$46 -> 21.548446 | I61: =$C61/$I$46 -> 676.96441 | J61: =$C61/$J$46 -> 676.53842
C62: =(C60^2+C61^2)^0.5 -> 19168.422 | D62: =C62/$D$46 -> 52.48028 | E62: =D62/$E$46 -> 37.109162 | F62: =D62/$F$46 -> 30.299504 | G62: =D62/$G$46 -> 16.704992 | H62: =D62/$H$46 -> 29.608828 | I62: =$C62/$I$46 -> 930.18875 | J62: =$C62/$J$46 -> 929.60342 | L62: Petrie (m) | M62: Dash (m) | N62: Verhart (m) | S62: H G1 C to G3 C | T62: 100/ɸ * 365.25 | U62: =S45*365.25 -> 22573.691 | V62: =D63/S45-1 -> 4.8776587e-05
A63: Horizontal G1 Center to G3 Center | B63: (j-u)x | C63: =C41-C43 -> 22574.793 | D63: =C63/$D$46 -> 61.806413 | E63: =D63/$E$46 -> 43.703734 | F63: =D63/$F$46 -> 35.683949 | G63: =D63/$G$46 -> 19.673592 | H63: =D63/$H$46 -> 34.870535 | I63: =$C63/$I$46 -> 1095.4902 | J63: =$C63/$J$46 -> 1094.8008 | L63: =C60*0.0254 -> 333.91072 | M63: =L63/'Petrie & Dash Plateau Survey'!$R$7 -> 333.97367 | N63: 334.41 | S63: V G1 C to G3 C | T63: 45 * √π * 365.25 | U63: =45*PI()^0.5*365.25 -> 29132.495 | V63: =H64/45-1 -> 5.2793125e-05
A64: Vertical G1 Center to G3 Center | B64: (j-u)y | C64: =D41-D43 -> 29134.033 | D64: =C64/$D$46 -> 79.764634 | E64: =D64/$E$46 -> 56.402114 | F64: =D64/$F$46 -> 46.052133 | G64: =D64/$G$46 -> 25.389872 | H64: =D64/$H$46 -> 45.002376 | I64: =$C64/$I$46 -> 1413.7913 | J64: =$C64/$J$46 -> 1412.9017 | L64: =C61*0.0254 -> 354.33565 | M64: =L64/'Petrie & Dash Plateau Survey'!$R$7 -> 354.40244 | N64: 353.86
C65: =(C63^2+C64^2)^0.5 -> 36856.656 | D65: =C65/$D$46 -> 100.90803 | E65: =D65/$E$46 -> 71.352749 | F65: =D65/$F$46 -> 58.259276 | G65: =D65/$G$46 -> 32.120022 | H65: =D65/$H$46 -> 56.931257 | I65: =$C65/$I$46 -> 1788.5482 | J65: =$C65/$J$46 -> 1787.4227
A66: Horizontal G2 Center to G3 Center | B66: (p-u)x | C66: =C42-C43 -> 9428.7011 | D66: =C66/$D$46 -> 25.814377 | E66: =D66/$E$46 -> 18.253521 | F66: =D66/$F$46 -> 14.903937 | G66: =D66/$G$46 -> 8.2169714 | H66: =D66/$H$46 -> 14.564203 | I66: =$C66/$I$46 -> 457.54792 | J66: =$C66/$J$46 -> 457.26 | L66: =C63*0.0254 -> 573.39973 | M66: =L66/'Petrie & Dash Plateau Survey'!$R$7 -> 573.50782 | N66: 574.45 | S66: V G2 C to G3 C | T66: 24 * √3 * 365.25 | U66: =24*3^0.5*365.25 -> 15183.157 | V66: =F67/24-1 -> 4.3006526e-05
A67: Vertical G2 Center to G3 Center | B67: (p-u)y | C67: =D42-D43 -> 15183.81 | D67: =C67/$D$46 -> 41.571007 | E67: =D67/$E$46 -> 29.395141 | F67: =D67/$F$46 -> 24.001032 | G67: =D67/$G$46 -> 13.232463 | H67: =D67/$H$46 -> 23.453929 | I67: =$C67/$I$46 -> 736.82692 | J67: =$C67/$J$46 -> 736.36326 | L67: =C64*0.0254 -> 740.00443 | M67: =L67/'Petrie & Dash Plateau Survey'!$R$7 -> 740.14393 | N67: 739.19
C68: =(C66^2+C67^2)^0.5 -> 17873.122 | D68: =C68/$D$46 -> 48.933942 | E68: =D68/$E$46 -> 34.601522 | F68: =D68/$F$46 -> 28.252025 | G68: =D68/$G$46 -> 15.576158 | H68: =D68/$H$46 -> 27.60802 | I68: =$C68/$I$46 -> 867.33154 | J68: =$C68/$J$46 -> 866.78576
A69: Length of Verhart's Rectilinear Line AD | C69: 36406.608 | D69: =C69/D43 -> -0.83892174 | E69: =D69/$E$58 -> -0.011219231 | F69: =D69/$F$58 -> -0.013740696 | G69: =D69/$G$58 -> -0.024922865 | H69: =D69/$H$58 -> -0.014061221 | I69: =$C69/$I$58 -> 19.423698 | J69: =$C69/$J$58 -> 19.435929 | L69: =C66*0.0254 -> 239.48901 | M69: =L69/'Petrie & Dash Plateau Survey'!$R$7 -> 239.53415 | N69: 240.04
A70: Length of Verhart's Rectilinear Line BD | C70: 4622.9408 | D70: =C70/$D$58 -> 43.71646 | E70: =D70/$E$58 -> 0.58463745 | F70: =D70/$F$58 -> 0.71603172 | G70: =D70/$G$58 -> 1.2987379 | H70: =D70/$H$58 -> 0.73273438 | I70: =$C70/$I$58 -> 2.4664371 | J70: =$C70/$J$58 -> 2.4679901 | L70: =C67*0.0254 -> 385.66878 | M70: =L70/'Petrie & Dash Plateau Survey'!$R$7 -> 385.74148 | N70: 385.33
A72: Verhart "The Mathematical Layout of the Giza Plateau" p.4 (") | F72: Cooper (") | H72: Diff. (") | I72: Diff. (%) | N72: Possible Plateau Layout
A73: Distance between Khufu N. Base and Khafre S. Base: | D73: TC | E73: 22703.4 | F73: (h-m)y | G73: =D20-D24 -> 16548.993 | H73: =E73-G73 -> 6154.4068 | I73: =H73/G73 -> 0.3718901 | N73: Dimension | O73: Base Length Equation | P73: Length " | Q73: Petrie | R73: Diff " | S73: Petrie "
A74: Distance between the S. Base of Khafre and the S. base of Menkaure: | D74: ST | E74: 13009.7 | F74: (m-s)y | G74: =D24-D29 -> 13006.954 | H74: =E74-G74 -> 2.7462967 | I74: =H74/G74 -> 0.00021114065 | N74: G1 Base Length | O74: 365.25 × SC (24.83") | P74: =365.25*24.83 -> 9069.1575 | Q74: =M21 -> 9068.8 | R74: =P74-Q74 -> 0.3575 | S74: ± 0.8
A75: Distance between the N. Base of Khufu and the S. Base of Menkaure: | D75: SC | E75: 35713.2 | F75: (h-s)y | G75: =D20-D29 -> 29555.947 | H75: =E75-G75 -> 6157.2531 | I75: =H75/G75 -> 0.20832535 | N75: G2 Base Length | O75: 365.25 × 9/8 × RC(G2) | P75: =365.25*9/8*S80 -> 8476.25 | Q75: =M26 -> 8475.5 | R75: =P75-Q75 -> 0.75 | S75: ± 1.5
A76: Distance between the S. Base of Khufu and the N Base of Khafre: | D76: BX | E76: 5159.7 | F76: (g-k)y | G76: =D19-D22 -> 8070.1602 | H76: =E76-G76 -> -2910.4602 | I76: =H76/G76 -> -0.36064466 | N76: G3 Base Length | O76: 365.25 × √3/π × RC(G3) | P76: =365.25*3^0.5/PI()*S83 -> 4156.132 | Q76: =M31 -> 4153.9 | R76: =P76-Q76 -> 2.2320163 | S76: ± 3.0
A77: Distance between the S. Base of Khafre and the N. Base of Menkaure: | D77: GZ | E77: 8856.1 | F77: (m-q)y | G77: =D24-D27 -> 8873.618 | H77: =E77-G77 -> -17.517956 | I77: =H77/G77 -> -0.0019741616 | Q77: RSS | R77: =(R75^2+R76^2)^0.5 -> 2.3546543
A78: Distance between the W. side of Khufu and the W. side of Khafre: | D78: NM | E78: 12868.8 | F78: (g-n)x | G78: =C19-C25 -> 9956.5094 | H78: =E78-G78 -> 2912.2906 | I78: =H78/G78 -> 0.29250116 | N78: Hrz. SW G1 to NE G2 | O78: RC × √π × 120 | P78: =S80*PI()^0.5*120 -> 4387.5006 | Q78: =C48 -> 1484.5942 | R78: =P78-Q78 -> 2902.9064
A79: Distance between the W. side of Khafre and the W. side of Menkaure: | D79: NL | E79: 7289.5 | F79: (m-s)x | G79: =C24-C29 -> 7283.3334 | H79: =E79-G79 -> 6.1665891 | I79: =H79/G79 -> 0.00084667127 | N79: Vrt. SW G1 to NE G2 | O79: RC × √π × √2 × 100 | P79: =S80*PI()^0.5*2^0.5*100 -> 5170.7191 | Q79: =C49 -> 8070.1602 | R79: =P79-Q79 -> -2899.4411
A80: Distance between the E. side of Khufu and the W. side of Menkaure: | D80: WC | E80: 29227.2 | F80: (e-s)x | G80: =C17-C29 -> 26305.759 | H80: =E80-G80 -> 2921.4414 | I80: =H80/G80 -> 0.1110571 | Q80: RSS | R80: =(R75^2+R78^2+R79^2)^0.5 -> 4102.8801 | S80: 20.628185
A81: Distance between the W. side of Khufu and the E. side of Khafre: | D81: HR | E81: 4393.9 | F81: (g-k)x | G81: =C19-C22 -> 1484.5942 | H81: =E81-G81 -> 2909.3058 | I81: =H81/G81 -> 1.9596639 | N81: Hrz. NE G1 to SW G3 | O81: RC × √2 × 1000 | P81: =S83*2^0.5*1000 -> 29187.934 | Q81: =C57 -> 26305.759 | R81: =P81-Q81 -> 2882.1752
A82: Distance between the W. side of Khafre and the E. side of Menkaure: | D82: NK | E82: 3135.9 | F82: (m-q)x | G82: =C24-C27 -> 3110.3588 | H82: =E82-G82 -> 25.541183 | I82: =H82/G82 -> 0.0082116516 | N82: Vrt. NE G1 to SW G3 | O82: RC × √3 × 1000 | P82: =S83*3^0.5*1000 -> 35747.772 | Q82: =C58 -> 38624.563 | R82: =P82-Q82 -> -2876.7903
Q83: RSS | R83: =R76^2+R81^2+R82^2 -> 16582861 | S83: 20.638986
C84: X" | D84: Y" | N84: Hrz. SW G2 to NE G3 | O84: Calculated from above | P84: =P81-P74-P75-P76-P78 -> 3098.8937 | Q84: =C51 -> 3110.3588 | R84: =P84-C51 -> -11.465165
A85: Center of casing of 1st pyramid | B85: j | C85: ='Petrie & Dash Plateau Survey'!M74 -> -11369.272 | D85: ='Petrie & Dash Plateau Survey'!N74 -> -14262.873 | N85: Vrt. SW G2 to NE G4 | O85: Calculated from above | P85: =P82-P74-P75-P76-P79 -> 8875.5136 | Q85: =C52 -> 8873.618 | R85: =P85-C52 -> 1.8956752
A86: Center of casing of 2nd pyramid | B86: p | C86: ='Petrie & Dash Plateau Survey'!M79 -> -24515.364 | D86: ='Petrie & Dash Plateau Survey'!N79 -> -28213.095 | R86: =(R84^2+R85^2)^0.5 -> 11.620825
A87: Center of casing of 3rd pyramid | B87: u | C87: ='Petrie & Dash Plateau Survey'!M84 -> -33944.065 | D87: ='Petrie & Dash Plateau Survey'!N84 -> -43396.906
C88: " | D88: m | E88: ° | F88: ° | G88: m
A89: Length Center G1 to G2 | C89: =((C85-C86)^2+(D85-D86)^2)^0.5 -> 19168.422 | D89: =C89*0.0254 -> 486.87793 | E89: =DEGREES(ATAN((D85-D86)/(C85-C86))) -> 46.699854 | F89: =E89-45 -> 1.6998544 | G89: =D89*COS(F89/180*PI()) -> 486.66367 | O89: Petrie's Cubits Across the Plateau and Elsewhere, Chapter 20
A90: Length Center G2 to G3 | C90: =((C86-C87)^2+(D86-D87)^2)^0.5 -> 17873.122 | D90: =C90*0.0254 -> 453.97731 | E90: =DEGREES(ATAN((D86-D87)/(C86-C87))) -> 58.160931 | F90: =E90-45 -> 13.160931 | G90: =D90*COS(F90/180*PI()) -> 442.05331 | O90: G1 | P90: 20.62 | Q90: ± 0.005
A91: Length Center G1 to G3 | C91: =((C87-C85)^2+(D87-D85)^2)^0.5 -> 36856.656 | D91: =C91*0.0254 -> 936.15907 | E91: =DEGREES(ATAN((D87-D85)/(C87-C85))) -> 52.229332 | F91: =E91-45 -> 7.2293324 | G91: =D91*COS(F91/180*PI()) -> 928.71699 | O91: G2 | P91: 20.64 | Q91: ± 0.3
O92: Granite Temple | P92: 20.68 | Q92: ± 0.2
A93: Aeragram 16_2_Gdash.pdf (Pages 12-13) | O93: G3 | P93: 20.71 | Q93: ± 0.2
C94: N (m) | D94: E (m) | O94: Peribolus Walls | P94: 20.69 | Q94: ± 0.2
A95: NW | C95: 100115.84 | D95: 499883.9 | O95: Dashur | P95: 20.58 | Q95: ± 0.2
A96: SW | C96: 99884.209 | D96: 499884.41 | O96: Sakkara | P96: 20.51 | Q96: ± 0.2
A97: SE | C97: 99884.1 | D97: 500116.17 | O97: 4th - 6th Dynasty | P97: =AVERAGE(P90:P96) -> 20.632857 | Q97: ± 0.2
A98: NE | C98: 100116.08 | D98: 500115.82 | O98: Average variation in standard | P98: 0.6
C100: m | D100: m | E100: " | F100: Petrie (P20)"
A101: Socket-to-socket length W | C101: =C95-100000 -> 115.837 | D101: =D95-500000 -> -116.096 | E101: =((C95-C96)^2+(D95-D96)^2)^0.5/0.0254 -> 9119.2346 | F101: 9119.2
A102: Socket-to-socket length S | C102: =C96-100000 -> -115.791 | D102: =D96-500000 -> -115.587 | E102: =((C96-C97)^2+(D96-D97)^2)^0.5/0.0254 -> 9124.4498 | F102: 9123.9
A103: Socket-to-socket length E | C103: =C97-100000 -> -115.9 | D103: =D97-500000 -> 116.174 | E103: =((C97-C98)^2+(D97-D98)^2)^0.5/0.0254 -> 9132.9635 | F103: 9130.8
A104: Socket-to-socket length N | C104: =C98-100000 -> 116.077 | D104: =D98-500000 -> 115.818 | E104: =((C98-C95)^2+(D98-D95)^2)^0.5/0.0254 -> 9130.4773 | F104: 9129.8
A105: Average | E105: =AVERAGE(E101:E104) -> 9126.7813 | F105: =AVERAGE(F101:F104) -> 9125.925

Sheet Dash GP Base Regression
A1: THE 2015 SURVEY OF THE BASE OF THE GREAT PYRAMID By GLEN DASH and JOEL PAULSON | P1: Dash | S1: Cooper
A2: https://www.academia.edu/36742756/The_2015_Survey_of_the_Base_of_the_Great_Pyramid | O2: Equation for Side | P2: Slope | R2: Intercept | S2: Slope | U2: Intercept
O3: North Northing = | P3: 0.000727 | Q3: * Easting + | R3: 99751.719 | S3: =E35 -> 0.00072820116 | T3: * Easting + | U3: =E34 -> 99751.094
A4: A Supplement to THE 2015 SURVEY OF THE BASE OF THE GREAT PYRAMID | O4: East Easting = | P4: -0.001501 | Q4: * Northing + | R4: 500265.24 | S4: =E87 -> -0.0014791473 | T4: * Northing + | U4: =E86 -> 500263.06
A5: THE 2015 SURVEY OF THE BASE OF THE GREAT PYRAMID | O5: South Northing = | P5: 0.001043 | Q5: * Easting + | R5: 99363.153 | S5: =E115 -> 0.0010437758 | T5: * Easting + | U5: =E114 -> 99362.936
A6: By Glen Dash and Joel Paulson | O6: West Easting = | P6: 0.001264 | Q6: * Northing + | R6: 500011.18 | S6: =E54 -> -0.0012658391 | T6: * Northing + | U6: =E53 -> 500011.37
A7: http://www.dashfoundation.org/GDFS2015-coordinates-casing.pdf | O7: Side | P7: Length (M) | Q7: Length (") | R7: Orientation | S7: Length (M) | T7: Length (") | U7: Orientation
O8: North | P8: 230.32906 | Q8: 9068.0732 | R8: 0.0017309286 | S8: =((T14-T15)^2+(S14-S15)^2)^0.5 -> 230.33231 | T8: =S8/0.0254 -> 9068.2014 | U8: =DEGREES(ATAN((S14-S15)/(T14-T15)))/24 -> 0.0017384519
A9: Where, Precisely, are the Three Pyramids of Giza? Glen Dash | O9: East | P9: 230.33326 | Q9: 9068.2386 | R9: 0.003586171 | S9: =((T15-T16)^2+(S15-S16)^2)^0.5 -> 230.33377 | T9: =S9/0.0254 -> 9068.2587 | U9: =ABS(DEGREES(ATAN((T15-T16)/(S15-S16)))/24) -> 0.0035312015
A10: https://www.academia.edu/32879091/Where_Precisely_are_the_Three_Pyramids_of_Giza | O10: South | P10: 230.38413 | Q10: 9070.2412 | R10: 0.0024884259 | S10: =((T16-T17)^2+(S16-S17)^2)^0.5 -> 230.38142 | T10: =S10/0.0254 -> 9070.1346 | U10: =DEGREES(ATAN((S16-S17)/(T16-T17)))/24 -> 0.0024918304
O11: West | P11: 230.40718 | Q11: 9071.149 | R11: 0.0030208333 | S11: =((T17-T14)^2+(S17-S14)^2)^0.5 -> 230.40644 | T11: =S11/0.0254 -> 9071.1198 | U11: =ABS(DEGREES(ATAN((T17-T14)/(S17-S14)))/24) -> 0.0030219665
A12: How to Use the Data Analysis Toolpak in Excel - 13 Features | O12: Average | P12: 230.36341 | Q12: 9069.4255 | R12: =SUM(R8:R11)/4 -> 0.0027065897 | S12: =AVERAGE(S8:S11) -> 230.36349 | T12: =AVERAGE(T8:T11) -> 9069.4286 | U12: =SUM(U8:U11)/4 -> 0.0026958626
A13: https://statisticsbyjim.com/regression/regression-analysis-excel/ | O13: Corner | P13: Northing | Q13: Easting | R13: Orientation | S13: Northing | T13: Easting | U13: Orientation
A14: https://support.microsoft.com/en-us/office/linest-function-84d7d0d9-6e50-4101-977a-fa7abf772b6d | O14: NW | P14: 100115.11 | Q14: 499884.65 | R14: =DEGREES(ATAN(0.000727))/24 -> 0.0017355843 | S14: =(E35*E53+E34)/(1-E35*E54) -> 100115.11 | T14: =E54*S14+E53 -> 499884.64 | U14: =DEGREES(ATAN(E35))/24 -> 0.0017384519
O15: NE | P15: 100115.28 | Q15: 500114.97 | R15: =DEGREES(ATAN(0.001501))/24 -> 0.0035833709 | S15: =(E35*E86+E34)/(1-E35*E87) -> 100115.28 | T15: =E87*S15+E86 -> 500114.98 | U15: =ABS(DEGREES(ATAN(E87)))/24 -> 0.0035312015
A16: Microsoft® Excel® for Microsoft 365 MSO (Version 2407 Build 16.0.17830.20056) 64-bit | O16: SE | P16: 99884.945 | Q16: 500115.32 | R16: =DEGREES(ATAN(0.001043))/24 -> 0.0024899782 | S16: =E115*T16+E114 -> 99884.945 | T16: =(E87*E114+E86)/(1-E87*E115) -> 500115.32 | U16: =ABS(DEGREES(ATAN(E115)))/24 -> 0.0024918304
O17: SW | P17: 99884.704 | Q17: 499884.94 | R17: =DEGREES(ATAN(0.001264))/24 -> 0.0030175761 | S17: =E115*T17+E114 -> 99884.704 | T17: =(E54*E114+E53)/(1-E54*E115) -> 499884.94 | U17: =ABS(DEGREES(ATAN(E54)))/24 -> 0.0030219665
A18: North Side | D18: SUMMARY OUTPUT
A19: Northing | B19: Easting | Q19: Simulating Excel LINEST Function
A20: 100115.18 | B20: 499984.29 | D20: Regression Statistics | R20: Average of Northings | S20: =AVERAGE(A20:A35) -> 100115.2 | T20: =$S$23*B20+$S$22 -> 100115.18 | U20: =(T20-A20)^2 -> 3.565296e-06
A21: 100115.19 | B21: 499985 | D21: Multiple R | E21: 0.96626569 | R21: Average of Eastings | S21: =AVERAGE(B20:B35) -> 500005.51 | T21: =$S$23*B21+$S$22 -> 100115.18 | U21: =(T21-A21)^2 -> 5.6121217e-06
A22: 100115.19 | B22: 499987.64 | D22: R Square | E22: 0.93366939 | R22: Intercept | S22: =S20-S23*S21 -> 99751.094 | T22: =$S$23*B22+$S$22 -> 100115.19 | U22: =(T22-A22)^2 -> 1.1893706e-05
A23: 100115.19 | B23: 499987.98 | D23: Adjusted R Square | E23: 0.92893149 | R23: Slope | S23: 0.00072820116 | T23: =$S$23*B23+$S$22 -> 100115.19 | U23: =(T23-A23)^2 -> 1.0237955e-05
A24: 100115.19 | B24: 499988.45 | D24: Standard Error | E24: 0.0036642754 | R24: RSS | S24: =SUM(U20:U35) -> 0.0001879768 | T24: =$S$23*B24+$S$22 -> 100115.19 | U24: =(T24-A24)^2 -> 7.401827e-07
A25: 100115.18 | B25: 499994.7 | D25: Observations | E25: 16 | T25: =$S$23*B25+$S$22 -> 100115.19 | U25: =(T25-A25)^2 -> 7.5595366e-05
A26: 100115.19 | B26: 499998.09 | O26: Using Excel Function | T26: =$S$23*B26+$S$22 -> 100115.19 | U26: =(T26-A26)^2 -> 1.3444878e-06
A27: 100115.19 | B27: 499999.27 | D27: ANOVA | O27: Intercept | P27: =INTERCEPT(A20:A35,B20:B35) -> 99751.094 | T27: =$S$23*B27+$S$22 -> 100115.19 | U27: =(T27-A27)^2 -> 1.0424052e-06
A28: 100115.2 | B28: 500000.47 | E28: df | F28: SS | G28: MS | H28: F | I28: Significance F | O28: Slope | P28: =SLOPE(A20:A35,B20:B35) -> 0.00072820116 | T28: =$S$23*B28+$S$22 -> 100115.19 | U28: =(T28-A28)^2 -> 4.4317667e-06
A29: 100115.2 | B29: 500012.55 | D29: Regression | E29: 1 | F29: 0.0026459607 | G29: 0.0026459607 | H29: 197.06394 | I29: 1.2193225e-09 | O29: Using Excel LINEST Function | T29: =$S$23*B29+$S$22 -> 100115.2 | U29: =(T29-A29)^2 -> 4.771572e-07
A30: 100115.2 | B30: 500013.16 | D30: Residual | E30: 14 | F30: 0.0001879768 | G30: 1.3426914e-05 | O30: {=LINEST(A20:A35,B20:B35,TRUE,TRUE)} -> 0.00072820116 | P30: 99751.094 | T30: =$S$23*B30+$S$22 -> 100115.2 | U30: =(T30-A30)^2 -> 1.7631529e-08
A31: 100115.2 | B31: 500014.16 | D31: Total | E31: 15 | F31: 0.0028339375 | O31: 5.1873766e-05 | P31: 25.937169 | T31: =$S$23*B31+$S$22 -> 100115.2 | U31: =(T31-A31)^2 -> 4.7143087e-05
A32: 100115.2 | B32: 500016.46 | O32: 0.93366939 | P32: 0.0036642754 | T32: =$S$23*B32+$S$22 -> 100115.21 | U32: =(T32-A32)^2 -> 6.4416075e-06
A33: 100115.22 | B33: 500034.94 | E33: Coefficients | F33: Standard Error | G33: t Stat | H33: P-value | I33: Lower 95% | J33: Upper 95% | K33: Lower 95.0% | L33: Upper 95.0% | O33: 197.06394 | P33: 14 | T33: =$S$23*B33+$S$22 -> 100115.22 | U33: =(T33-A33)^2 -> 4.013427e-06
A34: 100115.22 | B34: 500035.39 | D34: Intercept | E34: 99751.094 | F34: 25.937169 | G34: 3845.8744 | H34: 1.4259015e-43 | I34: 99695.464 | J34: 99806.724 | K34: 99695.464 | L34: 99806.724 | O34: 0.0026459607 | P34: 0.0001879768 | T34: =$S$23*B34+$S$22 -> 100115.22 | U34: =(T34-A34)^2 -> 2.815174e-06
A35: 100115.22 | B35: 500035.56 | D35: Easting | E35: 0.00072820116 | F35: 5.1873766e-05 | G35: 14.037947 | H35: 1.2193225e-09 | I35: 0.000616943 | J35: 0.00083945932 | K35: 0.000616943 | L35: 0.00083945932 | T35: =$S$23*B35+$S$22 -> 100115.22 | U35: =(T35-A35)^2 -> 1.2605431e-05
A37: West Side | D37: SUMMARY OUTPUT
A38: Northing | B38: Easting
A39: 100016.61 | B39: 499884.78 | D39: Regression Statistics
A40: 100015.96 | B40: 499884.78 | D40: Multiple R | E40: 0.94324219
A41: 100013.72 | B41: 499884.79 | D41: R Square | E41: 0.88970584
A42: 100010.02 | B42: 499884.77 | D42: Adjusted R Square | E42: 0.88576676
A43: 100009.69 | B43: 499884.77 | D43: Standard Error | E43: 0.0078438024
A44: 100009.37 | B44: 499884.77 | D44: Observations | E44: 30
A45: 100009.09 | B45: 499884.77
A46: 100008.52 | B46: 499884.77 | D46: ANOVA
A47: 100005.7 | B47: 499884.79 | E47: df | F47: SS | G47: MS | H47: F | I47: Significance F
A48: 99999.352 | B48: 499884.78 | D48: Regression | E48: 1 | F48: 0.013896493 | G48: 0.013896493 | H48: 225.86656 | I48: 6.2204062e-15
A49: 99998.932 | B49: 499884.78 | D49: Residual | E49: 28 | F49: 0.0017227066 | G49: 6.1525236e-05 | O49: Using Excel Function
A50: 99998.484 | B50: 499884.78 | D50: Total | E50: 29 | F50: 0.0156192 | O50: Intercept | P50: =INTERCEPT(B39:B68,A39:A68) -> 500011.37
A51: 99997.989 | B51: 499884.78 | O51: Slope | P51: =SLOPE(B39:B68,A39:A68) -> -0.0012658391
A52: 99989.276 | B52: 499884.79 | E52: Coefficients | F52: Standard Error | G52: t Stat | H52: P-value | I52: Lower 95% | J52: Upper 95% | K52: Lower 95.0% | L52: Upper 95.0%
A53: 99982.202 | B53: 499884.82 | D53: Intercept | E53: 500011.37 | F53: 8.4217953 | G53: 59371.115 | H53: 5.9510141e-115 | I53: 499994.12 | J53: 500028.63 | K53: 499994.12 | L53: 500028.63
A54: 99980.772 | B54: 499884.82 | D54: Northing | E54: -0.0012658391 | F54: 8.4227231e-05 | G54: -15.028858 | H54: 6.2204062e-15 | I54: -0.0014383707 | J54: -0.0010933074 | K54: -0.0014383707 | L54: -0.0010933074
A55: 99979.261 | B55: 499884.82
A56: 99978.771 | B56: 499884.82
A57: 99977.625 | B57: 499884.83
A58: 99976.785 | B58: 499884.82
A59: 99975.988 | B59: 499884.82
A60: 99974.146 | B60: 499884.83
A61: 99972.876 | B61: 499884.83
A62: 99971.969 | B62: 499884.83
A63: 99971.007 | B63: 499884.83
A64: 99970.53 | B64: 499884.83
A65: 99969.802 | B65: 499884.82
A66: 99969.185 | B66: 499884.83
... A68: 99967.187 | B68: 499884.83
A70: East Side | D70: SUMMARY OUTPUT
A71: Northing | B71: Easting
A72: 99972.509 | B72: 500115.19 | D72: Regression Statistics
A73: 99972.74 | B73: 500115.19 | D73: Multiple R | E73: 0.85168874
A74: 99973.213 | B74: 500115.19 | D74: R Square | E74: 0.72537371
A75: 99973.471 | B75: 500115.19 | D75: Adjusted R Square | E75: 0.71343344
A76: 99973.734 | B76: 500115.19 | D76: Standard Error | E76: 0.0046654733
A77: 99975.483 | B77: 500115.18 | D77: Observations | E77: 25
A78: 99975.912 | B78: 500115.18
A79: 99979.168 | B79: 500115.19 | D79: ANOVA
A80: 99980.022 | B80: 500115.17 | E80: df | F80: SS | G80: MS | H80: F | I80: Significance F
A81: 99980.494 | B81: 500115.17 | D81: Regression | E81: 1 | F81: 0.0013223273 | G81: 0.0013223273 | H81: 60.750176 | I81: 6.6872419e-08
A82: 99980.734 | B82: 500115.17 | D82: Residual | E82: 23 | F82: 0.00050063274 | G82: 2.1766641e-05 | O82: Using Excel Function
A83: 99980.926 | B83: 500115.18 | D83: Total | E83: 24 | F83: 0.00182296 | O83: Intercept | P83: =INTERCEPT(B72:B96,A72:A96) -> 500263.06
A84: 99981.186 | B84: 500115.18 | O84: Slope | P84: =SLOPE(B72:B96,A72:A96) -> -0.0014791473
A85: 99981.556 | B85: 500115.17 | E85: Coefficients | F85: Standard Error | G85: t Stat | H85: P-value | I85: Lower 95% | J85: Upper 95% | K85: Lower 95.0% | L85: Upper 95.0%
A86: 99982.42 | B86: 500115.19 | D86: Intercept | E86: 500263.06 | F86: 18.973781 | G86: 26366.019 | H86: 1.5566896e-87 | I86: 500223.81 | J86: 500302.31 | K86: 500223.81 | L86: 500302.31
A87: 99983.043 | B87: 500115.17 | D87: Northing | E87: -0.0014791473 | F87: 0.00018977441 | G87: -7.7942399 | H87: 6.6872419e-08 | I87: -0.0018717256 | J87: -0.001086569 | K87: -0.0018717256 | L87: -0.001086569
A88: 99983.283 | B88: 500115.17
A89: 99983.465 | B89: 500115.17
A90: 99983.82 | B90: 500115.17
A91: 99984.264 | B91: 500115.17
A92: 99986.361 | B92: 500115.16
A93: 99986.772 | B93: 500115.17
A94: 99987.236 | B94: 500115.16
A95: 99987.831 | B95: 500115.16
A96: 99988.143 | B96: 500115.16
A98: South Side | D98: SUMMARY OUTPUT
A99: Adjusted Northing | B99: Easting
A100: 99884.808 | B100: 499986.62 | D100: Regression Statistics
A101: 99884.81 | B101: 499986.2 | D101: Multiple R | E101: 0.96385232
A102: 99884.807 | B102: 499983.87 | D102: R Square | E102: 0.92901129
A103: 99884.801 | B103: 499974.49 | D103: Adjusted R Square | E103: 0.92255778
A104: 99884.791 | B104: 499969.74 | D104: Standard Error | E104: 0.0034161305
...

Sheet Rev Eng Equations Int
A1: The data in this worksheet are the result of reverse engineering the internal dimensions of the Great Pyramid using Petrie's Inductive Metrology or derivatives thereof.
A3: B" = Petrie's survey inch calibrated by the standard in Trafalgar Square London c. 1880 | B3: 1 | D3: B"
A4: Year Line (Y) | B4: 365.25 | D4: B"
A5: Year Circle (YC = 365.25/π) | B5: =B4/PI() -> 116.26269 | D5: B"
A6: Year Square (YS = 365.25/(2 × √π)) | B6: =B4/(2 * PI()^0.5) -> 103.03512 | D6: B"
A7: Casing Angle (A = atan(4/π)) | B7: =DEGREES(ATAN(4/PI())) -> 51.853974 | D7: °
A8: Passage Angle (P = asin(√(π)/4)) | B8: =DEGREES(ASIN(PI()^0.5/4)) -> 26.302702 | D8: °
A9: Royal Cubit* (RC = YS/5) (Based on top course of KC walls with 7 v 28 gaps in 1st course) | B9: =B4/(10*PI()^0.5) -> 20.607025 | D9: B"
A10: * RC value only deemed applicable to inside of Great Pyramid
A11: Remen (R = RC/√2) | B11: =B9/2^0.5 -> 14.571367 | D11: B"
A12: Arc Length 6 (ACL6) divided by 4 (See Pyramid Paper 4) | B12: 1719.6348 | D12: B"
A13: Number of planes in Queen's Chamber (1 floor, 4 walls and 2 roofs) × depth in RC = 7 × 11 | B13: 77
A15: "Length" refers to a NS dimension
A16: "Height" refers to a vertical dimension
A17: "Depth" refers to an EW dimension
A19: Pyramid Internal Feature | B19: Equation | C19: Length " | D19: Length " by Equation | E19: Difference | F19: % Difference
A20: Queen's Time Line from GG N. wall to QC center (QTL = QPL"+QPH"+5 RC+4.5 RC ) | B20: Arclength 6 ÷ 4 | C20: 1719.4718 | D20: =B12 -> 1719.6348 | E20: =C20-D20 -> -0.1630073 | F20: =C20/D20-1 -> -9.4791809e-05 | G20: =F20^2 -> 8.985487e-09
A21: Length Queen's Passage Low (QPL) | B21: Ys × 77/3 × tanP | C21: 1307 | D21: =B6*77/3*TAN(B8/180*PI()) -> 1307.1822 | E21: =C21-D21 -> -0.18215207 | F21: =C21/D21-1 -> -0.00013934712 | G21: =F21^2 -> 1.941762e-08
A22: Length Queen's Passage High (QPH) | B22: QTL-0.95Ys-QPL | C22: 216.9 | D22: 216.68594 | E22: =C22-D22 -> 0.21405971 | F22: =C22/D22-1 -> 0.00098788003 | G22: =F22^2 -> 9.7590695e-07
A23: Length Queen's Chamber (QCL) | B23: Ys × 2 | C23: 205.85 | D23: =B6*2 -> 206.07025 | E23: =C23-D23 -> -0.22024539 | F23: =C23/D23-1 -> -0.0010687879 | G23: =F23^2 -> 1.1423076e-06
A24: Depth Queen's Chamber (QCD) | B24: Ys/5 × 11 or RC × 11 | C24: 226.47 | D24: =B6*11/5 -> 226.67727 | E24: =C24-D24 -> -0.20726993 | F24: =C24/D24-1 -> -0.00091438339 | G24: =F24^2 -> 8.3609698e-07
A25: Height Queen's Chamber Walls (QCWH) | B25: Ys × 77/43 | C25: 184.47 | D25: =B6*77/43 -> 184.50475 | E25: =C25-D25 -> -0.034754594 | F25: =C25/D25-1 -> -0.00018836693 | G25: =F25^2 -> 3.54821e-08
A26: Height Queen's Chamber Apex (QCAH) | B26: Ys × 77/16 × tanP | C26: 245.1 | D26: =B6*77/16*TAN(B8/180*PI()) -> 245.09665 | E26: =C26-D26 -> 0.0033464871 | F26: =C26/D26-1 -> 1.3653745e-05 | G26: =F26^2 -> 1.8642474e-10
A27: Queen's Chamber Roof Angle | B27: (QCAH - QCWH)/(QCL/2) | C27: =((30+48/60)+(30+14/60)+(30+33/60)+(30+10/60))/4 -> 30.4375 | D27: =DEGREES(ATAN((D26-D25)/(D23/2))) -> 30.458523 | E27: =C27-D27 -> -0.02102255 | F27: =C27/D27-1 -> -0.00069020256 | G27: =F27^2 -> 4.7637958e-07
A28: Uncertainty (RSS) | G28: =SUM(G20:G27)^0.5 -> 0.0018694285
A29: Location | B29: Equation | C29: Length " | D29: Length " by Equation | E29: Difference | F29: % Difference
A30: NSP | B30: R*15 | C30: 218 | D30: =B11*15 -> 218.5705 | E30: =C30-D30 -> -0.57050187 | F30: =C30/D30-1 -> -0.0026101504 | G30: =F30^2 -> 6.8128849e-06
A31: Recess | B31: R*15/3 | C31: 73 | D31: =B11*15/3 -> 72.856834 | E31: =C31-D31 -> 0.14316604 | F31: =C31/D31-1 -> 0.0019650324 | G31: =F31^2 -> 3.8613525e-06
A32: MSP | B32: R*15/4 | C32: 55 | D32: =B11*15/4 -> 54.642625 | E32: =C32-D32 -> 0.35737453 | F32: =C32/D32-1 -> 0.0065402152 | G32: =F32^2 -> 4.2774415e-05
A33: NSS | B33: R*19*5/4 | C33: 346 | D33: =SUM(D30:D32) -> 346.06996 | E33: =C33-D33 -> -0.069961302 | F33: =C33/D33-1 -> -0.00020215942 | G33: =F33^2 -> 4.086843e-08
A34: SC | B34: R*19*3/2/tanA | C34: 326 | D34: =B11*19*3/2/TAN(B7/180*PI()) -> 326.16325 | E34: =C34-D34 -> -0.16325442 | F34: =C34/D34-1 -> -0.00050052976 | G34: =F34^2 -> 2.5053004e-07
A35: Depth SC | B35: R*19*2 | C35: 553.8 | D35: =B11*19*2 -> 553.71194 | E35: =C35-D35 -> 0.088061917 | F35: =C35/D35-1 -> 0.00015903922 | G35: =F35^2 -> 2.5293475e-08
A36: SSP | B36: R*19*7/3 | C36: 646 | D36: =B11*19*7/3 -> 645.99726 | E36: =C36-D36 -> 0.002738903 | F36: =C36/D36-1 -> 4.2398059e-06 | G36: =F36^2 -> 1.7975954e-11
A37: SS | B37: R*19*(5/4+3/2/tanA+7/3) | C37: 1318 | D37: =B11*19*(5/4+3/2/TAN(B7/180*PI())+7/3) -> 1318.2305 | E37: =C37-D37 -> -0.23047682 | F37: =C37/D37-1 -> -0.00017483803 | G37: =F37^2 -> 3.0568336e-08
A38: Uncertainty (RSS) | G38: =SUM(G30:G37)^0.5 -> 0.0073345709
A39: Location | B39: Equation | C39: Length " | D39: Length " by Equation | E39: Difference | F39: % Difference
A40: NSP and MSP Height | B40: R/19*47 | C40: 35.75 | D40: =$B$11/19*47 -> 36.04496 | E40: =C40-D40 -> -0.29495996 | F40: =C40/D40-1 -> -0.0081831124 | G40: =F40^2 -> 6.6963328e-05
A41: NSP and MSP Width | B41: R/19*43 | C41: 32.455556 | D41: =$B$11/19*43 -> 32.977304 | E41: =C41-D41 -> -0.52174824 | F41: =C41/D41-1 -> -0.015821434 | G41: =F41^2 -> 0.00025031777
A42: SSP Height | B42: R/19*37 | C42: 28.775 | D42: =$B$11/19*37 -> 28.37582 | E42: =C42-D42 -> 0.39918046 | F42: =C42/D42-1 -> 0.014067627 | G42: =F42^2 -> 0.00019789814
A43: SSP Width | B43: R/19*37 | C43: 28.65 | D43: =$B$11/19*37 -> 28.37582 | E43: =C43-D43 -> 0.27418046 | F43: =C43/D43-1 -> 0.0096624684 | G43: =F43^2 -> 9.3363295e-05
A44: Height and Width of Well Shaft Using Edgar's Measure but Alternatives Exist | B44: R/19*41 | C44: 31.25 | D44: =$B$11/19*41 -> 31.443476 | E44: =C44-D44 -> -0.19347571 | F44: =C44/D44-1 -> -0.0061531273 | G44: =F44^2 -> 3.7860975e-05
A45: Uncertainty (RSS) | G45: =SUM(G30:G44)^0.5 -> 0.089636881
A47: Year Line | D47: 365.25 | H47: 365.2422
A48: Cubit Length | D48: =D47/10/PI()^0.5 -> 20.607025 | H48: =0.523963/0.0254 -> 20.628465
B49: Formula | C49: Measured Dimension B" | D49: Theoretical Dimension B" | E49: Diff B" | F49: Diff % | G49: Diff2 B" | H49: Theoretical Dimension P" | I49: Diff P" | J49: Diff % | K49: Diff2 P"
A50: Passage Offset from Pyramid centerline to East | B50: Y/tanA (P35) | C50: 287 | D50: =D47/TAN(B7/180*PI()) -> 286.86668 | E50: =C50-D50 -> 0.13332082 | F50: =C50/D50-1 -> 0.00046474836 | G50: =F50^2 -> 2.1599104e-07 | H50: =H47/TAN(B7/180*PI()) -> 286.86055 | I50: =C50-H50 -> 0.13944692 | J50: =C50/H50-1 -> 0.00048611398 | K50: =J50^2 -> 2.363068e-07
A52: Length Great Step | B52: RC*3 (P47) | C52: 61.32 | D52: =D48*3 -> 61.821074 | E52: =C52-D52 -> -0.50107362 | F52: =C52/D52-1 -> -0.0081052235 | G52: =F52^2 -> 6.5694648e-05 | H52: =H48*3 -> 61.885394 | I52: =C52-H52 -> -0.5653937 | J52: =C52/H52-1 -> -0.0091361413 | K52: =J52^2 -> 8.3469078e-05
A53: Length 1st Low Passage (1LP) | B53: Y/7 (P47) | C53: 52.02 | D53: =D47/7 -> 52.178571 | E53: =C53-D53 -> -0.15857143 | F53: =C53/D53-1 -> -0.0030390144 | G53: =F53^2 -> 9.2356084e-06 | H53: =H47/7 -> 52.177457 | I53: =C53-H53 -> -0.15745714 | J53: =C53/H53-1 -> -0.0030177236 | K53: =J53^2 -> 9.1066556e-06
A54: Length Antechamber (AC) | B54: Y/π (P48) | C54: 116.3 | D54: =D47/PI() -> 116.26269 | E54: =C54-D54 -> 0.037314071 | F54: =C54/D54-1 -> 0.00032094624 | G54: =F54^2 -> 1.0300649e-07 | H54: =H47/PI() -> 116.2602 | I54: =C54-H54 -> 0.039796888 | J54: =C54/H54-1 -> 0.00034230878 | K54: =J54^2 -> 1.171753e-07
A55: Length and Height of Year Square in Antechamber (P | B55: RC*5 (Avg. P47, P154) | C55: =AVERAGE(103.2,AVERAGE(102.3,103.36)) -> 103.015 | D55: =D48*5 -> 103.03512 | E55: =C55-D55 -> -0.020122695 | F55: =C55/D55-1 -> -0.00019529938 | G55: =F55^2 -> 3.8141847e-08 | H55: =H48*5 -> 103.14232 | I55: =C55-H55 -> -0.12732283 | J55: =C55/H55-1 -> -0.0012344383 | K55: =J55^2 -> 1.5238379e-06
A56: Length 2nd Low Passage (2LP) (Residual) | B56: Y*(1-1/√π-1/2π) (P47) | C56: 100.8 | D56: =D47*(1-1/PI()^0.5-1/2/PI()) -> 101.04841 | E56: =C56-D56 -> -0.24841164 | F56: =C56/D56-1 -> -0.0024583429 | G56: =F56^2 -> 6.0434498e-06 | H56: =H47*(1-1/PI()^0.5-1/2/PI()) -> 101.04625 | I56: =C56-H56 -> -0.24625373 | J56: =C56/H56-1 -> -0.0024370397 | K56: =J56^2 -> 5.9391625e-06
A57: Depth LP1 & LP2 | B57: RC*12/6 (P30) | C57: 41.53 | D57: =D48*12/6 -> 41.214049 | E57: =C57-D57 -> 0.31595092 | F57: =C57/D57-1 -> 0.0076660976 | G57: =F57^2 -> 5.8769052e-05 | H57: =H48*12/6 -> 41.256929 | I57: =C57-H57 -> 0.27307087 | J57: =C57/H57-1 -> 0.006618788 | K57: =J57^2 -> 4.3808354e-05
A58: Depth AC Lower | B58: RC*14/6 (P48) | C58: 48 | D58: =D48*14/6 -> 48.083057 | E58: =C58-D58 -> -0.083057258 | F58: =C58/D58-1 -> -0.0017273706 | G58: =F58^2 -> 2.9838091e-06 | H58: =H48*14/6 -> 48.133084 | I58: =C58-H58 -> -0.13308399 | J58: =C58/H58-1 -> -0.0027649172 | K58: =J58^2 -> 7.6447669e-06
A59: Depth AC Upper | B59: RC*19/6 (P48) | C59: 65.2 | D59: =D48*19/6 -> 65.255578 | E59: =C59-D59 -> -0.055577707 | F59: =C59/D59-1 -> -0.00085169282 | G59: =F59^2 -> 7.2538066e-07 | H59: =H48*19/6 -> 65.323471 | I59: =C59-H59 -> -0.12347113 | J59: =C59/H59-1 -> -0.0018901495 | K59: =J59^2 -> 3.5726653e-06
A60: Height AC Floor to Ceiling | B60: Y/π*9/7 (P49) | C60: 149.35 | D60: =D47/PI()*9/7 -> 149.4806 | E60: =C60-D60 -> -0.13059619 | F60: =C60/D60-1 -> -0.00087366653 | G60: =F60^2 -> 7.6329321e-07 | H60: =H47/PI()*9/7 -> 149.4774 | I60: =C60-H60 -> -0.127404 | J60: =C60/H60-1 -> -0.0008523295 | K60: =J60^2 -> 7.2646557e-07
A61: Height AC with Subfloor | B61: Y/π*9/7+RC/6 (P49) | C61: 152.85 | D61: =D47/PI()*9/7+B9/6 -> 152.9151 | E61: =C61-D61 -> -0.065100284 | F61: =C61/D61-1 -> -0.00042572829 | G61: =F61^2 -> 1.8124457e-07 | H61: =H47/PI()*9/7+H48/6 -> 152.91548 | I61: =C61-H61 -> -0.065481428 | J61: =C61/H61-1 -> -0.00042821974 | K61: =J61^2 -> 1.8337215e-07
A63: Length KC | B63: RC*10 (P52 Avg. of Top) | C63: =(206.3+206.04)/2 -> 206.17 | D63: =D48*10 -> 206.07025 | E63: =C63-D63 -> 0.099754609 | F63: =C63/D63-1 -> 0.00048408061 | G63: =F63^2 -> 2.3433403e-07 | H63: =H48*10 -> 206.28465 | I63: =C63-H63 -> -0.11464567 | J63: =C63/H63-1 -> -0.00055576443 | K63: =J63^2 -> 3.0887411e-07
A64: Depth KC (Top Course) | B64: RC*20 (P52 Avg. of Top) | C64: =(412.14+411.88)/2 -> 412.01 | D64: =D48*20 -> 412.14049 | E64: =C64-D64 -> -0.13049078 | F64: =C64/D64-1 -> -0.00031661723 | G64: =F64^2 -> 1.0024647e-07 | H64: =H48*20 -> 412.56929 | I64: =C64-H64 -> -0.55929134 | J64: =C64/H64-1 -> -0.0013556301 | K64: =J64^2 -> 1.8377329e-06
A65: Height KC Excluding Subfloor | B65: Y/(π*tan(P) (P52) | C65: 235.2 | D65: =D47/PI()/TAN(B8/180*PI()) -> 235.21175 | E65: =C65-D65 -> -0.01174586 | F65: =C65/D65-1 -> -4.9937387e-05 | G65: =F65^2 -> 2.4937427e-09 | H65: =H47/PI()/TAN(B8/180*PI()) -> 235.20672 | I65: =C65-H65 -> -0.0067228577 | J65: =C65/H65-1 -> -2.8582762e-05 | K65: =J65^2 -> 8.1697427e-10
A66: Height KC above Subfloor | B66: Y/(π*tan(P)-RC/4 (Plate 13) | C66: 230.09 | D66: =D47/PI()/TAN(B8/180*PI())-B9/4 -> 230.05999 | E66: =C66-D66 -> 0.030010275 | F66: =C66/D66-1 -> 0.00013044543 | G66: =F66^2 -> 1.7016011e-08 | H66: =H47/PI()/TAN(B8/180*PI())-H48/4 -> 230.04961 | I66: =C66-H66 -> 0.040393284 | J66: =C66/H66-1 -> 0.0001755851 | K66: =J66^2 -> 3.0830129e-08
A67: Height KC Wall Courses | B67: Y/(π*5*tan(√π/4)) (P52) | C67: 47.04 | D67: =D47/PI()/TAN(B8/180*PI())/5 -> 47.042349 | E67: =C67-D67 -> -0.002349172 | F67: =C67/D67-1 -> -4.9937387e-05 | G67: =F67^2 -> 2.4937427e-09 | H67: =H47/PI()/TAN(B8/180*PI())/5 -> 47.041345 | I67: =C67-H67 -> -0.0013445715 | J67: =C67/H67-1 -> -2.8582762e-05 | K67: =J67^2 -> 8.1697427e-10
A68: Height 7 corbels at S. GG based on average of 5 measures by Petrie, extrapolated to 7. (P46) | B68: Y/(π*tan(P) (P46) | C68: =AVERAGE(33.6+33.7+33+34+33.8)/5*7 -> 235.34 | D68: =D47/PI()/TAN(B8/180*PI()) -> 235.21175 | E68: =C68-D68 -> 0.12825414 | F68: =C68/D68-1 -> 0.00054527098 | G68: =F68^2 -> 2.9732045e-07 | H68: =H47/PI()/TAN(B8/180*PI()) -> 235.20672 | I68: =C68-H68 -> 0.13327714 | J68: =C68/H68-1 -> 0.00056663832 | K68: =J68^2 -> 3.2107899e-07
A69: Uncertainty (RSS) | G69: =SUM(G50:G68) -> 0.00014540753 | K69: =SUM(K50:K68) -> 0.00015882799
