Workbook
Name _ftn1: 'Dash GP Base Regression'!#REF!
Name _ftnref1: 'Dash GP Base Regression'!#REF!

Sheet Petrie & Dash Plateau Survey
A1: Petrie's Survey Data, Coordinates rotated to due north and Imperial Inches | P1: Columns P through S convert Petrie's modified survey results to Dash's GPMP coordinates, using my modified Petrie results and also Dash's equations.
A2: Columns A through D are copied from Petrie's Table of Co-ordinates of Marked Stations, pp 35-36 of "The Pyramids and Temples of Gizeh". | P2: Columns T and U show that my results and those calculated using Dash’s equations differ only by a few micrometers.
A3: The values for "S. end of North Trench" and "N.W. corner of casing of 3rd pyramid"are in red because Petrie put a question mark against them. | P3: Dash's Equations
A4: Columns E and F format the Cartesian coordinates in columns C and D so that Excel can use them.
A5: Columns G and H convert the Cartesian coordinates to Polar. This is a precursor to correcting the coordinates for the angle of Petrie's coordinate system azimuth, which is 1° 12' 22" W of true N ± 6", but preferably they should be 0°. | P5: N = 100362.353 - 0.0254/196.713 × √(Ps2 + Pw2) × cos [arctan(Pw/Ps) – 1.206111°]
A6: Column I subtracts Petrie's coordinate system azimuth and rotates the coordinates to the third quadrant. | P6: E = 500288.822 - 0.0254/196.713 × √(Ps2 + Pw2) × sin [arctan(Pw/Ps) – 1.206111°]
A7: Columns J and K convert the coordinates back to cartesian. | Q7: Dash-Petrie Scaling | R7: =R11/R10 -> 0.99981153 | AC7: Differences Dash v Dash Dash's Table 1 versus Cooper's Calculation Using Dash's Equations
A8: Column L is a check to make sure that the equations used for the conversions to and from polar coordinates result in the same distance from the origin of the new coordinate system as they were from Petrie's origin. | Q8: Dash Northing Offset | R8: 100362.35
A9: The length Green indicates that they are. The "N.E. corner 2nd Pyramid" is the only result that differs but this is an Excel resolution issue since, as shown, r = rS. | Q9: Dash Easting Offset | R9: 500288.82
A10: Columns M and N convert Petrie's modified coordinates to Imperial inches since Petrie's scale was 0.00508259"/unit. | Q10: Dash Scaling | R10: =0.0254/196.713 -> 0.00012912212
A11: © 2026 M. J. Cooper. This workbook may be downloaded, examined, and shared with attribution. Modified versions should be clearly identified and must not be represented as the author’s original work. | L11: Min | M11: =MAX(M16:M84) -> -2606.5501 | N11: =MAX(N16:N84) -> -4854.6516 | Q11: Petrie Scaling | R11: =0.0254*D14 -> 0.00012909779 | T11: Differences Cooper v Dash | AC11: Northing | AD11: Easting
L12: Max | M12: =MIN(M17:M84) -> -40873.033 | N12: =MIN(N17:N84) -> -51881.301 | T12: Northing | U12: Easting | AB12: Min. | AC12: =MIN(AC16:AC84) -> -0.00059301956 | AD12: =MIN(AD16:AD84) -> -0.0046833254
A13: From (P18) the Azimuth of Survey System is 1° 12' 22" W of true N ± 6" ° | D13: =1+12/60+22/3600 -> 1.2061111 | E13: Petrie Giza Plateau Survey Coordinates | I13: Giza Plateau True North (TN) Coordinates Survey Units | M13: GPTN in B" | P13: Convert Petrie Coordinates to GPMP | T13: =MIN(T16:T84) -> -2.0136649e-06 | U13: =MIN(U16:U84) -> 2.3917528e-07 | V13: Min. | AB13: Max. | AC13: =MAX(AC16:AC84) -> 0.0025904686 | AD13: =MAX(AD16:AD84) -> -0.00022807327
A14: From (P18) the Value of Petrie's Survey Unit ± 0.00000003" equals | D14: 0.00508259 | E14: Cartesian | G14: Convert to Polar Coordinates | I14: Convert Back to Cartesian Coords Relative to True North | M14: Convert to B" | P14: Cooper Method | R14: Dash Method | T14: {=MAX(ABS(T17:T84))} -> 2.0136649e-06 | U14: {=MAX(ABS(U17:U84))} -> 2.5559566e-06 | V14: Max. | Y14: Dash's Table 1 | AC14: Rows Y & Z - P & R
A15: Place. | B15: Petrie Label | C15: From North | D15: From East | E15: From North (N) | F15: From East (E) | G15: rS = √(E^2+N^2) | H15: ϴS = tan-1(E/N) ° | I15: ϴTN = -90 - ϴS + 1.2061° | J15: X (Survey Units) | K15: Y (Survey Units) | L15: Verify r = rS √(X^2+Y^2) | M15: X (B") | N15: Y (B") | P15: Northing (m) | Q15: Easting (m) | R15: Northing (m) | S15: Easting (m) | T15: Northing Difference m | U15: Easting Difference m | W15: Petrie Coordinate "from North" | X15: Petrie Coordinate "from East" | Y15: GPMP Northing | Z15: GPMP Easting | AA15: Longitude | AB15: Latitude | AC15: Northing Difference m | AD15: Easting Difference m
A16: S.W. corner of the 9th Pyramid | B16: A | C16: 3 987 140 | D16: 0 935 234 | E16: =_xlfn.NUMBERVALUE(C16) -> 3987140 | F16: =_xlfn.NUMBERVALUE(D16) -> 935234 | G16: =(E16^2+F16^2)^0.5 -> 4095356.9 | H16: =DEGREES(ATAN(F16/E16)) -> 13.2008 | I16: =-90-H16+$D$13 -> -101.99469 | J16: =G16*SIN((90-I16)/180*PI()) -> -851101.26 | K16: =G16*COS((90-I16)/180*PI()) -> -4005942.4 | L16: =(J16^2+K16^2)^0.5 -> 4095356.9 | M16: =J16*$D$14 -> -4325.7988 | N16: =K16*$D$14 -> -20360.563 | P16: =N16*0.0254/R$7+$R$8 -> 99845.097 | Q16: =M16*0.0254/R$7+$R$9 -> 500178.93 | R16: =$R$8-0.0254/196.713*(F16^2+E16^2)^0.5*COS((DEGREES(ATAN(F16/E16))-1.206111)/180*PI()) -> 99845.097 | S16: =$R$9-0.0254/196.713*(F16^2+E16^2)^0.5*SIN((DEGREES(ATAN(F16/E16))-1.206111)/180*PI()) -> 500178.93 | T16: =(P16-R16) -> -2.1312735e-07 | U16: =(Q16-S16) -> 1.0030926e-06 | W16: 3987140 | X16: 935234 | Y16: 99845.097 | Z16: 500178.92 | AA16: 31.136055 | AB16: 29.97778 | AC16: =Y16-R16 -> -0.00021430723 | AD16: =Z16-S16 -> -0.0019978546
A17: N. side of 2nd Pyramid Temple | B17: B | C17: 5 393 798 | D17: 3 411 980 | E17: =_xlfn.NUMBERVALUE(C17) -> 5393798 | F17: =_xlfn.NUMBERVALUE(D17) -> 3411980 | G17: =(E17^2+F17^2)^0.5 -> 6382371.4 | H17: =DEGREES(ATAN(F17/E17)) -> 32.316409 | I17: =-90-H17+$D$13 -> -121.1103 | J17: =G17*SIN((90-I17)/180*PI()) -> -3297689.7 | K17: =G17*COS((90-I17)/180*PI()) -> -5464421.9 | L17: =(J17^2+K17^2)^0.5 -> 6382371.4 | M17: =J17*$D$14 -> -16760.805 | N17: =K17*$D$14 -> -27773.416 | P17: =N17*0.0254/R$7+$R$8 -> 99656.775 | Q17: =M17*0.0254/R$7+$R$9 -> 499863.02 | R17: =$R$8-0.0254/196.713*(F17^2+E17^2)^0.5*COS((DEGREES(ATAN(F17/E17))-1.206111)/180*PI()) -> 99656.775 | S17: =$R$9-0.0254/196.713*(F17^2+E17^2)^0.5*SIN((DEGREES(ATAN(F17/E17))-1.206111)/180*PI()) -> 499863.02 | T17: =(P17-R17) -> -8.2573388e-07 | U17: =(Q17-S17) -> 1.3682875e-06 | W17: 5393798 | X17: 3411980 | Y17: 99656.776 | Z17: 499863.02 | AA17: 31.132782 | AB17: 29.976081 | AC17: =Y17-R17 -> 0.00075445851 | AD17: =Z17-S17 -> -0.0023062509
A18: N. side of 3rd Pyramid Temple | B18: C | C18: 8 382 255 | D18: 5 839 239 | E18: =_xlfn.NUMBERVALUE(C18) -> 8382255 | F18: =_xlfn.NUMBERVALUE(D18) -> 5839239 | G18: =(E18^2+F18^2)^0.5 -> 10215621 | H18: =DEGREES(ATAN(F18/E18)) -> 34.861806 | I18: =-90-H18+$D$13 -> -123.6557 | J18: =G18*SIN((90-I18)/180*PI()) -> -5661506.7 | K18: =G18*COS((90-I18)/180*PI()) -> -8503308.3 | L18: =(J18^2+K18^2)^0.5 -> 10215621 | M18: =J18*$D$14 -> -28775.118 | N18: =K18*$D$14 -> -43218.83 | P18: =N18*0.0254/R$7+$R$8 -> 99264.388 | Q18: =M18*0.0254/R$7+$R$9 -> 499557.8 | R18: =$R$8-0.0254/196.713*(F18^2+E18^2)^0.5*COS((DEGREES(ATAN(F18/E18))-1.206111)/180*PI()) -> 99264.388 | S18: =$R$9-0.0254/196.713*(F18^2+E18^2)^0.5*SIN((DEGREES(ATAN(F18/E18))-1.206111)/180*PI()) -> 499557.8 | T18: =(P18-R18) -> -1.4176476e-06 | U18: =(Q18-S18) -> 2.1292362e-06 | W18: 8382255 | X18: 5839239 | Y18: 99264.39 | Z18: 499557.79 | AA18: 31.129619 | AB18: 29.972541 | AC18: =Y18-R18 -> 0.0022144295 | AD18: =Z18-S18 -> -0.0032344375
A19: Top block of 5th Pyramid | B19: D | C19: 9 143 054 | D19: 6 836 560 | E19: =_xlfn.NUMBERVALUE(C19) -> 9143054 | F19: =_xlfn.NUMBERVALUE(D19) -> 6836560 | G19: =(E19^2+F19^2)^0.5 -> 11416391 | H19: =DEGREES(ATAN(F19/E19)) -> 36.786665 | I19: =-90-H19+$D$13 -> -125.58055 | J19: =G19*SIN((90-I19)/180*PI()) -> -6642592.7 | K19: =G19*COS((90-I19)/180*PI()) -> -9284931.4 | L19: =(J19^2+K19^2)^0.5 -> 11416391 | M19: =J19*$D$14 -> -33761.575 | N19: =K19*$D$14 -> -47191.5 | P19: =N19*0.0254/R$7+$R$8 -> 99163.463 | Q19: =M19*0.0254/R$7+$R$9 -> 499431.12 | R19: =$R$8-0.0254/196.713*(F19^2+E19^2)^0.5*COS((DEGREES(ATAN(F19/E19))-1.206111)/180*PI()) -> 99163.463 | S19: =$R$9-0.0254/196.713*(F19^2+E19^2)^0.5*SIN((DEGREES(ATAN(F19/E19))-1.206111)/180*PI()) -> 499431.12 | T19: =(P19-R19) -> -1.663313e-06 | U19: =(Q19-S19) -> 2.3249304e-06 | W19: 9143054 | X19: 6836560 | Y19: 99163.465 | Z19: 499431.11 | AA19: 31.128307 | AB19: 29.97163 | AC19: =Y19-R19 -> 0.0020482232 | AD19: =Z19-S19 -> -0.0033360715
A20: N. side of 3rd Pyramid | B20: E | C20: 8 072 225 | D20: 6 840 249 | E20: =_xlfn.NUMBERVALUE(C20) -> 8072225 | F20: =_xlfn.NUMBERVALUE(D20) -> 6840249 | G20: =(E20^2+F20^2)^0.5 -> 10580634 | H20: =DEGREES(ATAN(F20/E20)) -> 40.277303 | I20: =-90-H20+$D$13 -> -129.07119 | J20: =G20*SIN((90-I20)/180*PI()) -> -6668820.8 | K20: =G20*COS((90-I20)/180*PI()) -> -8214417.3 | L20: =(J20^2+K20^2)^0.5 -> 10580634 | M20: =J20*$D$14 -> -33894.882 | N20: =K20*$D$14 -> -41750.515 | P20: =N20*0.0254/R$7+$R$8 -> 99301.69 | Q20: =M20*0.0254/R$7+$R$9 -> 499427.73 | R20: =$R$8-0.0254/196.713*(F20^2+E20^2)^0.5*COS((DEGREES(ATAN(F20/E20))-1.206111)/180*PI()) -> 99301.69 | S20: =$R$9-0.0254/196.713*(F20^2+E20^2)^0.5*SIN((DEGREES(ATAN(F20/E20))-1.206111)/180*PI()) -> 499427.73 | T20: =(P20-R20) -> -1.6698759e-06 | U20: =(Q20-S20) -> 2.0569423e-06 | W20: 8072225 | X20: 6840249 | Y20: 99301.692 | Z20: 499427.73 | AA20: 31.128272 | AB20: 29.972877 | AC20: =Y20-R20 -> 0.0019957129 | AD20: =Z20-S20 -> -0.0037056197
A21: Rock of hill, W. of 1st Pyramid | B21: F | C21: 4 246 813 | D21: 8 132 966 | E21: =_xlfn.NUMBERVALUE(C21) -> 4246813 | F21: =_xlfn.NUMBERVALUE(D21) -> 8132966 | G21: =(E21^2+F21^2)^0.5 -> 9174996.3 | H21: =DEGREES(ATAN(F21/E21)) -> 62.427664 | I21: =-90-H21+$D$13 -> -151.22155 | J21: =G21*SIN((90-I21)/180*PI()) -> -8041772.7 | K21: =G21*COS((90-I21)/180*PI()) -> -4417063.3 | L21: =(J21^2+K21^2)^0.5 -> 9174996.3 | M21: =J21*$D$14 -> -40873.033 | N21: =K21*$D$14 -> -22450.122 | P21: =N21*0.0254/R$7+$R$8 -> 99792.012 | Q21: =M21*0.0254/R$7+$R$9 -> 499250.45 | R21: =$R$8-0.0254/196.713*(F21^2+E21^2)^0.5*COS((DEGREES(ATAN(F21/E21))-1.206111)/180*PI()) -> 99792.012 | S21: =$R$9-0.0254/196.713*(F21^2+E21^2)^0.5*SIN((DEGREES(ATAN(F21/E21))-1.206111)/180*PI()) -> 499250.45 | T21: =(P21-R21) -> -2.0136649e-06 | U21: =(Q21-S21) -> 1.106062e-06 | W21: 4246813 | X21: 8132966 | Y21: 99792.015 | Z21: 499250.45 | AA21: 31.126434 | AB21: 29.9773 | AC21: =Y21-R21 -> 0.0025904686 | AD21: =Z21-S21 -> -0.0022437397
A22: Tomb, No.17, Lepsius | B22: G | C22: 3 000 000 | D22: 6 000 000 | E22: =_xlfn.NUMBERVALUE(C22) -> 3000000 | F22: =_xlfn.NUMBERVALUE(D22) -> 6000000 | G22: =(E22^2+F22^2)^0.5 -> 6708203.9 | H22: =DEGREES(ATAN(F22/E22)) -> 63.434949 | I22: =-90-H22+$D$13 -> -152.22884 | J22: =G22*SIN((90-I22)/180*PI()) -> -5935523.5 | K22: =G22*COS((90-I22)/180*PI()) -> -3125629.7 | L22: =(J22^2+K22^2)^0.5 -> 6708203.9 | M22: =J22*$D$14 -> -30167.832 | N22: =K22*$D$14 -> -15886.294 | P22: =N22*0.0254/R$7+$R$8 -> 99958.765 | Q22: =M22*0.0254/R$7+$R$9 -> 499522.41 | R22: =$R$8-0.0254/196.713*(F22^2+E22^2)^0.5*COS((DEGREES(ATAN(F22/E22))-1.206111)/180*PI()) -> 99958.765 | S22: =$R$9-0.0254/196.713*(F22^2+E22^2)^0.5*SIN((DEGREES(ATAN(F22/E22))-1.206111)/180*PI()) -> 499522.41 | T22: =(P22-R22) -> -1.4862599e-06 | U22: =(Q22-S22) -> 7.8266021e-07 | W22: 3000000 | X22: 6000000 | Y22: 99958.767 | Z22: 499522.41 | AA22: 31.129252 | AB22: 29.978805 | AC22: =Y22-R22 -> 0.0019336266 | AD22: =Z22-S22 -> -0.0016094705
A23: Hillock S.E. of 3rd Pyramid | B23: H | C23: 10 092 621 | D23: 5 571 047 | E23: =_xlfn.NUMBERVALUE(C23) -> 10092621 | F23: =_xlfn.NUMBERVALUE(D23) -> 5571047 | G23: =(E23^2+F23^2)^0.5 -> 11528121 | H23: =DEGREES(ATAN(F23/E23)) -> 28.89835 | I23: =-90-H23+$D$13 -> -117.69224 | J23: =G23*SIN((90-I23)/180*PI()) -> -5357372.6 | K23: =G23*COS((90-I23)/180*PI()) -> -10207650 | L23: =(J23^2+K23^2)^0.5 -> 11528121 | M23: =J23*$D$14 -> -27229.328 | N23: =K23*$D$14 -> -51881.301 | P23: =N23*0.0254/R$7+$R$8 -> 99044.32 | Q23: =M23*0.0254/R$7+$R$9 -> 499597.07 | R23: =$R$8-0.0254/196.713*(F23^2+E23^2)^0.5*COS((DEGREES(ATAN(F23/E23))-1.206111)/180*PI()) -> 99044.32 | S23: =$R$9-0.0254/196.713*(F23^2+E23^2)^0.5*SIN((DEGREES(ATAN(F23/E23))-1.206111)/180*PI()) -> 499597.07 | T23: =(P23-R23) -> -1.3414829e-06 | U23: =(Q23-S23) -> 2.5559566e-06 | W23: 10092621 | X23: 5571047 | Y23: 99044.321 | Z23: 499597.06 | AA23: 31.130026 | AB23: 29.970556 | AC23: =Y23-R23 -> 0.0014535093 | AD23: =Z23-S23 -> -0.0046833254
A24: Top of large building E. of 3rd Pyramid | B24: J | C24: 7 828 554 | D24: 1 491 863 | E24: =_xlfn.NUMBERVALUE(C24) -> 7828554 | F24: =_xlfn.NUMBERVALUE(D24) -> 1491863 | G24: =(E24^2+F24^2)^0.5 -> 7969436.2 | H24: =DEGREES(ATAN(F24/E24)) -> 10.789311 | I24: =-90-H24+$D$13 -> -99.5832 | J24: =G24*SIN((90-I24)/180*PI()) -> -1326748.8 | K24: =G24*COS((90-I24)/180*PI()) -> -7858221.8 | L24: =(J24^2+K24^2)^0.5 -> 7969436.2 | M24: =J24*$D$14 -> -6743.3202 | N24: =K24*$D$14 -> -39940.12 | P24: =N24*0.0254/R$7+$R$8 -> 99347.683 | Q24: =M24*0.0254/R$7+$R$9 -> 500117.51 | R24: =$R$8-0.0254/196.713*(F24^2+E24^2)^0.5*COS((DEGREES(ATAN(F24/E24))-1.206111)/180*PI()) -> 99347.683 | S24: =$R$9-0.0254/196.713*(F24^2+E24^2)^0.5*SIN((DEGREES(ATAN(F24/E24))-1.206111)/180*PI()) -> 500117.51 | T24: =(P24-R24) -> -3.3222022e-07 | U24: =(Q24-S24) -> 1.96771e-06 | W24: 7828554 | X24: 1491863 | Y24: 99347.683 | Z24: 500117.51 | AA24: 31.135419 | AB24: 29.973293 | AC24: =Y24-R24 -> 0.00027997687 | AD24: =Z24-S24 -> -0.0033772261
A25: Pile of slabs N.E. of 1st Pyramid | B25: K | C25: 1 300 292 | D25: 1 425 399 | E25: =_xlfn.NUMBERVALUE(C25) -> 1300292 | F25: =_xlfn.NUMBERVALUE(D25) -> 1425399 | G25: =(E25^2+F25^2)^0.5 -> 1929383.7 | H25: =DEGREES(ATAN(F25/E25)) -> 47.627985 | I25: =-90-H25+$D$13 -> -136.42187 | J25: =G25*SIN((90-I25)/180*PI()) -> -1397713.3 | K25: =G25*COS((90-I25)/180*PI()) -> -1330007.2 | L25: =(J25^2+K25^2)^0.5 -> 1929383.7 | M25: =J25*$D$14 -> -7104.0035 | N25: =K25*$D$14 -> -6759.8814 | P25: =N25*0.0254/R$7+$R$8 -> 100190.62 | Q25: =M25*0.0254/R$7+$R$9 -> 500108.35 | R25: =$R$8-0.0254/196.713*(F25^2+E25^2)^0.5*COS((DEGREES(ATAN(F25/E25))-1.206111)/180*PI()) -> 100190.62 | S25: =$R$9-0.0254/196.713*(F25^2+E25^2)^0.5*SIN((DEGREES(ATAN(F25/E25))-1.206111)/180*PI()) -> 500108.35 | T25: =(P25-R25) -> -3.4998811e-07 | U25: =(Q25-S25) -> 3.3300603e-07 | W25: 1300292 | X25: 1425399 | Y25: 100190.62 | Z25: 500108.35 | AA25: 31.135324 | AB25: 29.980897 | AC25: =Y25-R25 -> 0.00035364249 | AD25: =Z25-S25 -> -0.00029540173
A26: Slab in ground N. of entrance of 1st Pyramid (Gill) | B26: L | C26: 0 908 159 | D26: 2 242 158 | E26: =_xlfn.NUMBERVALUE(C26) -> 908159 | F26: =_xlfn.NUMBERVALUE(D26) -> 2242158 | G26: =(E26^2+F26^2)^0.5 -> 2419096 | H26: =DEGREES(ATAN(F26/E26)) -> 67.950186 | I26: =-90-H26+$D$13 -> -156.74408 | J26: =G26*SIN((90-I26)/180*PI()) -> -2222545.3 | K26: =G26*COS((90-I26)/180*PI()) -> -955153.1 | L26: =(J26^2+K26^2)^0.5 -> 2419096 | M26: =J26*$D$14 -> -11296.287 | N26: =K26*$D$14 -> -4854.6516 | P26: =N26*0.0254/R$7+$R$8 -> 100239.02 | Q26: =M26*0.0254/R$7+$R$9 -> 500001.84 | R26: =$R$8-0.0254/196.713*(F26^2+E26^2)^0.5*COS((DEGREES(ATAN(F26/E26))-1.206111)/180*PI()) -> 100239.02 | S26: =$R$9-0.0254/196.713*(F26^2+E26^2)^0.5*SIN((DEGREES(ATAN(F26/E26))-1.206111)/180*PI()) -> 500001.84 | T26: =(P26-R26) -> -5.56538e-07 | U26: =(Q26-S26) -> 2.3917528e-07 | W26: 908159 | X26: 2242158 | Y26: 100239.02 | Z26: 500001.84 | AA26: 31.13422 | AB26: 29.981333 | AC26: =Y26-R26 -> 0.00039461334 | AD26: =Z26-S26 -> -0.00022807327
A27: Tomb N.W. of N.W. corner of 1st Pyramid | B27: M | C27: 1 483 587 | D27: 3 431 388 | E27: =_xlfn.NUMBERVALUE(C27) -> 1483587 | F27: =_xlfn.NUMBERVALUE(D27) -> 3431388 | G27: =(E27^2+F27^2)^0.5 -> 3738375.8 | H27: =DEGREES(ATAN(F27/E27)) -> 66.618387 | I27: =-90-H27+$D$13 -> -155.41228 | J27: =G27*SIN((90-I27)/180*PI()) -> -3399399.7 | K27: =G27*COS((90-I27)/180*PI()) -> -1555485.8 | L27: =(J27^2+K27^2)^0.5 -> 3738375.8 | M27: =J27*$D$14 -> -17277.755 | N27: =K27*$D$14 -> -7905.8965 | P27: =N27*0.0254/R$7+$R$8 -> 100161.51 | Q27: =M27*0.0254/R$7+$R$9 -> 499849.88 | R27: =$R$8-0.0254/196.713*(F27^2+E27^2)^0.5*COS((DEGREES(ATAN(F27/E27))-1.206111)/180*PI()) -> 100161.51 | S27: =$R$9-0.0254/196.713*(F27^2+E27^2)^0.5*SIN((DEGREES(ATAN(F27/E27))-1.206111)/180*PI()) -> 499849.88 | T27: =(P27-R27) -> -8.5121428e-07 | U27: =(Q27-S27) -> 3.8952567e-07 | W27: 1483587 | X27: 3431388 | Y27: 100161.51 | Z27: 499849.88 | AA27: 31.132645 | AB27: 29.980634 | AC27: =Y27-R27 -> 0.0006237387 | AD27: =Z27-S27 -> -0.00030291581
... A56: N. end of North Trench | B56: ρ | C56: 2 082 608 | D56: 1 180 207 | E56: =_xlfn.NUMBERVALUE(C56) -> 2082608 | F56: =_xlfn.NUMBERVALUE(D56) -> 1180207 | G56: =(E56^2+F56^2)^0.5 -> 2393772.1 | H56: =DEGREES(ATAN(F56/E56)) -> 29.540083 | I56: =-90-H56+$D$13 -> -118.33397 | J56: =G56*SIN((90-I56)/180*PI()) -> -1136108.6 | K56: =G56*COS((90-I56)/180*PI()) -> -2106988.8 | L56: =(J56^2+K56^2)^0.5 -> 2393772.1 | M56: =J56*$D$14 -> -5774.3741 | N56: =K56*$D$14 -> -10708.96 | P56: =N56*0.0254/R$7+$R$8 -> 100090.29 | Q56: =M56*0.0254/R$7+$R$9 -> 500142.13 | R56: =$R$8-0.0254/196.713*(F56^2+E56^2)^0.5*COS((DEGREES(ATAN(F56/E56))-1.206111)/180*PI()) -> 100090.29 | S56: =$R$9-0.0254/196.713*(F56^2+E56^2)^0.5*SIN((DEGREES(ATAN(F56/E56))-1.206111)/180*PI()) -> 500142.13 | T56: =(P56-R56) -> -2.8448994e-07 | U56: =(Q56-S56) -> 5.2759424e-07 | W56: 2082608 | X56: 1180207 | Y56: 100090.29 | Z56: 500142.12 | AA56: 31.135674 | AB56: 29.979992 | AC56: =Y56-R56 -> -0.00013157104 | AD56: =Z56-S56 -> -0.0012478054
A57: S. end of North Trench | B57: σ | C57: 2 514 650? | D57: 1 175 360? | E57: 2514650 | F57: 1175360 | G57: =(E57^2+F57^2)^0.5 -> 2775776.6 | H57: =DEGREES(ATAN(F57/E57)) -> 25.051622 | I57: =-90-H57+$D$13 -> -113.84551 | J57: =G57*SIN((90-I57)/180*PI()) -> -1122168.6 | K57: =G57*COS((90-I57)/180*PI()) -> -2538833.1 | L57: =(J57^2+K57^2)^0.5 -> 2775776.6 | M57: =J57*$D$14 -> -5703.5228 | N57: =K57*$D$14 -> -12903.848 | P57: =N57*0.0254/R$7+$R$8 -> 100034.53 | Q57: =M57*0.0254/R$7+$R$9 -> 500143.93 | R57: =$R$8-0.0254/196.713*(F57^2+E57^2)^0.5*COS((DEGREES(ATAN(F57/E57))-1.206111)/180*PI()) -> 100034.53 | S57: =$R$9-0.0254/196.713*(F57^2+E57^2)^0.5*SIN((DEGREES(ATAN(F57/E57))-1.206111)/180*PI()) -> 500143.93 | T57: =(P57-R57) -> -2.8098293e-07 | U57: =(Q57-S57) -> 6.3568586e-07 | W57: 2514650 | X57: 1175360 | Y57: 100034.53 | Z57: 500143.92 | AA57: 31.135692 | AB57: 29.979489 | AC57: =Y57-R57 -> -0.00048511426 | AD57: =Z57-S57 -> -0.0012103507
A58: [p. 36] N. end of South Trench | B58: τ | C58: 3 051 826 | D58: 1 184 632 | E58: =_xlfn.NUMBERVALUE(C58) -> 3051826 | F58: =_xlfn.NUMBERVALUE(D58) -> 1184632 | G58: =(E58^2+F58^2)^0.5 -> 3273682.2 | H58: =DEGREES(ATAN(F58/E58)) -> 21.214795 | I58: =-90-H58+$D$13 -> -110.00868 | J58: =G58*SIN((90-I58)/180*PI()) -> -1120131.5 | K58: =G58*COS((90-I58)/180*PI()) -> -3076085.2 | L58: =(J58^2+K58^2)^0.5 -> 3273682.2 | M58: =J58*$D$14 -> -5693.1691 | N58: =K58*$D$14 -> -15634.48 | P58: =N58*0.0254/R$7+$R$8 -> 99965.162 | Q58: =M58*0.0254/R$7+$R$9 -> 500144.19 | R58: =$R$8-0.0254/196.713*(F58^2+E58^2)^0.5*COS((DEGREES(ATAN(F58/E58))-1.206111)/180*PI()) -> 99965.162 | S58: =$R$9-0.0254/196.713*(F58^2+E58^2)^0.5*SIN((DEGREES(ATAN(F58/E58))-1.206111)/180*PI()) -> 500144.19 | T58: =(P58-R58) -> -2.8048817e-07 | U58: =(Q58-S58) -> 7.7026198e-07 | W58: 3051826 | X58: 1184632 | Y58: 99965.162 | Z58: 500144.19 | AA58: 31.135695 | AB58: 29.978863 | AC58: =Y58-R58 -> -0.00034711559 | AD58: =Z58-S58 -> -0.0012451028
A59: S. end of South Trench | B59: υ | C59: 3 463 988 | D59: 1 180 826 | E59: =_xlfn.NUMBERVALUE(C59) -> 3463988 | F59: =_xlfn.NUMBERVALUE(D59) -> 1180826 | G59: =(E59^2+F59^2)^0.5 -> 3659721.7 | H59: =DEGREES(ATAN(F59/E59)) -> 18.823539 | I59: =-90-H59+$D$13 -> -107.61743 | J59: =G59*SIN((90-I59)/180*PI()) -> -1107650.7 | K59: =G59*COS((90-I59)/180*PI()) -> -3488075.8 | L59: =(J59^2+K59^2)^0.5 -> 3659721.7 | M59: =J59*$D$14 -> -5629.7344 | N59: =K59*$D$14 -> -17728.459 | P59: =N59*0.0254/R$7+$R$8 -> 99911.965 | Q59: =M59*0.0254/R$7+$R$9 -> 500145.8 | R59: =$R$8-0.0254/196.713*(F59^2+E59^2)^0.5*COS((DEGREES(ATAN(F59/E59))-1.206111)/180*PI()) -> 99911.965 | S59: =$R$9-0.0254/196.713*(F59^2+E59^2)^0.5*SIN((DEGREES(ATAN(F59/E59))-1.206111)/180*PI()) -> 500145.8 | T59: =(P59-R59) -> -2.773595e-07 | U59: =(Q59-S59) -> 8.7340595e-07 | W59: 3463988 | X59: 1180826 | Y59: 99911.965 | Z59: 500145.8 | AA59: 31.135712 | AB59: 29.978383 | AC59: =Y59-R59 -> -0.00025039107 | AD59: =Z59-S59 -> -0.0017894785
A60: W. end of E.N.E. Trench | B60: ϕ | C60: 2 678 581 | D60: 0 881 168 | E60: =_xlfn.NUMBERVALUE(C60) -> 2678581 | F60: =_xlfn.NUMBERVALUE(D60) -> 881168 | G60: =(E60^2+F60^2)^0.5 -> 2819796.7 | H60: =DEGREES(ATAN(F60/E60)) -> 18.209562 | I60: =-90-H60+$D$13 -> -107.00345 | J60: =G60*SIN((90-I60)/180*PI()) -> -824591.17 | K60: =G60*COS((90-I60)/180*PI()) -> -2696535.3 | L60: =(J60^2+K60^2)^0.5 -> 2819796.7 | M60: =J60*$D$14 -> -4191.0588 | N60: =K60*$D$14 -> -13705.383 | P60: =N60*0.0254/R$7+$R$8 -> 100014.17 | Q60: =M60*0.0254/R$7+$R$9 -> 500182.35 | R60: =$R$8-0.0254/196.713*(F60^2+E60^2)^0.5*COS((DEGREES(ATAN(F60/E60))-1.206111)/180*PI()) -> 100014.17 | S60: =$R$9-0.0254/196.713*(F60^2+E60^2)^0.5*SIN((DEGREES(ATAN(F60/E60))-1.206111)/180*PI()) -> 500182.35 | T60: =(P60-R60) -> -2.0647713e-07 | U60: =(Q60-S60) -> 6.7520887e-07 | W60: 2678581 | X60: 881168 | Y60: 100014.17 | Z60: 500182.35 | AA60: 31.13609 | AB60: 29.979305 | AC60: =Y60-R60 -> 0.00035980019 | AD60: =Z60-S60 -> -0.0010373238
A61: E. end of E.N.E. Trench | B61: χ | C61: 2 648 862 | D61: 0 568 721 | E61: =_xlfn.NUMBERVALUE(C61) -> 2648862 | F61: =_xlfn.NUMBERVALUE(D61) -> 568721 | G61: =(E61^2+F61^2)^0.5 -> 2709227.5 | H61: =DEGREES(ATAN(F61/E61)) -> 12.117663 | I61: =-90-H61+$D$13 -> -100.91155 | J61: =G61*SIN((90-I61)/180*PI()) -> -512838.95 | K61: =G61*COS((90-I61)/180*PI()) -> -2660246.2 | L61: =(J61^2+K61^2)^0.5 -> 2709227.5 | M61: =J61*$D$14 -> -2606.5501 | N61: =K61*$D$14 -> -13520.941 | P61: =N61*0.0254/R$7+$R$8 -> 100018.86 | Q61: =M61*0.0254/R$7+$R$9 -> 500222.6 | R61: =$R$8-0.0254/196.713*(F61^2+E61^2)^0.5*COS((DEGREES(ATAN(F61/E61))-1.206111)/180*PI()) -> 100018.86 | S61: =$R$9-0.0254/196.713*(F61^2+E61^2)^0.5*SIN((DEGREES(ATAN(F61/E61))-1.206111)/180*PI()) -> 500222.6 | T61: =(P61-R61) -> -1.2842065e-07 | U61: =(Q61-S61) -> 6.6612847e-07 | W61: 2648862 | X61: 568721 | Y61: 100018.86 | Z61: 500222.6 | AA61: 31.136508 | AB61: 29.979347 | AC61: =Y61-R61 -> -0.00036956812 | AD61: =Z61-S61 -> -0.0011453662
A62: S. end of Trial passages | B62: ψ | C62: 2 549 708 | D62: 0 721 984 | E62: =_xlfn.NUMBERVALUE(C62) -> 2549708 | F62: =_xlfn.NUMBERVALUE(D62) -> 721984 | G62: =(E62^2+F62^2)^0.5 -> 2649956.9 | H62: =DEGREES(ATAN(F62/E62)) -> 15.810181 | I62: =-90-H62+$D$13 -> -104.60407 | J62: =G62*SIN((90-I62)/180*PI()) -> -668155.1 | K62: =G62*COS((90-I62)/180*PI()) -> -2564340.2 | L62: =(J62^2+K62^2)^0.5 -> 2649956.9 | M62: =J62*$D$14 -> -3395.9584 | N62: =K62*$D$14 -> -13033.49 | P62: =N62*0.0254/R$7+$R$8 -> 100031.24 | Q62: =M62*0.0254/R$7+$R$9 -> 500202.55 | R62: =$R$8-0.0254/196.713*(F62^2+E62^2)^0.5*COS((DEGREES(ATAN(F62/E62))-1.206111)/180*PI()) -> 100031.24 | S62: =$R$9-0.0254/196.713*(F62^2+E62^2)^0.5*SIN((DEGREES(ATAN(F62/E62))-1.206111)/180*PI()) -> 500202.55 | T62: =(P62-R62) -> -1.6731792e-07 | U62: =(Q62-S62) -> 6.4208871e-07 | W62: 2549708 | X62: 721984 | Y62: 100031.24 | Z62: 500202.55 | AA62: 31.1363 | AB62: 29.979459 | AC62: =Y62-R62 -> 4.5383626e-05 | AD62: =Z62-S62 -> -0.0013955794
A63: N. end of Trial passages | B63: ω | C63: 2 350 481 | D63: 0 718 038 | E63: =_xlfn.NUMBERVALUE(C63) -> 2350481 | F63: =_xlfn.NUMBERVALUE(D63) -> 718038 | G63: =(E63^2+F63^2)^0.5 -> 2457710.2 | H63: =DEGREES(ATAN(F63/E63)) -> 16.987155 | I63: =-90-H63+$D$13 -> -105.78104 | J63: =G63*SIN((90-I63)/180*PI()) -> -668403.51 | K63: =G63*COS((90-I63)/180*PI()) -> -2365074.3 | L63: =(J63^2+K63^2)^0.5 -> 2457710.2 | M63: =J63*$D$14 -> -3397.221 | N63: =K63*$D$14 -> -12020.703 | P63: =N63*0.0254/R$7+$R$8 -> 100056.97 | Q63: =M63*0.0254/R$7+$R$9 -> 500202.52 | R63: =$R$8-0.0254/196.713*(F63^2+E63^2)^0.5*COS((DEGREES(ATAN(F63/E63))-1.206111)/180*PI()) -> 100056.97 | S63: =$R$9-0.0254/196.713*(F63^2+E63^2)^0.5*SIN((DEGREES(ATAN(F63/E63))-1.206111)/180*PI()) -> 500202.52 | T63: =(P63-R63) -> -1.6736158e-07 | U63: =(Q63-S63) -> 5.9220474e-07 | W63: 2350481 | X63: 718038 | Y63: 100056.97 | Z63: 500202.52 | AA63: 31.136299 | AB63: 29.979691 | AC63: =Y63-R63 -> -0.00059301956 | AD63: =Z63-S63 -> -0.0013198327
A64: RESULTING CO-ORDINATES OF POINTS OF ANCIENT CONSTRUCTION.
B65: Cooper Label
A66: Existing casing edge on N. side of 1st Pyramid | B66: a | C66: 1 866 612 | D66: 2 281 355 | E66: =_xlfn.NUMBERVALUE(C66) -> 1866612 | F66: =_xlfn.NUMBERVALUE(D66) -> 2281355 | G66: =(E66^2+F66^2)^0.5 -> 2947680.6 | H66: =DEGREES(ATAN(F66/E66)) -> 50.709859 | I66: =-90-H66+$D$13 -> -139.50375 | J66: =G66*SIN((90-I66)/180*PI()) -> -2241559.1 | K66: =G66*COS((90-I66)/180*PI()) -> -1914218.8 | L66: =(J66^2+K66^2)^0.5 -> 2947680.6 | M66: =J66*$D$14 -> -11392.926 | N66: =K66*$D$14 -> -9729.1894 | P66: =N66*0.0254/R$7+$R$8 -> 100115.19 | Q66: =M66*0.0254/R$7+$R$9 -> 499999.39 | R66: =$R$8-0.0254/196.713*(F66^2+E66^2)^0.5*COS((DEGREES(ATAN(F66/E66))-1.206111)/180*PI()) -> 100115.19 | S66: =$R$9-0.0254/196.713*(F66^2+E66^2)^0.5*SIN((DEGREES(ATAN(F66/E66))-1.206111)/180*PI()) -> 499999.39 | T66: =(P66-R66) -> -5.6129647e-07 | U66: =(Q66-S66) -> 4.7934009e-07 | W66: 1866612 | X66: 2281355 | Y66: 100115.18 | Z66: 499999.39 | AA66: 31.134195 | AB66: 29.980216 | AC66: =Y66-R66 -> -5.8479491e-06 | AD66: =Z66-S66 -> -0.0011275142
A67: Existing casing edge on E. side of 1st Pyramid | B67: b | C67: 2 671 090 | D67: 1 401 430 | E67: =_xlfn.NUMBERVALUE(C67) -> 2671090 | F67: =_xlfn.NUMBERVALUE(D67) -> 1401430 | G67: =(E67^2+F67^2)^0.5 -> 3016409.8 | H67: =DEGREES(ATAN(F67/E67)) -> 27.684467 | I67: =-90-H67+$D$13 -> -116.47836 | J67: =G67*SIN((90-I67)/180*PI()) -> -1344895.6 | K67: =G67*COS((90-I67)/180*PI()) -> -2699997 | L67: =(J67^2+K67^2)^0.5 -> 3016409.8 | M67: =J67*$D$14 -> -6835.5528 | N67: =K67*$D$14 -> -13722.978 | P67: =N67*0.0254/R$7+$R$8 -> 100013.72 | Q67: =M67*0.0254/R$7+$R$9 -> 500115.17 | R67: =$R$8-0.0254/196.713*(F67^2+E67^2)^0.5*COS((DEGREES(ATAN(F67/E67))-1.206111)/180*PI()) -> 100013.72 | S67: =$R$9-0.0254/196.713*(F67^2+E67^2)^0.5*SIN((DEGREES(ATAN(F67/E67))-1.206111)/180*PI()) -> 500115.17 | T67: =(P67-R67) -> -3.3676042e-07 | U67: =(Q67-S67) -> 6.7608198e-07 | W67: 2671090 | X67: 1401430 | Y67: 100013.72 | Z67: 500115.16 | AA67: 31.135394 | AB67: 29.979301 | AC67: =Y67-R67 -> 0.00033956696 | AD67: =Z67-S67 -> -0.0012276034
A68: Existing casing edge on S. side of 1st Pyramid | B68: c | C68: 3 646 300 | D68: 2 515 643 | E68: =_xlfn.NUMBERVALUE(C68) -> 3646300 | F68: =_xlfn.NUMBERVALUE(D68) -> 2515643 | G68: =(E68^2+F68^2)^0.5 -> 4429894.3 | H68: =DEGREES(ATAN(F68/E68)) -> 34.602439 | I68: =-90-H68+$D$13 -> -123.39633 | J68: =G68*SIN((90-I68)/180*PI()) -> -2438334.5 | K68: =G68*COS((90-I68)/180*PI()) -> -3698444 | L68: =(J68^2+K68^2)^0.5 -> 4429894.3 | M68: =J68*$D$14 -> -12393.054 | N68: =K68*$D$14 -> -18797.675 | P68: =N68*0.0254/R$7+$R$8 -> 99884.802 | Q68: =M68*0.0254/R$7+$R$9 -> 499973.98 | R68: =$R$8-0.0254/196.713*(F68^2+E68^2)^0.5*COS((DEGREES(ATAN(F68/E68))-1.206111)/180*PI()) -> 99884.802 | S68: =$R$9-0.0254/196.713*(F68^2+E68^2)^0.5*SIN((DEGREES(ATAN(F68/E68))-1.206111)/180*PI()) -> 499973.98 | T68: =(P68-R68) -> -6.1055471e-07 | U68: =(Q68-S68) -> 9.2608389e-07 | W68: 3646300 | X68: 2515643 | Y68: 99884.803 | Z68: 499973.98 | AA68: 31.133931 | AB68: 29.978138 | AC68: =Y68-R68 -> 0.00094344326 | AD68: =Z68-S68 -> -0.0010774866
...

Sheet Plateau Coords
A1: RESULTING CO-ORDINATES OF POINTS OF ANCIENT CONSTRUCTION.
A2: For Petrie
C4: X" | D4: Y"
A5: Existing casing edge on N. side of 1st pyramid | B5: a | C5: ='Petrie & Dash Plateau Survey'!M66 -> -11392.926 | D5: ='Petrie & Dash Plateau Survey'!N66 -> -9729.1894
A6: Existing casing edge on E. side of 1st pyramid | B6: b | C6: ='Petrie & Dash Plateau Survey'!M67 -> -6835.5528 | D6: ='Petrie & Dash Plateau Survey'!N67 -> -13722.978
A7: Existing casing edge on S. side of 1st pyramid | B7: c | C7: ='Petrie & Dash Plateau Survey'!M68 -> -12393.054 | D7: ='Petrie & Dash Plateau Survey'!N68 -> -18797.675
A8: Existing casing edge on W. side of 1st pyramid | B8: d | C8: ='Petrie & Dash Plateau Survey'!M69 -> -15904.059 | D8: ='Petrie & Dash Plateau Survey'!N69 -> -13882.11
F9: Length | G9: Calc " | H9: Petrie Value | I9: P20 | J9: Diff | M9: m | P9: G1 Diagonals Based on Corner Sockets | T9: Petrie Center
A10: N.W. socket of 1st Pyramid (Gill) | B10: O | C10: ='Petrie & Dash Plateau Survey'!M29 -> -15929.041 | D10: ='Petrie & Dash Plateau Survey'!N29 -> -9713.1903 | F10: NW to NE | G10: =((C10-C11)^2+(D10-D11)^2)^0.5 -> 9110.9664 | H10: =G10+9.8+8.2 -> 9128.9664 | I10: 9129.8 | J10: =I10-H10 -> 0.83357324 | Q10: y=mx + c | S10: Test m & c for y | T10: =C41 -> -11369.272
A11: N.E. socket of 1st Pyramid (Gill) | B11: Q | C11: ='Petrie & Dash Plateau Survey'!M31 -> -6818.0779 | D11: ='Petrie & Dash Plateau Survey'!N31 -> -9705.3605 | F11: NE to SE | G11: =((C11-C12)^2+(D11-D12)^2)^0.5 -> 9108.0141 | H11: =G11+10.8+11.8 -> 9130.6141 | I11: 9130.8 | J11: =I11-H11 -> 0.18590824 | Q11: m | R11: c | T11: =D41 -> -14262.873
A12: S.E. socket of 1st Pyramid (Gill) | B12: U | C12: ='Petrie & Dash Plateau Survey'!M35 -> -6807.7787 | D12: ='Petrie & Dash Plateau Survey'!N35 -> -18813.369 | F12: SE to SW | G12: =((C12-C13)^2+(D12-D13)^2)^0.5 -> 9099.1442 | H12: =G12+12.1+11.9 -> 9123.1442 | I12: 9123.9 | J12: =I12-H12 -> 0.75576334 | L12: =SUM(G10:G13) -> 36415.042 | M12: =L12*0.0254 -> 924.94207 | P12: SE to NW diagonal | Q12: =(D12-D10)/(C12-C10) -> -0.99768849 | R12: =D12-Q12*C12 -> -25605.411 | S12: =Q12*C12+R12 -> -18813.369 | T12: =(R13-R12)/(Q12-Q13) -> -11368.229 | V12: =Q12*C10+R12 -> -9713.1903 | W12: =Q12*C12+R12 -> -18813.369
A13: S.W. socket of 1st Pyramid | B13: W | C13: ='Petrie & Dash Plateau Survey'!M37 -> -15906.922 | D13: ='Petrie & Dash Plateau Survey'!N37 -> -18810.081 | F13: SW to NW | G13: =((C13-C10)^2+(D13-D10)^2)^0.5 -> 9096.9173 | H13: =G13+11.7+9.7 -> 9118.3173 | I13: 9119.2 | J13: =I13-H13 -> 0.88266938 | L13: =AVERAGE(G10:G13) -> 9103.7605 | M13: =L13*0.0254 -> 231.23552 | P13: SW to NE diagonal | Q13: =(D13-D11)/(C13-C11) -> 1.0017467 | R13: =D13-Q13*C13 -> -2875.3731 | S13: =Q13*C13+R13 -> -18810.081 | T13: =Q13*T12+R13 -> -14263.46 | U13: =Q12*T12+R12 -> -14263.46 | V13: =Q13*C13+R13 -> -18810.081 | W13: =Q13*C11+R13 -> -9705.3605
M14: Petrie Measures | O14: Correction?
C15: Initial Data | E15: Face | F15: X Difference | H15: Y Difference | J15: Length " | K15: Angle ' " | M15: Length " | N15: Angle ' " | O15: J12-J15 ×
C16: X (B") | D16: Y (B") | G16: XDIFF | I16: YDIFF | J16: √(XDIFF2 + YDIFF2) | M16: Petrie Section (Pxx) Pyramid 1 = (P21) Pyramid 2 = (P66) Pyramid 3 = (P80) | O16: =SUM(M17:M20)/SUM(J17:J20) -> 1.0000835
A17: N.E corner of casing of 1st pyramid | B17: e | C17: ='Petrie & Dash Plateau Survey'!N70 -> -9724.7722 | D17: ='Petrie & Dash Plateau Survey'!M70 -> -6840.1494 | E17: N | F17: X1NE - X1NW | G17: =C17-C20 -> 8.7988729 | H17: Y1NW - Y1NE | I17: =D20-D17 -> -9068.6156 | J17: =(G17^2+I17^2)^0.5 -> 9068.6199 | K17: =IF(DEGREES(ATAN(I17/G17))<0,"-","+") -> - | L17: =ABS(DEGREES(ATAN(I17/G17)))/24 -> 3.7476837 | M17: 9069.4 | N17: -3' 20" | O17: =J17*$O$16 -> 9069.3769 | P17: G1 Diagonals based on Casing Corners | T17: Petrie Center
A18: S.E corner of casing of 1st pyramid | B18: f | C18: ='Petrie & Dash Plateau Survey'!N71 -> -18791.717 | D18: ='Petrie & Dash Plateau Survey'!M71 -> -6829.7285 | E18: E | F18: X1NE - X1SE | G18: =C17-C18 -> 9066.9445 | H18: Y1NE - Y1SE | I18: =D17-D18 -> -10.420981 | J18: =(G18^2+I18^2)^0.5 -> 9066.9505 | K18: =IF(DEGREES(ATAN(I18/G18))<0,"-","+") -> - | L18: =ABS(DEGREES(ATAN(G18/I18)))/24 -> 3.7472562 | M18: 9067.7 | N18: -3' 57" | O18: =J18*$O$16 -> 9067.7074 | Q18: y=mx + c | S18: Test m & c for y | T18: =C41 -> -11369.272
A19: S.W corner of casing of 1st pyramid | B19: g | C19: ='Petrie & Dash Plateau Survey'!N72 -> -18801.428 | D19: ='Petrie & Dash Plateau Survey'!M72 -> -15898.462 | E19: S | F19: X1SE - X1SW | G19: =C18-C19 -> 9.7113435 | H19: Y1SW - Y1SE | I19: =D19-D18 -> -9068.7337 | J19: =(G19^2+I19^2)^0.5 -> 9068.7389 | K19: =IF(DEGREES(ATAN(I19/G19))<0,"-","+") -> - | L19: =ABS(DEGREES(ATAN(I19/G19)))/24 -> 3.7474435 | M19: 9069.5 | N19: -3' 41" | O19: =J19*$O$16 -> 9069.4959 | Q19: m | R19: c | S19: x = SE & SW Corners | T19: =D41 -> -14262.873
A20: N.W corner of casing of 1st pyramid | B20: h | C20: ='Petrie & Dash Plateau Survey'!N73 -> -9733.5711 | D20: ='Petrie & Dash Plateau Survey'!M73 -> -15908.765 | E20: W | F20: X1NW - X1SW | G20: =C20-C19 -> 9067.857 | H20: Y1NW - Y1SW | I20: =D20-D19 -> -10.302932 | J20: =(G20^2+I20^2)^0.5 -> 9067.8629 | K20: =IF(DEGREES(ATAN(I20/G20))<0,"-","+") -> - | L20: =ABS(DEGREES(ATAN(G20/I20)))/24 -> 3.7472875 | M20: 9068.6 | N20: -3' 54" | O20: =J20*$O$16 -> 9068.6198 | P20: SE to NW diagonal | Q20: =(D18-D20)/(C18-C20) -> -1.0023063 | R20: =D18-Q20*C18 -> -25664.785 | S20: =Q20*C18+R20 -> -6829.7285 | T20: =(R21-R20)/(Q20-Q21) -> -14262.842 | V20: =Q20*C20+R20 -> -15908.765 | W20: =Q20*C18+R20 -> -6829.7285
J21: =AVERAGE(J17:J20) -> 9068.043 | L21: =AVERAGE(L17:L20) -> 3.7474177 | M21: =AVERAGE(M17:M20) -> 9068.8 | O21: =AVERAGE(O17:O20) -> 9068.8 | P21: SW to NE diagonal | Q21: =(D19-D17)/(C19-C17) -> 0.99797908 | R21: =D19-Q21*C19 -> 2864.9698 | S21: =Q21*C19+R21 -> -15898.462 | T21: =Q21*T20+R21 -> -11369.048 | U21: =Q20*T20+R20 -> -11369.048 | V21: =Q21*C19+R21 -> -15898.462 | W21: =Q21*C17+R21 -> -6840.1494
A22: N.E. corner of casing of 2nd pyramid | B22: k | C22: ='Petrie & Dash Plateau Survey'!M75 -> -20286.022 | D22: ='Petrie & Dash Plateau Survey'!N75 -> -23968.622 | E22: N | F22: X2NE - X2NW | G22: =C22-C25 -> 8471.9152 | H22: Y2NW - Y2NE | I22: =D25-D22 -> -13.591916 | J22: =(G22^2+I22^2)^0.5 -> 8471.9261 | K22: =IF(DEGREES(ATAN(I22/G22))<0,"-","+") -> - | L22: =ABS(DEGREES(ATAN(I22/G22)))/24 -> 0.0038301 | M22: 8471.9 | N22: -5' 31" | P22: G2 Diagonals based on Casing Corners | T22: Petrie Center
A23: S.E. corner of casing of 2nd pyramid | B23: l | C23: ='Petrie & Dash Plateau Survey'!M76 -> -20270.308 | D23: ='Petrie & Dash Plateau Survey'!N76 -> -32443.797 | E23: E | F23: X2NE - X2SE | G23: =C22-C23 -> -15.714367 | H23: Y2NE - Y2SE | I23: =D22-D23 -> 8475.1749 | J23: =(G23^2+I23^2)^0.5 -> 8475.1895 | K23: =IF(DEGREES(ATAN(I23/G23))<0,"-","+") -> - | L23: =ABS(DEGREES(ATAN(G23/I23)))/24 -> 0.0044264863 | M23: 8475.2 | N23: -6' 13" | Q23: y=mx + c | S23: Test m & c for y | T23: =C42 -> -24515.364
A24: S.W. corner of casing of 2nd pyramid | B24: m | C24: ='Petrie & Dash Plateau Survey'!M77 -> -28747.197 | D24: ='Petrie & Dash Plateau Survey'!N77 -> -32457.758 | E24: S | F24: X2SE - X2SW | G24: =C23-C24 -> 8476.8895 | H24: Y2SW - Y2SE | I24: =D24-D23 -> -13.960997 | J24: =(G24^2+I24^2)^0.5 -> 8476.901 | K24: =IF(DEGREES(ATAN(I24/G24))<0,"-","+") -> - | L24: =ABS(DEGREES(ATAN(I24/G24)))/24 -> 0.0039317953 | M24: 8476.9 | N24: -5' 40" | Q24: m | R24: c | S24: x = SE & SW Corners | T24: =D42 -> -28213.095
A25: N.W. corner of casing of 2nd pyramid | B25: n | C25: ='Petrie & Dash Plateau Survey'!M78 -> -28757.938 | D25: ='Petrie & Dash Plateau Survey'!N78 -> -23982.214 | E25: W | F25: X2NW - X2SW | G25: =C25-C24 -> -10.740096 | H25: Y2NW - Y2SW | I25: =D25-D24 -> 8475.544 | J25: =(G25^2+I25^2)^0.5 -> 8475.5508 | K25: =IF(DEGREES(ATAN(I25/G25))<0,"-","+") -> - | L25: =ABS(DEGREES(ATAN(G25/I25)))/24 -> 0.0030251836 | M25: 8475.5 | N25: -4' 21" | P25: SE to NW diagonal | Q25: =(D23-D25)/(C23-C25) -> -0.99693123 | R25: =D23-Q25*C23 -> -52651.9 | S25: =Q25*C23+R25 -> -32443.797 | T25: =(R26-R25)/(Q25-Q26) -> -24515.278 | V25: =Q25*C25+R25 -> -23982.214 | W25: =Q25*C23+R25 -> -32443.797
I26: =J26/20*0.0254 -> 10.76395 | J26: =AVERAGE(J25:J25) -> 8475.5508 | K26: - | L26: =AVERAGE(L22:L25) -> 0.0038033913 | M26: =AVERAGE(M25:M25) -> 8475.5 | P26: SW to NE diagonal | Q26: =(D24-D22)/(C24-C22) -> 1.0033046 | R26: =D24-Q26*C24 -> -3615.5628 | S26: =Q26*C24+R26 -> -32457.758 | T26: =Q26*T25+R26 -> -28211.854 | U26: =Q25*T25+R25 -> -28211.854 | V26: =Q26*C24+R26 -> -32457.758 | W26: =Q26*C22+R26 -> -23968.622
A27: N.E. corner of casing of 3rd pyramid | B27: q | C27: ='Petrie & Dash Plateau Survey'!M80 -> -31857.556 | D27: ='Petrie & Dash Plateau Survey'!N80 -> -41331.376 | E27: N | F27: X3NE - X3NW | G27: =C27-C30 -> 4157.9032 | H27: Y3NW - Y3NE | I27: =D30-D27 -> 20.413388 | J27: =(G27^2+I27^2)^0.5 -> 4157.9533 | K27: =IF(DEGREES(ATAN(I27/G27))<0,"-","+") -> + | N27: 16' 48" | P27: G3 Diagonals based on Casing Corners | T27: Petrie Center
A28: S.E. corner of casing of 3rd pyramid | B28: r | C28: ='Petrie & Dash Plateau Survey'!M81 -> -31872.719 | D28: ='Petrie & Dash Plateau Survey'!N81 -> -45480.567 | E28: E | F28: X3NE - X3SE | G28: =C27-C28 -> 15.162319 | H28: Y3NE - Y3SE | I28: =D27-D28 -> 4149.191 | J28: =(G28^2+I28^2)^0.5 -> 4149.2187 | K28: =IF(DEGREES(ATAN(I28/G28))<0,"-","+") -> + | L28: =ABS(DEGREES(ATAN(G28/I28)))/24 -> 0.0087239198 | M28: 4149.2 | N28: 12' 23" | Q28: y=mx + c | S28: Test m & c for y | T28: =C43 -> -33944.065
A29: S.W. corner of casing of 3rd pyramid | B29: s | C29: ='Petrie & Dash Plateau Survey'!M82 -> -36030.531 | D29: ='Petrie & Dash Plateau Survey'!N82 -> -45464.712 | E29: S | F29: X3SE - X3SW | G29: =C28-C29 -> 4157.8123 | H29: Y3SW - Y3SE | I29: =D29-D28 -> 15.855207 | J29: =(G29^2+I29^2)^0.5 -> 4157.8425 | K29: =IF(DEGREES(ATAN(I29/G29))<0,"-","+") -> + | L29: =ABS(DEGREES(ATAN(I29/G29)))/24 -> 0.0091036664 | M29: 4157.8 | N29: 12' 57" | Q29: m | R29: c | S29: x = SE & SW Corners | T29: =D43 -> -43396.906
A30: N.W. corner of casing of 3rd pyramid | B30: t | C30: ='Petrie & Dash Plateau Survey'!M83 -> -36015.459 | D30: ='Petrie & Dash Plateau Survey'!N83 -> -41310.963 | E30: W | F30: X3NW - X3SW | G30: =C30-C29 -> 15.071436 | H30: Y3NW - Y3SW | I30: =D30-D29 -> 4153.7491 | J30: =(G30^2+I30^2)^0.5 -> 4153.7765 | K30: =IF(DEGREES(ATAN(I30/G30))<0,"-","+") -> + | L30: =ABS(DEGREES(ATAN(G30/I30)))/24 -> 0.0086621133 | M30: 4153.9 | P30: SE to NW diagonal | Q30: =(D28-D30)/(C28-C30) -> -1.0064845 | R30: =D28-Q30*C28 -> -77559.964 | S30: =Q30*C28+R30 -> -45480.567 | T30: =(R31-R30)/(Q30-Q31) -> -33942.925 | V30: =Q30*C30+R30 -> -41310.963 | W30: =Q30*C28+R30 -> -45480.567
J31: =AVERAGE(J30:J30) -> 4153.7765 | K31: + | L31: =AVERAGE(L27:L30) -> 0.0088298998 | M31: =AVERAGE(M30:M30) -> 4153.9 | P31: SW to NE diagonal | Q31: =(D29-D27)/(C29-C27) -> 0.99050106 | R31: =D29-Q31*C29 -> -9776.4331 | S31: =Q31*C29+R31 -> -45464.712 | T31: =Q31*T30+R31 -> -43396.936 | U31: =Q30*T30+R30 -> -43396.936 | V31: =Q31*C29+R31 -> -45464.712 | W31: =Q31*C27+R31 -> -41331.376
A33: Using Meters | C33: X m | D33: Y m | G33: XDIFF | I33: YDIFF | J33: Length m
A34: N.E corner of casing of 1st pyramid | B34: e | C34: ='Petrie & Dash Plateau Survey'!R70 -> 100115.3 | D34: ='Petrie & Dash Plateau Survey'!S70 -> 500115.05 | E34: N | F34: X1NE - X1NW | G34: =C34-C37 -> 0.22353305 | H34: Y1NW - Y1NE | I34: =D37-D34 -> -230.38626 | J34: =(G34^2+I34^2)^0.5/0.0254 -> 9070.3294
A35: S.E corner of casing of 1st pyramid | B35: f | C35: ='Petrie & Dash Plateau Survey'!R71 -> 99884.953 | D35: ='Petrie & Dash Plateau Survey'!S71 -> 500115.31 | E35: E | F35: X1NE - X1SE | G35: =C34-C35 -> 230.3438 | H35: Y1NE - Y1SE | I35: =D34-D35 -> -0.26474238 | J35: =(G35^2+I35^2)^0.5/0.0254 -> 9068.6597
A36: S.W corner of casing of 1st pyramid | B36: g | C36: ='Petrie & Dash Plateau Survey'!R72 -> 99884.707 | D36: ='Petrie & Dash Plateau Survey'!S72 -> 499884.92 | E36: S | F36: X1SE - X1SW | G36: =C35-C36 -> 0.24671418 | H36: Y1SW - Y1SE | I36: =D36-D35 -> -230.38926 | J36: =(G36^2+I36^2)^0.5/0.0254 -> 9070.4484
A37: N.W corner of casing of 1st pyramid | B37: h | C37: ='Petrie & Dash Plateau Survey'!R73 -> 100115.07 | D37: ='Petrie & Dash Plateau Survey'!S73 -> 499884.66 | E37: W | F37: X1NW - X1SW | G37: =C37-C36 -> 230.36699 | H37: Y1NW - Y1SW | I37: =D37-D36 -> -0.26174336 | J37: =(G37^2+I37^2)^0.5/0.0254 -> 9069.5722
J38: =AVERAGE(J34:J37) -> 9069.7524
A40: All values in B" | C40: X (B") | D40: Y (B") | E40: Center | F40: H | G40: V | H40: H | I40: V | J40: Diff.
A41: Center of casing of 1st pyramid | B41: j | C41: ='Petrie & Dash Plateau Survey'!M74 -> -11369.272 | D41: ='Petrie & Dash Plateau Survey'!N74 -> -14262.873 | E41: G1 to G2 | F41: =C41-C42 -> 13146.091 | G41: =D41-D42 -> 13950.222 | H41: 13165.8 | I41: 13931.6 | J41: =I41-G41 -> -18.622248
A42: Center of casing of 2nd pyramid | B42: p | C42: ='Petrie & Dash Plateau Survey'!M79 -> -24515.364 | D42: ='Petrie & Dash Plateau Survey'!N79 -> -28213.095 | E42: G2 to G3 | F42: =C42-C43 -> 9428.7011 | G42: =D42-D43 -> 15183.81 | H42: 9450.2 | I42: 15170.4 | J42: =I42-G42 -> -13.410354
A43: Center of casing of 3rd pyramid | B43: u | C43: ='Petrie & Dash Plateau Survey'!M84 -> -33944.065 | D43: ='Petrie & Dash Plateau Survey'!N84 -> -43396.906 | E43: G1 to G3 | F43: =C41-C43 -> 22574.793 | G43: =D41-D43 -> 29134.033 | H43: 22616 | I43: 29102 | J43: =I43-G43 -> -32.032602
...

Sheet Dash GP Base Regression
A1: THE 2015 SURVEY OF THE BASE OF THE GREAT PYRAMID By GLEN DASH and JOEL PAULSON | P1: Dash | S1: Cooper
A2: https://www.academia.edu/36742756/The_2015_Survey_of_the_Base_of_the_Great_Pyramid | O2: Equation for Side | P2: Slope | R2: Intercept | S2: Slope | U2: Intercept
O3: North Northing = | P3: 0.000727 | Q3: * Easting + | R3: 99751.719 | S3: =E35 -> 0.00072820116 | T3: * Easting + | U3: =E34 -> 99751.094
A4: A Supplement to THE 2015 SURVEY OF THE BASE OF THE GREAT PYRAMID | O4: East Easting = | P4: -0.001501 | Q4: * Northing + | R4: 500265.24 | S4: =E87 -> -0.0014791473 | T4: * Northing + | U4: =E86 -> 500263.06
A5: THE 2015 SURVEY OF THE BASE OF THE GREAT PYRAMID | O5: South Northing = | P5: 0.001043 | Q5: * Easting + | R5: 99363.153 | S5: =E115 -> 0.0010437758 | T5: * Easting + | U5: =E114 -> 99362.936
A6: By Glen Dash and Joel Paulson | O6: West Easting = | P6: 0.001264 | Q6: * Northing + | R6: 500011.18 | S6: =E54 -> -0.0012658391 | T6: * Northing + | U6: =E53 -> 500011.37
A7: http://www.dashfoundation.org/GDFS2015-coordinates-casing.pdf | O7: Side | P7: Length (M) | Q7: Length (") | R7: Orientation | S7: Length (M) | T7: Length (") | U7: Orientation
O8: North | P8: 230.32906 | Q8: 9068.0732 | R8: 0.0017309286 | S8: =((T14-T15)^2+(S14-S15)^2)^0.5 -> 230.33231 | T8: =S8/0.0254 -> 9068.2014 | U8: =DEGREES(ATAN((S14-S15)/(T14-T15)))/24 -> 0.0017384519
A9: Where, Precisely, are the Three Pyramids of Giza? Glen Dash | O9: East | P9: 230.33326 | Q9: 9068.2386 | R9: 0.003586171 | S9: =((T15-T16)^2+(S15-S16)^2)^0.5 -> 230.33377 | T9: =S9/0.0254 -> 9068.2587 | U9: =ABS(DEGREES(ATAN((T15-T16)/(S15-S16)))/24) -> 0.0035312015
A10: https://www.academia.edu/32879091/Where_Precisely_are_the_Three_Pyramids_of_Giza | O10: South | P10: 230.38413 | Q10: 9070.2412 | R10: 0.0024884259 | S10: =((T16-T17)^2+(S16-S17)^2)^0.5 -> 230.38142 | T10: =S10/0.0254 -> 9070.1346 | U10: =DEGREES(ATAN((S16-S17)/(T16-T17)))/24 -> 0.0024918304
O11: West | P11: 230.40718 | Q11: 9071.149 | R11: 0.0030208333 | S11: =((T17-T14)^2+(S17-S14)^2)^0.5 -> 230.40644 | T11: =S11/0.0254 -> 9071.1198 | U11: =ABS(DEGREES(ATAN((T17-T14)/(S17-S14)))/24) -> 0.0030219665
A12: How to Use the Data Analysis Toolpak in Excel - 13 Features | O12: Average | P12: 230.36341 | Q12: 9069.4255 | R12: =SUM(R8:R11)/4 -> 0.0027065897 | S12: =AVERAGE(S8:S11) -> 230.36349 | T12: =AVERAGE(T8:T11) -> 9069.4286 | U12: =SUM(U8:U11)/4 -> 0.0026958626
A13: https://statisticsbyjim.com/regression/regression-analysis-excel/ | O13: Corner | P13: Northing | Q13: Easting | R13: Orientation | S13: Northing | T13: Easting | U13: Orientation
A14: https://support.microsoft.com/en-us/office/linest-function-84d7d0d9-6e50-4101-977a-fa7abf772b6d | O14: NW | P14: 100115.11 | Q14: 499884.65 | R14: =DEGREES(ATAN(0.000727))/24 -> 0.0017355843 | S14: =(E35*E53+E34)/(1-E35*E54) -> 100115.11 | T14: =E54*S14+E53 -> 499884.64 | U14: =DEGREES(ATAN(E35))/24 -> 0.0017384519
O15: NE | P15: 100115.28 | Q15: 500114.97 | R15: =DEGREES(ATAN(0.001501))/24 -> 0.0035833709 | S15: =(E35*E86+E34)/(1-E35*E87) -> 100115.28 | T15: =E87*S15+E86 -> 500114.98 | U15: =ABS(DEGREES(ATAN(E87)))/24 -> 0.0035312015
A16: Microsoft® Excel® for Microsoft 365 MSO (Version 2407 Build 16.0.17830.20056) 64-bit | O16: SE | P16: 99884.945 | Q16: 500115.32 | R16: =DEGREES(ATAN(0.001043))/24 -> 0.0024899782 | S16: =E115*T16+E114 -> 99884.945 | T16: =(E87*E114+E86)/(1-E87*E115) -> 500115.32 | U16: =ABS(DEGREES(ATAN(E115)))/24 -> 0.0024918304
O17: SW | P17: 99884.704 | Q17: 499884.94 | R17: =DEGREES(ATAN(0.001264))/24 -> 0.0030175761 | S17: =E115*T17+E114 -> 99884.704 | T17: =(E54*E114+E53)/(1-E54*E115) -> 499884.94 | U17: =ABS(DEGREES(ATAN(E54)))/24 -> 0.0030219665
A18: North Side | D18: SUMMARY OUTPUT
A19: Northing | B19: Easting | Q19: Simulating Excel LINEST Function
A20: 100115.18 | B20: 499984.29 | D20: Regression Statistics | R20: Average of Northings | S20: =AVERAGE(A20:A35) -> 100115.2 | T20: =$S$23*B20+$S$22 -> 100115.18 | U20: =(T20-A20)^2 -> 3.565296e-06
A21: 100115.19 | B21: 499985 | D21: Multiple R | E21: 0.96626569 | R21: Average of Eastings | S21: =AVERAGE(B20:B35) -> 500005.51 | T21: =$S$23*B21+$S$22 -> 100115.18 | U21: =(T21-A21)^2 -> 5.6121217e-06
A22: 100115.19 | B22: 499987.64 | D22: R Square | E22: 0.93366939 | R22: Intercept | S22: =S20-S23*S21 -> 99751.094 | T22: =$S$23*B22+$S$22 -> 100115.19 | U22: =(T22-A22)^2 -> 1.1893706e-05
A23: 100115.19 | B23: 499987.98 | D23: Adjusted R Square | E23: 0.92893149 | R23: Slope | S23: 0.00072820116 | T23: =$S$23*B23+$S$22 -> 100115.19 | U23: =(T23-A23)^2 -> 1.0237955e-05
A24: 100115.19 | B24: 499988.45 | D24: Standard Error | E24: 0.0036642754 | R24: RSS | S24: =SUM(U20:U35) -> 0.0001879768 | T24: =$S$23*B24+$S$22 -> 100115.19 | U24: =(T24-A24)^2 -> 7.401827e-07
A25: 100115.18 | B25: 499994.7 | D25: Observations | E25: 16 | T25: =$S$23*B25+$S$22 -> 100115.19 | U25: =(T25-A25)^2 -> 7.5595366e-05
A26: 100115.19 | B26: 499998.09 | O26: Using Excel Function | T26: =$S$23*B26+$S$22 -> 100115.19 | U26: =(T26-A26)^2 -> 1.3444878e-06
A27: 100115.19 | B27: 499999.27 | D27: ANOVA | O27: Intercept | P27: =INTERCEPT(A20:A35,B20:B35) -> 99751.094 | T27: =$S$23*B27+$S$22 -> 100115.19 | U27: =(T27-A27)^2 -> 1.0424052e-06
A28: 100115.2 | B28: 500000.47 | E28: df | F28: SS | G28: MS | H28: F | I28: Significance F | O28: Slope | P28: =SLOPE(A20:A35,B20:B35) -> 0.00072820116 | T28: =$S$23*B28+$S$22 -> 100115.19 | U28: =(T28-A28)^2 -> 4.4317667e-06
A29: 100115.2 | B29: 500012.55 | D29: Regression | E29: 1 | F29: 0.0026459607 | G29: 0.0026459607 | H29: 197.06394 | I29: 1.2193225e-09 | O29: Using Excel LINEST Function | T29: =$S$23*B29+$S$22 -> 100115.2 | U29: =(T29-A29)^2 -> 4.771572e-07
A30: 100115.2 | B30: 500013.16 | D30: Residual | E30: 14 | F30: 0.0001879768 | G30: 1.3426914e-05 | O30: {=LINEST(A20:A35,B20:B35,TRUE,TRUE)} -> 0.00072820116 | P30: 99751.094 | T30: =$S$23*B30+$S$22 -> 100115.2 | U30: =(T30-A30)^2 -> 1.7631529e-08
A31: 100115.2 | B31: 500014.16 | D31: Total | E31: 15 | F31: 0.0028339375 | O31: 5.1873766e-05 | P31: 25.937169 | T31: =$S$23*B31+$S$22 -> 100115.2 | U31: =(T31-A31)^2 -> 4.7143087e-05
A32: 100115.2 | B32: 500016.46 | O32: 0.93366939 | P32: 0.0036642754 | T32: =$S$23*B32+$S$22 -> 100115.21 | U32: =(T32-A32)^2 -> 6.4416075e-06
A33: 100115.22 | B33: 500034.94 | E33: Coefficients | F33: Standard Error | G33: t Stat | H33: P-value | I33: Lower 95% | J33: Upper 95% | K33: Lower 95.0% | L33: Upper 95.0% | O33: 197.06394 | P33: 14 | T33: =$S$23*B33+$S$22 -> 100115.22 | U33: =(T33-A33)^2 -> 4.013427e-06
A34: 100115.22 | B34: 500035.39 | D34: Intercept | E34: 99751.094 | F34: 25.937169 | G34: 3845.8744 | H34: 1.4259015e-43 | I34: 99695.464 | J34: 99806.724 | K34: 99695.464 | L34: 99806.724 | O34: 0.0026459607 | P34: 0.0001879768 | T34: =$S$23*B34+$S$22 -> 100115.22 | U34: =(T34-A34)^2 -> 2.815174e-06
A35: 100115.22 | B35: 500035.56 | D35: Easting | E35: 0.00072820116 | F35: 5.1873766e-05 | G35: 14.037947 | H35: 1.2193225e-09 | I35: 0.000616943 | J35: 0.00083945932 | K35: 0.000616943 | L35: 0.00083945932 | T35: =$S$23*B35+$S$22 -> 100115.22 | U35: =(T35-A35)^2 -> 1.2605431e-05
A37: West Side | D37: SUMMARY OUTPUT
A38: Northing | B38: Easting
A39: 100016.61 | B39: 499884.78 | D39: Regression Statistics
A40: 100015.96 | B40: 499884.78 | D40: Multiple R | E40: 0.94324219
A41: 100013.72 | B41: 499884.79 | D41: R Square | E41: 0.88970584
...

Sheet Rev Eng Equations Int
A1: The data in this worksheet are the result of reverse engineering the internal dimensions of the Great Pyramid using Petrie's Inductive Metrology or derivatives thereof.
A3: B" = Petrie's survey inch calibrated by the standard in Trafalgar Square London c. 1880 | B3: 1 | D3: B"
A4: Year Line (Y) | B4: 365.25 | D4: B"
A5: Year Circle (YC = 365.25/π) | B5: =B4/PI() -> 116.26269 | D5: B"
A6: Year Square (YS = 365.25/(2 × √π)) | B6: =B4/(2 * PI()^0.5) -> 103.03512 | D6: B"
A7: Casing Angle (A = atan(4/π)) | B7: =DEGREES(ATAN(4/PI())) -> 51.853974 | D7: °
A8: Passage Angle (P = asin(√(π)/4)) | B8: =DEGREES(ASIN(PI()^0.5/4)) -> 26.302702 | D8: °
A9: Royal Cubit* (RC = YS/5) (Based on top course of KC walls with 7 v 28 gaps in 1st course) | B9: =B4/(10*PI()^0.5) -> 20.607025 | D9: B"
A10: * RC value only deemed applicable to inside of Great Pyramid
A11: Remen (R = RC/√2) | B11: =B9/2^0.5 -> 14.571367 | D11: B"
A12: Arc Length 6 (ACL6) divided by 4 (See Pyramid Paper 4) | B12: 1719.6348 | D12: B"
A13: Number of planes in Queen's Chamber (1 floor, 4 walls and 2 roofs) × depth in RC = 7 × 11 | B13: 77
A15: "Length" refers to a NS dimension
A16: "Height" refers to a vertical dimension
A17: "Depth" refers to an EW dimension
A19: Pyramid Internal Feature | B19: Equation | C19: Length " | D19: Length " by Equation | E19: Difference | F19: % Difference
A20: Queen's Time Line from GG N. wall to QC center (QTL = QPL"+QPH"+5 RC+4.5 RC ) | B20: Arclength 6 ÷ 4 | C20: 1719.4718 | D20: =B12 -> 1719.6348 | E20: =C20-D20 -> -0.1630073 | F20: =C20/D20-1 -> -9.4791809e-05 | G20: =F20^2 -> 8.985487e-09
A21: Length Queen's Passage Low (QPL) | B21: Ys × 77/3 × tanP | C21: 1307 | D21: =B6*77/3*TAN(B8/180*PI()) -> 1307.1822 | E21: =C21-D21 -> -0.18215207 | F21: =C21/D21-1 -> -0.00013934712 | G21: =F21^2 -> 1.941762e-08
A22: Length Queen's Passage High (QPH) | B22: QTL-0.95Ys-QPL | C22: 216.9 | D22: 216.68594 | E22: =C22-D22 -> 0.21405971 | F22: =C22/D22-1 -> 0.00098788003 | G22: =F22^2 -> 9.7590695e-07
A23: Length Queen's Chamber (QCL) | B23: Ys × 2 | C23: 205.85 | D23: =B6*2 -> 206.07025 | E23: =C23-D23 -> -0.22024539 | F23: =C23/D23-1 -> -0.0010687879 | G23: =F23^2 -> 1.1423076e-06
A24: Depth Queen's Chamber (QCD) | B24: Ys/5 × 11 or RC × 11 | C24: 226.47 | D24: =B6*11/5 -> 226.67727 | E24: =C24-D24 -> -0.20726993 | F24: =C24/D24-1 -> -0.00091438339 | G24: =F24^2 -> 8.3609698e-07
A25: Height Queen's Chamber Walls (QCWH) | B25: Ys × 77/43 | C25: 184.47 | D25: =B6*77/43 -> 184.50475 | E25: =C25-D25 -> -0.034754594 | F25: =C25/D25-1 -> -0.00018836693 | G25: =F25^2 -> 3.54821e-08
A26: Height Queen's Chamber Apex (QCAH) | B26: Ys × 77/16 × tanP | C26: 245.1 | D26: =B6*77/16*TAN(B8/180*PI()) -> 245.09665 | E26: =C26-D26 -> 0.0033464871 | F26: =C26/D26-1 -> 1.3653745e-05 | G26: =F26^2 -> 1.8642474e-10
A27: Queen's Chamber Roof Angle | B27: (QCAH - QCWH)/(QCL/2) | C27: =((30+48/60)+(30+14/60)+(30+33/60)+(30+10/60))/4 -> 30.4375 | D27: =DEGREES(ATAN((D26-D25)/(D23/2))) -> 30.458523 | E27: =C27-D27 -> -0.02102255 | F27: =C27/D27-1 -> -0.00069020256 | G27: =F27^2 -> 4.7637958e-07
A28: Uncertainty (RSS) | G28: =SUM(G20:G27)^0.5 -> 0.0018694285
A29: Location | B29: Equation | C29: Length " | D29: Length " by Equation | E29: Difference | F29: % Difference
A30: NSP | B30: R*15 | C30: 218 | D30: =B11*15 -> 218.5705 | E30: =C30-D30 -> -0.57050187 | F30: =C30/D30-1 -> -0.0026101504 | G30: =F30^2 -> 6.8128849e-06
A31: Recess | B31: R*15/3 | C31: 73 | D31: =B11*15/3 -> 72.856834 | E31: =C31-D31 -> 0.14316604 | F31: =C31/D31-1 -> 0.0019650324 | G31: =F31^2 -> 3.8613525e-06
A32: MSP | B32: R*15/4 | C32: 55 | D32: =B11*15/4 -> 54.642625 | E32: =C32-D32 -> 0.35737453 | F32: =C32/D32-1 -> 0.0065402152 | G32: =F32^2 -> 4.2774415e-05
A33: NSS | B33: R*19*5/4 | C33: 346 | D33: =SUM(D30:D32) -> 346.06996 | E33: =C33-D33 -> -0.069961302 | F33: =C33/D33-1 -> -0.00020215942 | G33: =F33^2 -> 4.086843e-08
A34: SC | B34: R*19*3/2/tanA | C34: 326 | D34: =B11*19*3/2/TAN(B7/180*PI()) -> 326.16325 | E34: =C34-D34 -> -0.16325442 | F34: =C34/D34-1 -> -0.00050052976 | G34: =F34^2 -> 2.5053004e-07
A35: Depth SC | B35: R*19*2 | C35: 553.8 | D35: =B11*19*2 -> 553.71194 | E35: =C35-D35 -> 0.088061917 | F35: =C35/D35-1 -> 0.00015903922 | G35: =F35^2 -> 2.5293475e-08
A36: SSP | B36: R*19*7/3 | C36: 646 | D36: =B11*19*7/3 -> 645.99726 | E36: =C36-D36 -> 0.002738903 | F36: =C36/D36-1 -> 4.2398059e-06 | G36: =F36^2 -> 1.7975954e-11
A37: SS | B37: R*19*(5/4+3/2/tanA+7/3) | C37: 1318 | D37: =B11*19*(5/4+3/2/TAN(B7/180*PI())+7/3) -> 1318.2305 | E37: =C37-D37 -> -0.23047682 | F37: =C37/D37-1 -> -0.00017483803 | G37: =F37^2 -> 3.0568336e-08
A38: Uncertainty (RSS) | G38: =SUM(G30:G37)^0.5 -> 0.0073345709
A39: Location | B39: Equation | C39: Length " | D39: Length " by Equation | E39: Difference | F39: % Difference
A40: NSP and MSP Height | B40: R/19*47 | C40: 35.75 | D40: =$B$11/19*47 -> 36.04496 | E40: =C40-D40 -> -0.29495996 | F40: =C40/D40-1 -> -0.0081831124 | G40: =F40^2 -> 6.6963328e-05
A41: NSP and MSP Width | B41: R/19*43 | C41: 32.455556 | D41: =$B$11/19*43 -> 32.977304 | E41: =C41-D41 -> -0.52174824 | F41: =C41/D41-1 -> -0.015821434 | G41: =F41^2 -> 0.00025031777
A42: SSP Height | B42: R/19*37 | C42: 28.775 | D42: =$B$11/19*37 -> 28.37582 | E42: =C42-D42 -> 0.39918046 | F42: =C42/D42-1 -> 0.014067627 | G42: =F42^2 -> 0.00019789814
A43: SSP Width | B43: R/19*37 | C43: 28.65 | D43: =$B$11/19*37 -> 28.37582 | E43: =C43-D43 -> 0.27418046 | F43: =C43/D43-1 -> 0.0096624684 | G43: =F43^2 -> 9.3363295e-05
...
